Workbook

Sheet RESUMEN 
A1: MINISTERIO DE SALUD
A2: SERVICIO DE SALUD COQUIMBO
A3: SUBDIRECCION DE GESTION ASISTENCIAL
A4: SUBDEPTO DE ESTADÍSTICA Y GESTIÓN DE LA INFORMACIÓN
A5: COMUNA | B5: RESUMEN DE CUMPLIMIENTO DE METAS A OCTUBRE 2017
B6: CORTE A OCTUBRE
B8: METAS COMPONENTE ESTRATEGIA RISS, PRODUCCIÓN,COBERTURA EFECTIVA E IMPACTO SANITARIO
B9: META Nº2 | C9: META Nº3.1 | D9: META Nº5 | E9: META Nº6 | F9: META Nº7 | G9: META Nº8.1 | H9: META Nº8.2 | I9: META Nº8.3 | J9: META Nº9 | K9: META Nº10 | L9: META Nº11 | M9: META Nº12 | N9: META Nº13 | O9: META Nº14 | P9: META Nº17 | Q9: META Nº18 | R9: META Nº19 | S9: META Nº20 | T9: META Nº21 | U9: CUMPLIMIENTO GENERAL | V9: CUMPLIMIENTO META GES
B10: Familias Evaluadas según riesgo (*) | C10: Gestion de Reclamos APS | D10: Consultas de Morbilidad y Controles Médicos | E10: SIC derivadas desde la APS al Nivel Secundario | F10: Visita domiciliaria integral | G10: EMP hombres 20 a 64 años | H10: EMP mujeres de 45 a 64 años | I10: EMP 65 y mas años | J10: Evaluación del desarrollo Psicomotor de niños/as de 12 a 23 meses bajo control | K10: Control de salud integral adolescentes de 10 a 14 años | L10: Alta odontologica menores de 20 años | M10: Cobertura de Atención Integral de trastornos mentales en personas de 5 y más años | N10: Cobertura de Atención de Asma en Población general y EPOC en personas de 40 años y más | O10: Capacitación a Cuidadores de personas con Dependencia Severa con Pago de Estipendio (*) | P10: Control embarazada | Q10: Cobertura de Métodos Anticonceptivos en Adolescentes | R10: Cobertura DM2 en personas de 15 y mas años (*) | S10: Cobertutra HTA en personas de 15 y mas años (*) | T10: Proporción de Niñas y Niños de 3 años libre de Caries
A12: LA SERENA | B12: =+'META 2'!$C$25 -> 1.2725857 | C12: =+'META 3.1'!$C$25 -> 1.0201429 | D12: =+'META 5 '!$C$25 -> 1.1153116 | E12: =+'META 6'!$C$25 -> 1.0902725 | F12: =+'META 7'!$C$25 -> 1.3251025 | G12: =+'META 8.1'!$C$25 -> 0.93282743 | H12: =+'META 8.2'!$C$25 -> 0.91993571 | I12: =+'META 8.3'!$C$25 -> 0.87847487 | J12: =+'META 9'!$C$25 -> 1.133113 | K12: =+'META 10'!$C$25 -> 1.1849227 | L12: =+'META 11'!$C$25 -> 1.3540363 | M12: =+'META 12'!$C$25 -> 1.1050225 | N12: =+'META 13'!$C$25 -> 0.75483886 | O12: =+'META 14'!$C$25 -> 1.3825758 | P12: =+'META 17'!$C$25 -> 1.0187791 | Q12: =+'META 18'!$C$25 -> 1.3184932 | R12: =+'META 19'!$C$25 -> 0.86346154 | S12: =+'META 20'!$C$25 -> 0.79661647 | T12: =+'META 21'!$C$25 -> SI | U12: =C43*3%+D43*6%+E43*3%+F43*5%+G43*5%+H43*5%+I43*5%+J43*4%+K43*4%+L43*4%+M43*4%+N43*4%+P43*4%+T43*3% -> 0.56675546 | V12: =+META_GES!$C$25 -> 1
A13: COQUIMBO | B13: =+'META 2'!$C$37 -> 0.54127392 | C13: =+'META 3.1'!$C$37 -> 1.0166415 | D13: =+'META 5 '!$C$37 -> 1.0487523 | E13: =+'META 6'!$C$37 -> 1.153644 | F13: =+'META 7'!$C$37 -> 1.1056906 | G13: =+'META 8.1'!$C$37 -> 0.99488439 | H13: =+'META 8.2'!$C$37 -> 1.0382334 | I13: =+'META 8.3'!$C$37 -> 1.1121212 | J13: =+'META 9'!$C$37 -> 1.0435104 | K13: =+'META 10'!$C$37 -> 1.2097187 | L13: =+'META 11'!$C$37 -> 1.3211435 | M13: =+'META 12'!$C$37 -> 1.1040012 | N13: =+'META 13'!$C$37 -> 0.87512361 | O13: =+'META 14'!$C$37 -> 1.2583612 | P13: =+'META 17'!$C$37 -> 0.95749248 | Q13: =+'META 18'!$C$37 -> 1.2317607 | R13: =+'META 19'!$C$37 -> 1.0899844 | S13: =+'META 20'!$C$37 -> 0.74743893 | T13: =+'META 21'!$C$37 -> SI | U13: =C44*3%+D44*6%+E44*3%+F44*5%+G44*5%+H44*5%+I44*5%+J44*4%+K44*4%+L44*4%+M44*4%+N44*4%+P44*4%+T44*3% -> 0.58304886 | V13: =+META_GES!$C$37 -> 0.99992487
A14: VICUÑA | B14: =+'META 2'!$C$48 -> 1.6667768 | C14: =+'META 3.1'!$C$48 -> 1.0204082 | D14: =+'META 5 '!$C$48 -> 0.96985132 | E14: =+'META 6'!$C$48 -> 2.0176611 | F14: =+'META 7'!$C$48 -> 1.2059077 | G14: =+'META 8.1'!$C$48 -> 1.070173 | H14: =+'META 8.2'!$C$48 -> 1.2179711 | I14: =+'META 8.3'!$C$48 -> 1.2668919 | J14: =+'META 9'!$C$48 -> 1.1432269 | K14: =+'META 10'!$C$48 -> 1.2683824 | L14: =+'META 11'!$C$48 -> 1.384641 | M14: =+'META 12'!$C$48 -> 0.97651227 | N14: =+'META 13'!$C$48 -> 0.91860998 | O14: =+'META 14'!$C$48 -> 1.2273902 | P14: =+'META 17'!$C$48 -> 0.99435216 | Q14: =+'META 18'!$C$48 -> 1.0634328 | R14: =+'META 19'!$C$48 -> 0.95969773 | S14: =+'META 20'!$C$48 -> 0.82220367 | T14: =+'META 21'!$C$48 -> SI | U14: =C45*3%+D45*6%+E45*3%+F45*5%+G45*5%+H45*5%+I45*5%+J45*4%+K45*4%+L45*4%+M45*4%+N45*4%+P45*4%+T45*3% -> 0.58377006 | V14: =+META_GES!$C$48 -> 1
A15: ILLAPEL | B15: =+'META 2'!$C$62 -> 1.3675947 | C15: =+'META 3.1'!$C$62 -> 1.0196078 | D15: =+'META 5 '!$C$62 -> 1.0127855 | E15: =+'META 6'!$C$62 -> 1.5 | F15: =+'META 7'!$C$62 -> 1.0629725 | G15: =+'META 8.1'!$C$62 -> 0.77632468 | H15: =+'META 8.2'!$C$62 -> 0.65241151 | I15: =+'META 8.3'!$C$62 -> 1.1708861 | J15: =+'META 9'!$C$62 -> 1.1687307 | K15: =+'META 10'!$C$62 -> 1.8675595 | L15: =+'META 11'!$C$62 -> 1.4938308 | M15: =+'META 12'!$C$62 -> 0.93056744 | N15: =+'META 13'!$C$62 -> 0.80636011 | O15: =+'META 14'!$C$62 -> 0.40509259 | P15: =+'META 17'!$C$62 -> 0.97636745 | Q15: =+'META 18'!$C$62 -> 1.0582011 | R15: =+'META 19'!$C$62 -> 0.78640777 | S15: =+'META 20'!$C$62 -> 1.0688836 | T15: =+'META 21'!$C$62 -> SI | U15: =C46*3%+D46*6%+E46*3%+F46*5%+G46*5%+H46*5%+I46*5%+J46*4%+K46*4%+L46*4%+M46*4%+N46*4%+P46*4%+T46*3% -> 0.54996861 | V15: =+META_GES!$C$62 -> 1
A16: CANELA | B16: =+'META 2'!$C$73 -> 1.2472325 | C16: =+'META 3.1'!$C$73 -> 1.0195228 | D16: =+'META 5 '!$C$73 -> 1.1108756 | E16: =+'META 6'!$C$73 -> 1.0879883 | F16: =+'META 7'!$C$73 -> 0.96737607 | G16: =+'META 8.1'!$C$73 -> 1.3497034 | H16: =+'META 8.2'!$C$73 -> 1.2421671 | I16: =+'META 8.3'!$C$73 -> 0.99320544 | J16: =+'META 9'!$C$73 -> 1.2605275 | K16: =+'META 10'!$C$73 -> 1.1363636 | L16: =+'META 11'!$C$73 -> 1.6862101 | M16: =+'META 12'!$C$73 -> 0.93978177 | N16: =+'META 13'!$C$73 -> 1.0349362 | O16: =+'META 14'!$C$73 -> 1.3888889 | P16: =+'META 17'!$C$73 -> 1.0021978 | Q16: =+'META 18'!$C$73 -> 1.2254902 | R16: =+'META 19'!$C$73 -> 1.32 | S16: =+'META 20'!$C$73 -> 1.167754 | T16: =+'META 21'!$C$73 -> SI | U16: =C47*3%+D47*6%+E47*3%+F47*5%+G47*5%+H47*5%+I47*5%+J47*4%+K47*4%+L47*4%+M47*4%+N47*4%+P47*4%+T47*3% -> 0.58562035 | V16: =+META_GES!$C$73 -> 1
A17: LOS VILOS | B17: =+'META 2'!$C$79 -> 1.5267969 | C17: =+'META 3.1'!$C$79 -> 1.015625 | D17: =+'META 5 '!$C$79 -> 0.84722553 | E17: =+'META 6'!$C$79 -> 1.6735823 | F17: =+'META 7'!$C$79 -> 1.888763 | G17: =+'META 8.1'!$C$79 -> 1.0688497 | H17: =+'META 8.2'!$C$79 -> 1.0789474 | I17: =+'META 8.3'!$C$79 -> 1.1264822 | J17: =+'META 9'!$C$79 -> 1.2156751 | K17: =+'META 10'!$C$79 -> 1.5625 | L17: =+'META 11'!$C$79 -> 1.2600806 | M17: =+'META 12'!$C$79 -> 0.3346541 | N17: =+'META 13'!$C$79 -> 0.78266081 | O17: =+'META 14'!$C$79 -> 0.16927083 | P17: =+'META 17'!$C$79 -> 0.89144471 | Q17: =+'META 18'!$C$79 -> 1.3888889 | R17: =+'META 19'!$C$79 -> 0.74691358 | S17: =+'META 20'!$C$79 -> 0.92973856 | T17: =+'META 21'!$C$79 -> SI | U17: =C48*3%+D48*6%+E48*3%+F48*5%+G48*5%+H48*5%+I48*5%+J48*4%+K48*4%+L48*4%+M48*4%+N48*4%+P48*4%+T48*3% -> 0.54118392 | V17: =+META_GES!$C$79 -> 1
A18: SALAMANCA | B18: =+'META 2'!$C$90 -> 2.1074699 | C18: =+'META 3.1'!$C$90 -> 1.0204082 | D18: =+'META 5 '!$C$90 -> 0.97759735 | E18: =+'META 6'!$C$90 -> 1.5987252 | F18: =+'META 7'!$C$90 -> 0.96064493 | G18: =+'META 8.1'!$C$90 -> 0.99841908 | H18: =+'META 8.2'!$C$90 -> 1.203144 | I18: =+'META 8.3'!$C$90 -> 0.99774775 | J18: =+'META 9'!$C$90 -> 1.0606592 | K18: =+'META 10'!$C$90 -> 0.38702929 | L18: =+'META 11'!$C$90 -> 2.4728997 | M18: =+'META 12'!$C$90 -> 1.2614955 | N18: =+'META 13'!$C$90 -> 0.84915579 | O18: =+'META 14'!$C$90 -> 1.3858696 | P18: =+'META 17'!$C$90 -> 1.0321313 | Q18: =+'META 18'!$C$90 -> 1.3784247 | R18: =+'META 19'!$C$90 -> 1.0247253 | S18: =+'META 20'!$C$90 -> 0.93031359 | T18: =+'META 21'!$C$90 -> SI | U18: =C49*3%+D49*6%+E49*3%+F49*5%+G49*5%+H49*5%+I49*5%+J49*4%+K49*4%+L49*4%+M49*4%+N49*4%+P49*4%+T49*3% -> 0.55594383 | V18: =+META_GES!$C$90 -> 1
A19: OVALLE | B19: =+'META 2'!$C$109 -> 1.4063576 | C19: =+'META 3.1'!$C$109 -> 1.0198675 | D19: =+'META 5 '!$C$109 -> 1.3292725 | E19: =+'META 6'!$C$109 -> 1.2826853 | F19: =+'META 7'!$C$109 -> 1.0831998 | G19: =+'META 8.1'!$C$109 -> 1.1687901 | H19: =+'META 8.2'!$C$109 -> 1.2784171 | I19: =+'META 8.3'!$C$109 -> 1.2888525 | J19: =+'META 9'!$C$109 -> 1.056804 | K19: =+'META 10'!$C$109 -> 2.0239791 | L19: =+'META 11'!$C$109 -> 1.2665822 | M19: =+'META 12'!$C$109 -> 1.1450988 | N19: =+'META 13'!$C$109 -> 0.83921394 | O19: =+'META 14'!$C$109 -> 0.67313665 | P19: =+'META 17'!$C$109 -> 1.0344097 | Q19: =+'META 18'!$C$109 -> 1.1519608 | R19: =+'META 19'!$C$109 -> 1.0060048 | S19: =+'META 20'!$C$109 -> 0.94191981 | T19: =+'META 21'!$C$109 -> SI | U19: =C50*3%+D50*6%+E50*3%+F50*5%+G50*5%+H50*5%+I50*5%+J50*4%+K50*4%+L50*4%+M50*4%+N50*4%+P50*4%+T50*3% -> 0.58356856 | V19: =+META_GES!$C$108 -> 1
A20: COMBARBALÁ | B20: =+'META 2'!$C$122 -> 2.1159666 | C20: =+'META 3.1'!$C$122 -> 1.0160428 | D20: =+'META 5 '!$C$122 -> 0.93164299 | E20: =+'META 6'!$C$122 -> 1.6554668 | F20: =+'META 7'!$C$122 -> 1.0196296 | G20: =+'META 8.1'!$C$122 -> 1.0017539 | H20: =+'META 8.2'!$C$122 -> 1.0616764 | I20: =+'META 8.3'!$C$122 -> 0.96097418 | J20: =+'META 9'!$C$122 -> 1.3157895 | K20: =+'META 10'!$C$122 -> 1.2083333 | L20: =+'META 11'!$C$122 -> 1.3688525 | M20: =+'META 12'!$C$122 -> 0.8976748 | N20: =+'META 13'!$C$122 -> 0.96145981 | O20: =+'META 14'!$C$122 -> 1.1420008 | P20: =+'META 17'!$C$122 -> 1.1111111 | Q20: =+'META 18'!$C$122 -> 0.86111111 | R20: =+'META 19'!$C$122 -> 0.68306011 | S20: =+'META 20'!$C$122 -> 0.77038896 | T20: =+'META 21'!$C$122 -> SI | U20: =C51*3%+D51*6%+E51*3%+F51*5%+G51*5%+H51*5%+I51*5%+J51*4%+K51*4%+L51*4%+M51*4%+N51*4%+P51*4%+T51*3% -> 0.57831267 | V20: =+META_GES!$C$121 -> 1
A21: MONTE PATRIA | B21: =+'META 2'!$C$136 -> 1.5449413 | C21: =+'META 3.1'!$C$136 -> 1.0189983 | D21: =+'META 5 '!$C$136 -> 1.0691463 | E21: =+'META 6'!$C$136 -> 1.3818064 | F21: =+'META 7'!$C$136 -> 1.0549644 | G21: =+'META 8.1'!$C$136 -> 0.75010716 | H21: =+'META 8.2'!$C$136 -> 0.79549767 | I21: =+'META 8.3'!$C$136 -> 0.94052331 | J21: =+'META 9'!$C$136 -> 1.0267399 | K21: =+'META 10'!$C$136 -> 1.3383152 | L21: =+'META 11'!$C$136 -> 1.0549344 | M21: =+'META 12'!$C$136 -> 0.90567603 | N21: =+'META 13'!$C$136 -> 0.78583915 | O21: =+'META 14'!$C$136 -> 1.3888889 | P21: =+'META 17'!$C$136 -> 0.98490037 | Q21: =+'META 18'!$C$136 -> 1.409465 | R21: =+'META 19'!$C$136 -> 0.91345029 | S21: =+'META 20'!$C$136 -> 0.78569018 | T21: =+'META 21'!$C$136 -> SI | U21: =C52*3%+D52*6%+E52*3%+F52*5%+G52*5%+H52*5%+I52*5%+J52*4%+K52*4%+L52*4%+M52*4%+N52*4%+P52*4%+T52*3% -> 0.55136303 | V21: =+META_GES!$C$135 -> 1
A22: PUNITAQUI | B22: =+'META 2'!$C$141 -> 0.66137183 | C22: =+'META 3.1'!$C$141 -> 0.92165899 | D22: =+'META 5 '!$C$141 -> 1.0139245 | E22: =+'META 6'!$C$141 -> 0.97760404 | F22: =+'META 7'!$C$141 -> 1.2551084 | G22: =+'META 8.1'!$C$141 -> 1.2659561 | H22: =+'META 8.2'!$C$141 -> 0.87631138 | I22: =+'META 8.3'!$C$141 -> 1.1427567 | J22: =+'META 9'!$C$141 -> 1.0601416 | K22: =+'META 10'!$C$141 -> 0.92153285 | L22: =+'META 11'!$C$141 -> 1.0519645 | M22: =+'META 12'!$C$141 -> 1.2485751 | N22: =+'META 13'!$C$141 -> 0.96356012 | O22: =+'META 14'!$C$141 -> 1.3851351 | P22: =+'META 17'!$C$141 -> 0.90403806 | Q22: =+'META 18'!$C$141 -> 1.1842105 | R22: =+'META 19'!$C$141 -> 1.0121212 | S22: =+'META 20'!$C$141 -> 0.85097002 | T22: =+'META 21'!$C$141 -> SI | U22: =C53*3%+D53*6%+E53*3%+F53*5%+G53*5%+H53*5%+I53*5%+J53*4%+K53*4%+L53*4%+M53*4%+N53*4%+P53*4%+T53*3% -> 0.5723587 | V22: =+META_GES!$C$140 -> 1
A23: RIO HURTADO | B23: =+'META 2'!$C$149 -> 0.5105568 | C23: =+'META 3.1'!$C$149 -> 1.0204082 | D23: =+'META 5 '!$C$149 -> 0.83779932 | E23: =+'META 6'!$C$149 -> 1.4553215 | F23: =+'META 7'!$C$149 -> 1.0513156 | G23: =+'META 8.1'!$C$149 -> 0.9774902 | H23: =+'META 8.2'!$C$149 -> 0.65377454 | I23: =+'META 8.3'!$C$149 -> 0.93612335 | J23: =+'META 9'!$C$149 -> 1.0750258 | K23: =+'META 10'!$C$149 -> 0.64655172 | L23: =+'META 11'!$C$149 -> 1.6616466 | M23: =+'META 12'!$C$149 -> 1.0670897 | N23: =+'META 13'!$C$149 -> 1.2301603 | O23: =+'META 14'!$C$149 -> 1.3888889 | P23: =+'META 17'!$C$149 -> 0.98106061 | Q23: =+'META 18'!$C$149 -> 1.1830357 | R23: =+'META 19'!$C$149 -> 0.94 | S23: =+'META 20'!$C$149 -> 0.79059181 | T23: =+'META 21'!$C$149 -> SI | U23: =C54*3%+D54*6%+E54*3%+F54*5%+G54*5%+H54*5%+I54*5%+J54*4%+K54*4%+L54*4%+M54*4%+N54*4%+P54*4%+T54*3% -> 0.54374186 | V23: =+META_GES!$C$148 -> 1
A24: (*) Metas a Evaluar con Serie P de Junio 2017
A31: MINISTERIO DE SALUD
A32: SERVICIO DE SALUD COQUIMBO
A33: SUBDIRECCION DE GESTION ASISTENCIAL
A34: SUBDEPTO DE ESTADÍSTICA Y GESTIÓN DE LA INFORMACIÓN
A36: COMUNA | B36: RESUMEN DE CUMPLIMIENTO DE METAS A ABRIL 2017
B37: CORTE A MARZO
B39: METAS COMPONENTE ESTRATEGIA RISS, PRODUCCIÓN,COBERTURA EFECTIVA E IMPACTO SANITARIO
B40: META Nº2 | C40: META Nº3.1 | D40: META Nº5 | E40: META Nº6 | F40: META Nº7 | G40: META Nº8.1 | H40: META Nº8.2 | I40: META Nº8.3 | J40: META Nº9 | K40: META Nº10 | L40: META Nº11 | M40: META Nº12 | N40: META Nº13 | O40: META Nº14 | P40: META Nº17 | Q40: META Nº18 | R40: META Nº19 | S40: META Nº20 | T40: META Nº21
B41: Familias Evaluadas según riesgo | C41: Gestion de Reclamos APS | D41: Consultas de Morbilidad y Controles Médicos | E41: SIC derivadas desde la APS al Nivel Secundario | F41: Visita domiciliaria integral | G41: EMP hombres 20 a 64 años | H41: EMP mujeres de 45 a 64 años | I41: EMP 65 y mas años | J41: Evaluación del desarrollo Psicomotor de niños/as de 12 a 23 meses bajo control | K41: Control de salud integral adolescentes de 10 a 14 años | L41: Alta odontologica menores de 20 años | M41: Cobertura de Atención Integral de trastornos mentales en personas de 5 y más años | N41: Cobertura de Atención de Asma en Población general y EPOC en personas de 40 años y más | O41: Capacitación a Cuidadores de personas con Dependencia Severa con Pago de Estipendio | P41: Control embarazada | Q41: Cobertura de Métodos Anticonceptivos en Adolescentes | R41: Cobertura DM2 en personas de 15 y mas años | S41: Cobertutra HTA en personas de 15 y mas años | T41: Proporción de Niñas y Niños de 3 años libre de Caries
A43: LA SERENA | B43: =IF(B12="n/a","n/a",IF(B12="","",IF(B12>1,1,B12))) -> 1 | C43: =IF(C12="n/a","n/a",IF(C12="","",IF(C12>1,1,C12))) -> 1 | D43: =IF(D12="n/a","n/a",IF(D12="","",IF(D12>1,1,D12))) -> 1 | E43: =IF(E12="n/a","n/a",IF(E12="","",IF(E12>1,1,E12))) -> 1 | F43: =IF(F12="n/a","n/a",IF(F12="","",IF(F12>1,1,F12))) -> 1 | G43: =IF(G12="n/a","n/a",IF(G12="","",IF(G12>1,1,G12))) -> 0.93282743 | H43: =IF(H12="n/a","n/a",IF(H12="","",IF(H12>1,1,H12))) -> 0.91993571 | I43: =IF(I12="n/a","n/a",IF(I12="","",IF(I12>1,1,I12))) -> 0.87847487 | ... S43: =IF(S12="n/a","n/a",IF(S12="","",IF(S12>1,1,S12))) -> 0.79661647 | T43: =IF(T12="n/a","n/a",IF(T12="SI",1,0)) -> 1
A44: COQUIMBO | B44: =IF(B13="n/a","n/a",IF(B13="","",IF(B13>1,1,B13))) -> 0.54127392 | C44: =IF(C13="n/a","n/a",IF(C13="","",IF(C13>1,1,C13))) -> 1 | D44: =IF(D13="n/a","n/a",IF(D13="","",IF(D13>1,1,D13))) -> 1 | E44: =IF(E13="n/a","n/a",IF(E13="","",IF(E13>1,1,E13))) -> 1 | F44: =IF(F13="n/a","n/a",IF(F13="","",IF(F13>1,1,F13))) -> 1 | G44: =IF(G13="n/a","n/a",IF(G13="","",IF(G13>1,1,G13))) -> 0.99488439 | H44: =IF(H13="n/a","n/a",IF(H13="","",IF(H13>1,1,H13))) -> 1 | I44: =IF(I13="n/a","n/a",IF(I13="","",IF(I13>1,1,I13))) -> 1 | ... S44: =IF(S13="n/a","n/a",IF(S13="","",IF(S13>1,1,S13))) -> 0.74743893 | T44: =IF(T13="n/a","n/a",IF(T13="SI",1,0)) -> 1
A45: VICUÑA | B45: =IF(B14="n/a","n/a",IF(B14="","",IF(B14>1,1,B14))) -> 1 | C45: =IF(C14="n/a","n/a",IF(C14="","",IF(C14>1,1,C14))) -> 1 | D45: =IF(D14="n/a","n/a",IF(D14="","",IF(D14>1,1,D14))) -> 0.96985132 | E45: =IF(E14="n/a","n/a",IF(E14="","",IF(E14>1,1,E14))) -> 1 | F45: =IF(F14="n/a","n/a",IF(F14="","",IF(F14>1,1,F14))) -> 1 | G45: =IF(G14="n/a","n/a",IF(G14="","",IF(G14>1,1,G14))) -> 1 | H45: =IF(H14="n/a","n/a",IF(H14="","",IF(H14>1,1,H14))) -> 1 | I45: =IF(I14="n/a","n/a",IF(I14="","",IF(I14>1,1,I14))) -> 1 | ... S45: =IF(S14="n/a","n/a",IF(S14="","",IF(S14>1,1,S14))) -> 0.82220367 | T45: =IF(T14="n/a","n/a",IF(T14="SI",1,0)) -> 1
A46: ILLAPEL | B46: =IF(B15="n/a","n/a",IF(B15="","",IF(B15>1,1,B15))) -> 1 | C46: =IF(C15="n/a","n/a",IF(C15="","",IF(C15>1,1,C15))) -> 1 | D46: =IF(D15="n/a","n/a",IF(D15="","",IF(D15>1,1,D15))) -> 1 | E46: =IF(E15="n/a","n/a",IF(E15="","",IF(E15>1,1,E15))) -> 1 | F46: =IF(F15="n/a","n/a",IF(F15="","",IF(F15>1,1,F15))) -> 1 | G46: =IF(G15="n/a","n/a",IF(G15="","",IF(G15>1,1,G15))) -> 0.77632468 | H46: =IF(H15="n/a","n/a",IF(H15="","",IF(H15>1,1,H15))) -> 0.65241151 | I46: =IF(I15="n/a","n/a",IF(I15="","",IF(I15>1,1,I15))) -> 1 | ... S46: =IF(S15="n/a","n/a",IF(S15="","",IF(S15>1,1,S15))) -> 1 | T46: =IF(T15="n/a","n/a",IF(T15="SI",1,0)) -> 1
A47: CANELA | B47: =IF(B16="n/a","n/a",IF(B16="","",IF(B16>1,1,B16))) -> 1 | C47: =IF(C16="n/a","n/a",IF(C16="","",IF(C16>1,1,C16))) -> 1 | D47: =IF(D16="n/a","n/a",IF(D16="","",IF(D16>1,1,D16))) -> 1 | E47: =IF(E16="n/a","n/a",IF(E16="","",IF(E16>1,1,E16))) -> 1 | F47: =IF(F16="n/a","n/a",IF(F16="","",IF(F16>1,1,F16))) -> 0.96737607 | G47: =IF(G16="n/a","n/a",IF(G16="","",IF(G16>1,1,G16))) -> 1 | H47: =IF(H16="n/a","n/a",IF(H16="","",IF(H16>1,1,H16))) -> 1 | I47: =IF(I16="n/a","n/a",IF(I16="","",IF(I16>1,1,I16))) -> 0.99320544 | ... S47: =IF(S16="n/a","n/a",IF(S16="","",IF(S16>1,1,S16))) -> 1 | T47: =IF(T16="n/a","n/a",IF(T16="SI",1,0)) -> 1
A48: LOS VILOS | B48: =IF(B17="n/a","n/a",IF(B17="","",IF(B17>1,1,B17))) -> 1 | C48: =IF(C17="n/a","n/a",IF(C17="","",IF(C17>1,1,C17))) -> 1 | D48: =IF(D17="n/a","n/a",IF(D17="","",IF(D17>1,1,D17))) -> 0.84722553 | E48: =IF(E17="n/a","n/a",IF(E17="","",IF(E17>1,1,E17))) -> 1 | F48: =IF(F17="n/a","n/a",IF(F17="","",IF(F17>1,1,F17))) -> 1 | G48: =IF(G17="n/a","n/a",IF(G17="","",IF(G17>1,1,G17))) -> 1 | H48: =IF(H17="n/a","n/a",IF(H17="","",IF(H17>1,1,H17))) -> 1 | I48: =IF(I17="n/a","n/a",IF(I17="","",IF(I17>1,1,I17))) -> 1 | ... S48: =IF(S17="n/a","n/a",IF(S17="","",IF(S17>1,1,S17))) -> 0.92973856 | T48: =IF(T17="n/a","n/a",IF(T17="SI",1,0)) -> 1
A49: SALAMANCA | B49: =IF(B18="n/a","n/a",IF(B18="","",IF(B18>1,1,B18))) -> 1 | C49: =IF(C18="n/a","n/a",IF(C18="","",IF(C18>1,1,C18))) -> 1 | D49: =IF(D18="n/a","n/a",IF(D18="","",IF(D18>1,1,D18))) -> 0.97759735 | E49: =IF(E18="n/a","n/a",IF(E18="","",IF(E18>1,1,E18))) -> 1 | F49: =IF(F18="n/a","n/a",IF(F18="","",IF(F18>1,1,F18))) -> 0.96064493 | G49: =IF(G18="n/a","n/a",IF(G18="","",IF(G18>1,1,G18))) -> 0.99841908 | H49: =IF(H18="n/a","n/a",IF(H18="","",IF(H18>1,1,H18))) -> 1 | I49: =IF(I18="n/a","n/a",IF(I18="","",IF(I18>1,1,I18))) -> 0.99774775 | ... S49: =IF(S18="n/a","n/a",IF(S18="","",IF(S18>1,1,S18))) -> 0.93031359 | T49: =IF(T18="n/a","n/a",IF(T18="SI",1,0)) -> 1
A50: OVALLE | B50: =IF(B19="n/a","n/a",IF(B19="","",IF(B19>1,1,B19))) -> 1 | C50: =IF(C19="n/a","n/a",IF(C19="","",IF(C19>1,1,C19))) -> 1 | D50: =IF(D19="n/a","n/a",IF(D19="","",IF(D19>1,1,D19))) -> 1 | E50: =IF(E19="n/a","n/a",IF(E19="","",IF(E19>1,1,E19))) -> 1 | F50: =IF(F19="n/a","n/a",IF(F19="","",IF(F19>1,1,F19))) -> 1 | G50: =IF(G19="n/a","n/a",IF(G19="","",IF(G19>1,1,G19))) -> 1 | H50: =IF(H19="n/a","n/a",IF(H19="","",IF(H19>1,1,H19))) -> 1 | I50: =IF(I19="n/a","n/a",IF(I19="","",IF(I19>1,1,I19))) -> 1 | ... S50: =IF(S19="n/a","n/a",IF(S19="","",IF(S19>1,1,S19))) -> 0.94191981 | T50: =IF(T19="n/a","n/a",IF(T19="SI",1,0)) -> 1
A51: COMBARBALÁ | B51: =IF(B20="n/a","n/a",IF(B20="","",IF(B20>1,1,B20))) -> 1 | C51: =IF(C20="n/a","n/a",IF(C20="","",IF(C20>1,1,C20))) -> 1 | D51: =IF(D20="n/a","n/a",IF(D20="","",IF(D20>1,1,D20))) -> 0.93164299 | E51: =IF(E20="n/a","n/a",IF(E20="","",IF(E20>1,1,E20))) -> 1 | F51: =IF(F20="n/a","n/a",IF(F20="","",IF(F20>1,1,F20))) -> 1 | G51: =IF(G20="n/a","n/a",IF(G20="","",IF(G20>1,1,G20))) -> 1 | H51: =IF(H20="n/a","n/a",IF(H20="","",IF(H20>1,1,H20))) -> 1 | I51: =IF(I20="n/a","n/a",IF(I20="","",IF(I20>1,1,I20))) -> 0.96097418 | ... S51: =IF(S20="n/a","n/a",IF(S20="","",IF(S20>1,1,S20))) -> 0.77038896 | T51: =IF(T20="n/a","n/a",IF(T20="SI",1,0)) -> 1
A52: MONTE PATRIA | B52: =IF(B21="n/a","n/a",IF(B21="","",IF(B21>1,1,B21))) -> 1 | C52: =IF(C21="n/a","n/a",IF(C21="","",IF(C21>1,1,C21))) -> 1 | D52: =IF(D21="n/a","n/a",IF(D21="","",IF(D21>1,1,D21))) -> 1 | E52: =IF(E21="n/a","n/a",IF(E21="","",IF(E21>1,1,E21))) -> 1 | F52: =IF(F21="n/a","n/a",IF(F21="","",IF(F21>1,1,F21))) -> 1 | G52: =IF(G21="n/a","n/a",IF(G21="","",IF(G21>1,1,G21))) -> 0.75010716 | H52: =IF(H21="n/a","n/a",IF(H21="","",IF(H21>1,1,H21))) -> 0.79549767 | I52: =IF(I21="n/a","n/a",IF(I21="","",IF(I21>1,1,I21))) -> 0.94052331 | ... S52: =IF(S21="n/a","n/a",IF(S21="","",IF(S21>1,1,S21))) -> 0.78569018 | T52: =IF(T21="n/a","n/a",IF(T21="SI",1,0)) -> 1
A53: PUNITAQUI | B53: =IF(B22="n/a","n/a",IF(B22="","",IF(B22>1,1,B22))) -> 0.66137183 | C53: =IF(C22="n/a","n/a",IF(C22="","",IF(C22>1,1,C22))) -> 0.92165899 | D53: =IF(D22="n/a","n/a",IF(D22="","",IF(D22>1,1,D22))) -> 1 | E53: =IF(E22="n/a","n/a",IF(E22="","",IF(E22>1,1,E22))) -> 0.97760404 | F53: =IF(F22="n/a","n/a",IF(F22="","",IF(F22>1,1,F22))) -> 1 | G53: =IF(G22="n/a","n/a",IF(G22="","",IF(G22>1,1,G22))) -> 1 | H53: =IF(H22="n/a","n/a",IF(H22="","",IF(H22>1,1,H22))) -> 0.87631138 | I53: =IF(I22="n/a","n/a",IF(I22="","",IF(I22>1,1,I22))) -> 1 | ... S53: =IF(S22="n/a","n/a",IF(S22="","",IF(S22>1,1,S22))) -> 0.85097002 | T53: =IF(T22="n/a","n/a",IF(T22="SI",1,0)) -> 1
A54: RIO HURTADO | B54: =IF(B23="n/a","n/a",IF(B23="","",IF(B23>1,1,B23))) -> 0.5105568 | C54: =IF(C23="n/a","n/a",IF(C23="","",IF(C23>1,1,C23))) -> 1 | D54: =IF(D23="n/a","n/a",IF(D23="","",IF(D23>1,1,D23))) -> 0.83779932 | E54: =IF(E23="n/a","n/a",IF(E23="","",IF(E23>1,1,E23))) -> 1 | F54: =IF(F23="n/a","n/a",IF(F23="","",IF(F23>1,1,F23))) -> 1 | G54: =IF(G23="n/a","n/a",IF(G23="","",IF(G23>1,1,G23))) -> 0.9774902 | H54: =IF(H23="n/a","n/a",IF(H23="","",IF(H23>1,1,H23))) -> 0.65377454 | I54: =IF(I23="n/a","n/a",IF(I23="","",IF(I23>1,1,I23))) -> 0.93612335 | ... S54: =IF(S23="n/a","n/a",IF(S23="","",IF(S23>1,1,S23))) -> 0.79059181 | T54: =IF(T23="n/a","n/a",IF(T23="SI",1,0)) -> 1

Sheet META 2
A1: COMUNA | B1: ESTABLECIMIENTO | C1: CUMPLIMIENTO | D1: Indicador | E1: META 2 : FAMILIAS EVALUADAS SEGÚN RIESGO FAMILIAR
E2: NUMERADOR | G2: DENOMINADOR
E10: Nº de familias evaluadas según riesgo familiar | G10: Total de familias Insciritas (población inscrita/3,3)
D11: Resultado | E11: A JUNIO | F11: A DICBRE
A12: 04101-LA SERENA | B12: 105300-CES. CARDENAL CARO | E12: =IFERROR(VLOOKUP($B12,[1]NUM2!$H$3:$J$143,2,FALSE),0) -> 2745
A13: 04101-LA SERENA | B13: 105301-CES. LAS COMPAÑIAS | E13: =IFERROR(VLOOKUP($B13,[1]NUM2!$H$3:$J$143,2,FALSE),0) -> 549
A14: 04101-LA SERENA | B14: 105302-CES. PEDRO AGUIRRE C. | E14: =IFERROR(VLOOKUP($B14,[1]NUM2!$H$3:$J$143,2,FALSE),0) -> 272
A15: 04101-LA SERENA | B15: 105313-CES. SCHAFFHAUSER | E15: =IFERROR(VLOOKUP($B15,[1]NUM2!$H$3:$J$143,2,FALSE),0) -> 77
A16: 04101-LA SERENA | B16: 105319-CES. CARDENAL R.S.H. | E16: =IFERROR(VLOOKUP($B16,[1]NUM2!$H$3:$J$143,2,FALSE),0) -> 486
A17: 04101-LA SERENA | B17: 105325-CESFAM JUAN PABLO II | E17: =IFERROR(VLOOKUP($B17,[1]NUM2!$H$3:$J$143,2,FALSE),0) -> 2387
A18: 04101-LA SERENA | B18: 105400-P.S.R. ALGARROBITO | E18: =IFERROR(VLOOKUP($B18,[1]NUM2!$H$3:$J$143,2,FALSE),0) -> 50
A19: 04101-LA SERENA | B19: 105401-P.S.R. LAS ROJAS | E19: =IFERROR(VLOOKUP($B19,[1]NUM2!$H$3:$J$143,2,FALSE),0) -> 49
A20: 04101-LA SERENA | B20: 105402-P.S.R. EL ROMERO | E20: =IFERROR(VLOOKUP($B20,[1]NUM2!$H$3:$J$143,2,FALSE),0) -> 81
A21: 04101-LA SERENA | B21: 105499-P.S.R. LAMBERT | E21: =IFERROR(VLOOKUP($B21,[1]NUM2!$H$3:$J$143,2,FALSE),0) -> 90
A22: 04101-LA SERENA | B22: 105700-CECOF VILLA EL INDIO | E22: =IFERROR(VLOOKUP($B22,[1]NUM2!$H$3:$J$143,2,FALSE),0) -> 1193
A23: 04101-LA SERENA | B23: 105701-CECOF VILLA ALEMANIA | E23: =IFERROR(VLOOKUP($B23,[1]NUM2!$H$3:$J$143,2,FALSE),0) -> 153
A24: 04101-LA SERENA | B24: 105702-CECOF VILLA LAMBERT | E24: =IFERROR(VLOOKUP($B24,[1]NUM2!$H$3:$J$143,2,FALSE),0) -> 96
A25: TOTAL LA SERENA | C25: =+D25/Metas!G89 -> 1.2725857 | D25: =+E25/G25 -> 0.14142074 | E25: =SUM(E12:E24) -> 8228 | F25: =SUM(F12:F24) -> 0 | G25: 58181
A26: 04102-COQUIMBO | B26: 105303-CES. SAN JUAN | E26: =IFERROR(VLOOKUP($B26,[1]NUM2!$H$3:$J$143,2,FALSE),0) -> 246
A27: 04102-COQUIMBO | B27: 105304-CES. SANTA CECILIA | E27: =IFERROR(VLOOKUP($B27,[1]NUM2!$H$3:$J$143,2,FALSE),0) -> 83
A28: 04102-COQUIMBO | B28: 105305-CES. TIERRAS BLANCAS | E28: =IFERROR(VLOOKUP($B28,[1]NUM2!$H$3:$J$143,2,FALSE),0) -> 1025
A29: 04102-COQUIMBO | B29: 105321-CES. RURAL TONGOY | E29: =IFERROR(VLOOKUP($B29,[1]NUM2!$H$3:$J$143,2,FALSE),0) -> 30
A30: 04102-COQUIMBO | B30: 105323-CES. DR. SERGIO AGUILAR | E30: =IFERROR(VLOOKUP($B30,[1]NUM2!$H$3:$J$143,2,FALSE),0) -> 35
A31: 04102-COQUIMBO | B31: 105404-P.S.R. EL TANGUE | E31: =IFERROR(VLOOKUP($B31,[1]NUM2!$H$3:$J$143,2,FALSE),0) -> 0
A32: 04102-COQUIMBO | B32: 105405-P.S.R. GUANAQUEROS | E32: =IFERROR(VLOOKUP($B32,[1]NUM2!$H$3:$J$143,2,FALSE),0) -> 150
A33: 04102-COQUIMBO | B33: 105406-P.S.R. PAN DE AZUCAR | E33: =IFERROR(VLOOKUP($B33,[1]NUM2!$H$3:$J$143,2,FALSE),0) -> 32
A34: 04102-COQUIMBO | B34: 105407-P.S.R. TAMBILLOS | E34: =IFERROR(VLOOKUP($B34,[1]NUM2!$H$3:$J$143,2,FALSE),0) -> 6
A35: 04102-COQUIMBO | B35: 105705-CECOF EL ALBA | E35: =IFERROR(VLOOKUP($B35,[1]NUM2!$H$3:$J$143,2,FALSE),0) -> 1296
A36: 04102-COQUIMBO | B36: 200273-CECOF PUNTA MIRA | E36: =IFERROR(VLOOKUP($B36,[1]NUM2!$H$3:$J$143,2,FALSE),0) -> 61
A37: TOTAL COQUIMBO | C37: =+D37/Metas!G87 -> 0.54127392 | D37: =+E37/G37 -> 0.05279658 | E37: =SUM(E26:E36) -> 2964 | F37: =SUM(F26:F36) -> 0 | G37: 56140
A38: 04106-VICUÑA | B38: 105467-P.S.R. DIAGUITAS | E38: =IFERROR(VLOOKUP($B38,[1]NUM2!$H$3:$J$143,2,FALSE),0) -> 38
A39: 04106-VICUÑA | B39: 105468-P.S.R. EL MOLLE | E39: =IFERROR(VLOOKUP($B39,[1]NUM2!$H$3:$J$143,2,FALSE),0) -> 24
A40: 04106-VICUÑA | B40: 105469-P.S.R. EL TAMBO | E40: =IFERROR(VLOOKUP($B40,[1]NUM2!$H$3:$J$143,2,FALSE),0) -> 168
A41: 04106-VICUÑA | B41: 105470-P.S.R. HUANTA | E41: =IFERROR(VLOOKUP($B41,[1]NUM2!$H$3:$J$143,2,FALSE),0) -> 4
A42: 04106-VICUÑA | B42: 105471-P.S.R. PERALILLO | E42: =IFERROR(VLOOKUP($B42,[1]NUM2!$H$3:$J$143,2,FALSE),0) -> 197
A43: 04106-VICUÑA | B43: 105472-P.S.R. RIVADAVIA | E43: =IFERROR(VLOOKUP($B43,[1]NUM2!$H$3:$J$143,2,FALSE),0) -> 28
A44: 04106-VICUÑA | B44: 105473-P.S.R. TALCUNA | E44: =IFERROR(VLOOKUP($B44,[1]NUM2!$H$3:$J$143,2,FALSE),0) -> 107
A45: 04106-VICUÑA | B45: 105474-P.S.R. CHAPILCA | E45: =IFERROR(VLOOKUP($B45,[1]NUM2!$H$3:$J$143,2,FALSE),0) -> 11
A46: 04106-VICUÑA | B46: 105502-P.S.R. CALINGASTA | E46: =IFERROR(VLOOKUP($B46,[1]NUM2!$H$3:$J$143,2,FALSE),0) -> 83
A47: 04106-VICUÑA | B47: 105509-P.S.R. GUALLIGUAICA | E47: =IFERROR(VLOOKUP($B47,[1]NUM2!$H$3:$J$143,2,FALSE),0) -> 8
A48: TOTAL VICUÑA | C48: =+D48/Metas!G96 -> 1.6667768 | D48: =+E48/G48 -> 0.16186092 | E48: =SUM(E38:E47) -> 668 | F48: =SUM(F38:F47) -> 0 | G48: 4127
A49: 04201-ILLAPEL | B49: 105326-CESFAM SAN RAFAEL | E49: =IFERROR(VLOOKUP($B49,[1]NUM2!$H$3:$J$143,2,FALSE),0) -> 72
A50: 04201-ILLAPEL | B50: 105443-P.S.R. CARCAMO | E50: =IFERROR(VLOOKUP($B50,[1]NUM2!$H$3:$J$143,2,FALSE),0) -> 201
A51: 04201-ILLAPEL | B51: 105444-P.S.R. HUINTIL | E51: =IFERROR(VLOOKUP($B51,[1]NUM2!$H$3:$J$143,2,FALSE),0) -> 20
A52: 04201-ILLAPEL | B52: 105445-P.S.R. LIMAHUIDA | E52: =IFERROR(VLOOKUP($B52,[1]NUM2!$H$3:$J$143,2,FALSE),0) -> 18
A53: 04201-ILLAPEL | B53: 105446-P.S.R. MATANCILLA | E53: =IFERROR(VLOOKUP($B53,[1]NUM2!$H$3:$J$143,2,FALSE),0) -> 17
A54: 04201-ILLAPEL | B54: 105447-P.S.R. PERALILLO | E54: =IFERROR(VLOOKUP($B54,[1]NUM2!$H$3:$J$143,2,FALSE),0) -> 25
A55: 04201-ILLAPEL | B55: 105448-P.S.R. SANTA VIRGINIA | E55: =IFERROR(VLOOKUP($B55,[1]NUM2!$H$3:$J$143,2,FALSE),0) -> 22
A56: 04201-ILLAPEL | B56: 105449-P.S.R. TUNGA NORTE | E56: =IFERROR(VLOOKUP($B56,[1]NUM2!$H$3:$J$143,2,FALSE),0) -> 33
A57: 04201-ILLAPEL | B57: 105485-P.S.R. PLAN DE HORNOS | E57: =IFERROR(VLOOKUP($B57,[1]NUM2!$H$3:$J$143,2,FALSE),0) -> 14
A58: 04201-ILLAPEL | B58: 105486-P.S.R. TUNGA SUR | E58: =IFERROR(VLOOKUP($B58,[1]NUM2!$H$3:$J$143,2,FALSE),0) -> 12
A59: 04201-ILLAPEL | B59: 105487-P.S.R. CAÑAS UNO | E59: =IFERROR(VLOOKUP($B59,[1]NUM2!$H$3:$J$143,2,FALSE),0) -> 68
A60: 04201-ILLAPEL | B60: 105496-P.S.R. PINTACURA SUR | E60: =IFERROR(VLOOKUP($B60,[1]NUM2!$H$3:$J$143,2,FALSE),0) -> 5
A61: 04201-ILLAPEL | B61: 105504-P.S.R. SOCAVON | E61: =IFERROR(VLOOKUP($B61,[1]NUM2!$H$3:$J$143,2,FALSE),0) -> 98
A62: TOTAL ILLAPEL | C62: =+D62/Metas!G88 -> 1.3675947 | D62: =+E62/G62 -> 0.1577575 | E62: =SUM(E49:E61) -> 605 | F62: =SUM(F49:F61) -> 0 | G62: 3835
A63: 04202-CANELA | B63: 105309-CES. RURAL CANELA | E63: =IFERROR(VLOOKUP($B63,[1]NUM2!$H$3:$J$143,2,FALSE),0) -> 212
A64: 04202-CANELA | B64: 105450-P.S.R. MINCHA NORTE | E64: =IFERROR(VLOOKUP($B64,[1]NUM2!$H$3:$J$143,2,FALSE),0) -> 0
A65: 04202-CANELA | B65: 105451-P.S.R. AGUA FRIA | E65: =IFERROR(VLOOKUP($B65,[1]NUM2!$H$3:$J$143,2,FALSE),0) -> 0
A66: 04202-CANELA | B66: 105482-P.S.R. CANELA ALTA | E66: =IFERROR(VLOOKUP($B66,[1]NUM2!$H$3:$J$143,2,FALSE),0) -> 0
A67: 04202-CANELA | B67: 105483-P.S.R. LOS RULOS | E67: =IFERROR(VLOOKUP($B67,[1]NUM2!$H$3:$J$143,2,FALSE),0) -> 0
A68: 04202-CANELA | B68: 105484-P.S.R. HUENTELAUQUEN | E68: =IFERROR(VLOOKUP($B68,[1]NUM2!$H$3:$J$143,2,FALSE),0) -> 0
A69: 04202-CANELA | B69: 105488-P.S.R. ESPIRITU SANTO | E69: =IFERROR(VLOOKUP($B69,[1]NUM2!$H$3:$J$143,2,FALSE),0) -> 0
A70: 04202-CANELA | B70: 105493-P.S.R. MINCHA SUR | E70: =IFERROR(VLOOKUP($B70,[1]NUM2!$H$3:$J$143,2,FALSE),0) -> 0
A71: 04202-CANELA | B71: 105497-P.S.R. JABONERIA | E71: =IFERROR(VLOOKUP($B71,[1]NUM2!$H$3:$J$143,2,FALSE),0) -> 0
A72: 04202-CANELA | B72: 105498-P.S.R. QUEBRADA DE LINARES | E72: =IFERROR(VLOOKUP($B72,[1]NUM2!$H$3:$J$143,2,FALSE),0) -> 0
A73: TOTAL CANELA | C73: =+D73/Metas!G85 -> 1.2472325 | D73: =+E73/G73 -> 0.074938141 | E73: =SUM(E63:E72) -> 212 | F73: =SUM(F63:F72) -> 0 | G73: 2829
A74: 04203-LOS VILOS | B74: 105478-P.S.R. CAIMANES | E74: =IFERROR(VLOOKUP($B74,[1]NUM2!$H$3:$J$143,2,FALSE),0) -> 40
A75: 04203-LOS VILOS | B75: 105479-P.S.R. GUANGUALI | E75: =IFERROR(VLOOKUP($B75,[1]NUM2!$H$3:$J$143,2,FALSE),0) -> 70
A76: 04203-LOS VILOS | B76: 105480-P.S.R. QUILIMARI | E76: =IFERROR(VLOOKUP($B76,[1]NUM2!$H$3:$J$143,2,FALSE),0) -> 70
A77: 04203-LOS VILOS | B77: 105481-P.S.R. TILAMA | E77: =IFERROR(VLOOKUP($B77,[1]NUM2!$H$3:$J$143,2,FALSE),0) -> 3
A78: 04203-LOS VILOS | B78: 105511-P.S.R. LOS CONDORES | E78: =IFERROR(VLOOKUP($B78,[1]NUM2!$H$3:$J$143,2,FALSE),0) -> 10
A79: TOTAL LOS VILOS | C79: =+D79/Metas!G90 -> 1.5267969 | D79: =+E79/G79 -> 0.10616062 | E79: =SUM(E74:E78) -> 193 | F79: =SUM(F74:F78) -> 0 | G79: 1818
A80: 04204-SALAMANCA | B80: 105452-P.S.R. CUNCUMEN | E80: =IFERROR(VLOOKUP($B80,[1]NUM2!$H$3:$J$143,2,FALSE),0) -> 248
A81: 04204-SALAMANCA | B81: 105453-P.S.R. TRANQUILLA | E81: =IFERROR(VLOOKUP($B81,[1]NUM2!$H$3:$J$143,2,FALSE),0) -> 268
A82: 04204-SALAMANCA | B82: 105454-P.S.R. CUNLAGUA | E82: =IFERROR(VLOOKUP($B82,[1]NUM2!$H$3:$J$143,2,FALSE),0) -> 0
A83: 04204-SALAMANCA | B83: 105455-P.S.R. CHILLEPIN | E83: =IFERROR(VLOOKUP($B83,[1]NUM2!$H$3:$J$143,2,FALSE),0) -> 736
A84: 04204-SALAMANCA | B84: 105456-P.S.R. LLIMPO | E84: =IFERROR(VLOOKUP($B84,[1]NUM2!$H$3:$J$143,2,FALSE),0) -> 0
A85: 04204-SALAMANCA | B85: 105457-P.S.R. SAN AGUSTIN | E85: =IFERROR(VLOOKUP($B85,[1]NUM2!$H$3:$J$143,2,FALSE),0) -> 0
A86: 04204-SALAMANCA | B86: 105458-P.S.R. TAHUINCO | E86: =IFERROR(VLOOKUP($B86,[1]NUM2!$H$3:$J$143,2,FALSE),0) -> 0
A87: 04204-SALAMANCA | B87: 105491-P.S.R. QUELEN BAJO | E87: =IFERROR(VLOOKUP($B87,[1]NUM2!$H$3:$J$143,2,FALSE),0) -> 247
A88: 04204-SALAMANCA | B88: 105492-P.S.R. CAMISA | E88: =IFERROR(VLOOKUP($B88,[1]NUM2!$H$3:$J$143,2,FALSE),0) -> 0
A89: 04204-SALAMANCA | B89: 105501-P.S.R. ARBOLEDA GRANDE | E89: =IFERROR(VLOOKUP($B89,[1]NUM2!$H$3:$J$143,2,FALSE),0) -> 0
A90: TOTAL SALAMANCA | C90: =+D90/Metas!G95 -> 2.1074699 | D90: =+E90/G90 -> 0.39468141 | E90: =SUM(E80:E89) -> 1499 | F90: =SUM(F80:F89) -> 0 | G90: 3798
A91: 04301-OVALLE | B91: 105315-CES. RURAL C. DE TAMAYA | E91: =IFERROR(VLOOKUP($B91,[1]NUM2!$H$3:$J$143,2,FALSE),0) -> 120
A92: 04301-OVALLE | B92: 105317-CES. JORGE JORDAN D. | E92: =IFERROR(VLOOKUP($B92,[1]NUM2!$H$3:$J$143,2,FALSE),0) -> 178
A93: 04301-OVALLE | B93: 105322-CES. MARCOS MACUADA | E93: =IFERROR(VLOOKUP($B93,[1]NUM2!$H$3:$J$143,2,FALSE),0) -> 545
A94: 04301-OVALLE | B94: 105324-CES. SOTAQUI | E94: =IFERROR(VLOOKUP($B94,[1]NUM2!$H$3:$J$143,2,FALSE),0) -> 57
A95: 04301-OVALLE | B95: 105415-P.S.R. BARRAZA | E95: =IFERROR(VLOOKUP($B95,[1]NUM2!$H$3:$J$143,2,FALSE),0) -> 601
A96: 04301-OVALLE | B96: 105416-P.S.R. CAMARICO | E96: =IFERROR(VLOOKUP($B96,[1]NUM2!$H$3:$J$143,2,FALSE),0) -> 145
A97: 04301-OVALLE | B97: 105417-P.S.R. ALCONES BAJOS | E97: =IFERROR(VLOOKUP($B97,[1]NUM2!$H$3:$J$143,2,FALSE),0) -> 21
A98: 04301-OVALLE | B98: 105419-P.S.R. LAS SOSSAS | E98: =IFERROR(VLOOKUP($B98,[1]NUM2!$H$3:$J$143,2,FALSE),0) -> 623
A99: 04301-OVALLE | B99: 105420-P.S.R. LIMARI | E99: =IFERROR(VLOOKUP($B99,[1]NUM2!$H$3:$J$143,2,FALSE),0) -> 736
A100: 04301-OVALLE | B100: 105422-P.S.R. HORNILLOS | E100: =IFERROR(VLOOKUP($B100,[1]NUM2!$H$3:$J$143,2,FALSE),0) -> 3
A101: 04301-OVALLE | B101: 105437-P.S.R. CHALINGA | E101: =IFERROR(VLOOKUP($B101,[1]NUM2!$H$3:$J$143,2,FALSE),0) -> 23
A102: 04301-OVALLE | B102: 105439-P.S.R. CERRO BLANCO | E102: =IFERROR(VLOOKUP($B102,[1]NUM2!$H$3:$J$143,2,FALSE),0) -> 0
... A107: 04301-OVALLE | B107: 200258-CECOF LOS COPIHUES | E107: =IFERROR(VLOOKUP($B107,[1]NUM2!$H$3:$J$143,2,FALSE),0) -> 102
A108: 04301-OVALLE | B108: 200367-CECOF COLONIA LIMARÍ
A109: TOTAL OVALLE | C109: =+D109/Metas!G92 -> 1.4063576 | D109: =+E109/G109 -> 0.11824899 | E109: =SUM(E91:E108) -> 3409 | F109: =SUM(F91:F107) -> 0 | G109: 28829
A110: 04302-COMBARBALÁ | B110: 105433-P.S.R. SAN LORENZO | E110: =IFERROR(VLOOKUP($B110,[1]NUM2!$H$3:$J$143,2,FALSE),0) -> 17
A111: 04302-COMBARBALÁ | B111: 105434-P.S.R. SAN MARCOS | E111: =IFERROR(VLOOKUP($B111,[1]NUM2!$H$3:$J$143,2,FALSE),0) -> 117
...

Sheet META 3.1
A1: COMUNA | B1: ESTABLECIMIENTO | C1: CUMPLIMIENTO | D1: Indicador | E1: META 3.1: GESTION DE RECLAMOS EN APS
E2: NUMERADOR | R2: DENOMINADOR
E10: Nº total de reclamos respondidos con solución dentro de los plazos legales establecidos (15 días hábiles) | R10: Nº total de reclamos
D11: Resultado | E11: ENERO | F11: FEBRERO | G11: MARZO | H11: ABRIL | I11: MAYO | J11: JUNIO | K11: JULIO | L11: AGOSTO | M11: SEPBRE | N11: OCTBRE | O11: NOVBRE | P11: DICBRE | Q11: TOTAL | R11: ENERO | S11: FEBRERO | T11: MARZO | U11: ABRIL | V11: MAYO | W11: JUNIO | X11: JULIO | Y11: AGOSTO | Z11: SEPBRE | AA11: OCTBRE | AB11: NOVBRE | AC11: DICBRE | AD11: TOTAL
A12: 04101-LA SERENA | B12: 105300-CES. CARDENAL CARO | E12: =IFERROR(VLOOKUP($B12,'[1]NUM3.1'!$H$3:$S$112,2,FALSE),0) -> 20 | F12: =IFERROR(VLOOKUP($B12,'[1]NUM3.1'!$H$3:$S$112,3,FALSE),0) -> 33 | G12: =IFERROR(VLOOKUP($B12,'[1]NUM3.1'!$H$3:$S$112,4,FALSE),0) -> 33 | H12: =IFERROR(VLOOKUP($B12,'[1]NUM3.1'!$H$3:$S$112,5,FALSE),0) -> 15 | I12: =IFERROR(VLOOKUP($B12,'[1]NUM3.1'!$H$3:$S$112,6,FALSE),0) -> 9 | J12: =IFERROR(VLOOKUP($B12,'[1]NUM3.1'!$H$3:$S$112,7,FALSE),0) -> 43 | K12: =IFERROR(VLOOKUP($B12,'[1]NUM3.1'!$H$3:$S$112,8,FALSE),0) -> 51 | L12: =IFERROR(VLOOKUP($B12,'[1]NUM3.1'!$H$3:$S$112,9,FALSE),0) -> 23 | M12: =IFERROR(VLOOKUP($B12,'[1]NUM3.1'!$H$3:$S$112,10,FALSE),0) -> 24 | N12: =IFERROR(VLOOKUP($B12,'[1]NUM3.1'!$H$3:$S$112,11,FALSE),0) -> 22 | Q12: =SUM(E12:P12) -> 273 | R12: =IFERROR(VLOOKUP($B12,'[1]DEN3.1'!$H$3:$S$112,2,FALSE),0) -> 20 | S12: =IFERROR(VLOOKUP($B12,'[1]DEN3.1'!$H$3:$S$112,3,FALSE),0) -> 33 | T12: =IFERROR(VLOOKUP($B12,'[1]DEN3.1'!$H$3:$S$112,4,FALSE),0) -> 33 | U12: =IFERROR(VLOOKUP($B12,'[1]DEN3.1'!$H$3:$S$112,5,FALSE),0) -> 15 | V12: =IFERROR(VLOOKUP($B12,'[1]DEN3.1'!$H$3:$S$112,6,FALSE),0) -> 9 | W12: =IFERROR(VLOOKUP($B12,'[1]DEN3.1'!$H$3:$S$112,7,FALSE),0) -> 43 | X12: =IFERROR(VLOOKUP($B12,'[1]DEN3.1'!$H$3:$S$112,8,FALSE),0) -> 51 | Y12: =IFERROR(VLOOKUP($B12,'[1]DEN3.1'!$H$3:$S$112,9,FALSE),0) -> 23 | Z12: =IFERROR(VLOOKUP($B12,'[1]DEN3.1'!$H$3:$S$112,10,FALSE),0) -> 24 | AA12: =IFERROR(VLOOKUP($B12,'[1]DEN3.1'!$H$3:$S$112,11,FALSE),0) -> 22 | AD12: =SUM(R12:AC12) -> 273
A13: 04101-LA SERENA | B13: 105301-CES. LAS COMPAÑIAS | E13: =IFERROR(VLOOKUP($B13,'[1]NUM3.1'!$H$3:$S$112,2,FALSE),0) -> 9 | F13: =IFERROR(VLOOKUP($B13,'[1]NUM3.1'!$H$3:$S$112,3,FALSE),0) -> 4 | G13: =IFERROR(VLOOKUP($B13,'[1]NUM3.1'!$H$3:$S$112,4,FALSE),0) -> 21 | H13: =IFERROR(VLOOKUP($B13,'[1]NUM3.1'!$H$3:$S$112,5,FALSE),0) -> 9 | I13: =IFERROR(VLOOKUP($B13,'[1]NUM3.1'!$H$3:$S$112,6,FALSE),0) -> 2 | J13: =IFERROR(VLOOKUP($B13,'[1]NUM3.1'!$H$3:$S$112,7,FALSE),0) -> 15 | K13: =IFERROR(VLOOKUP($B13,'[1]NUM3.1'!$H$3:$S$112,8,FALSE),0) -> 6 | L13: =IFERROR(VLOOKUP($B13,'[1]NUM3.1'!$H$3:$S$112,9,FALSE),0) -> 8 | M13: =IFERROR(VLOOKUP($B13,'[1]NUM3.1'!$H$3:$S$112,10,FALSE),0) -> 10 | N13: =IFERROR(VLOOKUP($B13,'[1]NUM3.1'!$H$3:$S$112,11,FALSE),0) -> 8 | Q13: =SUM(E13:P13) -> 92 | R13: =IFERROR(VLOOKUP($B13,'[1]DEN3.1'!$H$3:$S$112,2,FALSE),0) -> 9 | S13: =IFERROR(VLOOKUP($B13,'[1]DEN3.1'!$H$3:$S$112,3,FALSE),0) -> 4 | T13: =IFERROR(VLOOKUP($B13,'[1]DEN3.1'!$H$3:$S$112,4,FALSE),0) -> 21 | U13: =IFERROR(VLOOKUP($B13,'[1]DEN3.1'!$H$3:$S$112,5,FALSE),0) -> 9 | V13: =IFERROR(VLOOKUP($B13,'[1]DEN3.1'!$H$3:$S$112,6,FALSE),0) -> 2 | W13: =IFERROR(VLOOKUP($B13,'[1]DEN3.1'!$H$3:$S$112,7,FALSE),0) -> 15 | X13: =IFERROR(VLOOKUP($B13,'[1]DEN3.1'!$H$3:$S$112,8,FALSE),0) -> 6 | Y13: =IFERROR(VLOOKUP($B13,'[1]DEN3.1'!$H$3:$S$112,9,FALSE),0) -> 8 | Z13: =IFERROR(VLOOKUP($B13,'[1]DEN3.1'!$H$3:$S$112,10,FALSE),0) -> 10 | AA13: =IFERROR(VLOOKUP($B13,'[1]DEN3.1'!$H$3:$S$112,11,FALSE),0) -> 8 | AD13: =SUM(R13:AC13) -> 92
A14: 04101-LA SERENA | B14: 105302-CES. PEDRO AGUIRRE C. | E14: =IFERROR(VLOOKUP($B14,'[1]NUM3.1'!$H$3:$S$112,2,FALSE),0) -> 6 | F14: =IFERROR(VLOOKUP($B14,'[1]NUM3.1'!$H$3:$S$112,3,FALSE),0) -> 3 | G14: =IFERROR(VLOOKUP($B14,'[1]NUM3.1'!$H$3:$S$112,4,FALSE),0) -> 6 | H14: =IFERROR(VLOOKUP($B14,'[1]NUM3.1'!$H$3:$S$112,5,FALSE),0) -> 2 | I14: =IFERROR(VLOOKUP($B14,'[1]NUM3.1'!$H$3:$S$112,6,FALSE),0) -> 8 | J14: =IFERROR(VLOOKUP($B14,'[1]NUM3.1'!$H$3:$S$112,7,FALSE),0) -> 4 | K14: =IFERROR(VLOOKUP($B14,'[1]NUM3.1'!$H$3:$S$112,8,FALSE),0) -> 5 | L14: =IFERROR(VLOOKUP($B14,'[1]NUM3.1'!$H$3:$S$112,9,FALSE),0) -> 4 | M14: =IFERROR(VLOOKUP($B14,'[1]NUM3.1'!$H$3:$S$112,10,FALSE),0) -> 3 | N14: =IFERROR(VLOOKUP($B14,'[1]NUM3.1'!$H$3:$S$112,11,FALSE),0) -> 2 | Q14: =SUM(E14:P14) -> 43 | R14: =IFERROR(VLOOKUP($B14,'[1]DEN3.1'!$H$3:$S$112,2,FALSE),0) -> 6 | S14: =IFERROR(VLOOKUP($B14,'[1]DEN3.1'!$H$3:$S$112,3,FALSE),0) -> 3 | T14: =IFERROR(VLOOKUP($B14,'[1]DEN3.1'!$H$3:$S$112,4,FALSE),0) -> 6 | U14: =IFERROR(VLOOKUP($B14,'[1]DEN3.1'!$H$3:$S$112,5,FALSE),0) -> 2 | V14: =IFERROR(VLOOKUP($B14,'[1]DEN3.1'!$H$3:$S$112,6,FALSE),0) -> 8 | W14: =IFERROR(VLOOKUP($B14,'[1]DEN3.1'!$H$3:$S$112,7,FALSE),0) -> 4 | X14: =IFERROR(VLOOKUP($B14,'[1]DEN3.1'!$H$3:$S$112,8,FALSE),0) -> 5 | Y14: =IFERROR(VLOOKUP($B14,'[1]DEN3.1'!$H$3:$S$112,9,FALSE),0) -> 4 | Z14: =IFERROR(VLOOKUP($B14,'[1]DEN3.1'!$H$3:$S$112,10,FALSE),0) -> 3 | AA14: =IFERROR(VLOOKUP($B14,'[1]DEN3.1'!$H$3:$S$112,11,FALSE),0) -> 2 | AD14: =SUM(R14:AC14) -> 43
A15: 04101-LA SERENA | B15: 105313-CES. SCHAFFHAUSER | E15: =IFERROR(VLOOKUP($B15,'[1]NUM3.1'!$H$3:$S$112,2,FALSE),0) -> 9 | F15: =IFERROR(VLOOKUP($B15,'[1]NUM3.1'!$H$3:$S$112,3,FALSE),0) -> 2 | G15: =IFERROR(VLOOKUP($B15,'[1]NUM3.1'!$H$3:$S$112,4,FALSE),0) -> 5 | H15: =IFERROR(VLOOKUP($B15,'[1]NUM3.1'!$H$3:$S$112,5,FALSE),0) -> 10 | I15: =IFERROR(VLOOKUP($B15,'[1]NUM3.1'!$H$3:$S$112,6,FALSE),0) -> 6 | J15: =IFERROR(VLOOKUP($B15,'[1]NUM3.1'!$H$3:$S$112,7,FALSE),0) -> 13 | K15: =IFERROR(VLOOKUP($B15,'[1]NUM3.1'!$H$3:$S$112,8,FALSE),0) -> 4 | L15: =IFERROR(VLOOKUP($B15,'[1]NUM3.1'!$H$3:$S$112,9,FALSE),0) -> 5 | M15: =IFERROR(VLOOKUP($B15,'[1]NUM3.1'!$H$3:$S$112,10,FALSE),0) -> 7 | N15: =IFERROR(VLOOKUP($B15,'[1]NUM3.1'!$H$3:$S$112,11,FALSE),0) -> 6 | Q15: =SUM(E15:P15) -> 67 | R15: =IFERROR(VLOOKUP($B15,'[1]DEN3.1'!$H$3:$S$112,2,FALSE),0) -> 9 | S15: =IFERROR(VLOOKUP($B15,'[1]DEN3.1'!$H$3:$S$112,3,FALSE),0) -> 2 | T15: =IFERROR(VLOOKUP($B15,'[1]DEN3.1'!$H$3:$S$112,4,FALSE),0) -> 5 | U15: =IFERROR(VLOOKUP($B15,'[1]DEN3.1'!$H$3:$S$112,5,FALSE),0) -> 10 | V15: =IFERROR(VLOOKUP($B15,'[1]DEN3.1'!$H$3:$S$112,6,FALSE),0) -> 6 | W15: =IFERROR(VLOOKUP($B15,'[1]DEN3.1'!$H$3:$S$112,7,FALSE),0) -> 13 | X15: =IFERROR(VLOOKUP($B15,'[1]DEN3.1'!$H$3:$S$112,8,FALSE),0) -> 4 | Y15: =IFERROR(VLOOKUP($B15,'[1]DEN3.1'!$H$3:$S$112,9,FALSE),0) -> 5 | Z15: =IFERROR(VLOOKUP($B15,'[1]DEN3.1'!$H$3:$S$112,10,FALSE),0) -> 7 | AA15: =IFERROR(VLOOKUP($B15,'[1]DEN3.1'!$H$3:$S$112,11,FALSE),0) -> 6 | AD15: =SUM(R15:AC15) -> 67
A16: 04101-LA SERENA | B16: 105319-CES. CARDENAL R.S.H. | E16: =IFERROR(VLOOKUP($B16,'[1]NUM3.1'!$H$3:$S$112,2,FALSE),0) -> 4 | F16: =IFERROR(VLOOKUP($B16,'[1]NUM3.1'!$H$3:$S$112,3,FALSE),0) -> 2 | G16: =IFERROR(VLOOKUP($B16,'[1]NUM3.1'!$H$3:$S$112,4,FALSE),0) -> 5 | H16: =IFERROR(VLOOKUP($B16,'[1]NUM3.1'!$H$3:$S$112,5,FALSE),0) -> 2 | I16: =IFERROR(VLOOKUP($B16,'[1]NUM3.1'!$H$3:$S$112,6,FALSE),0) -> 9 | J16: =IFERROR(VLOOKUP($B16,'[1]NUM3.1'!$H$3:$S$112,7,FALSE),0) -> 4 | K16: =IFERROR(VLOOKUP($B16,'[1]NUM3.1'!$H$3:$S$112,8,FALSE),0) -> 4 | L16: =IFERROR(VLOOKUP($B16,'[1]NUM3.1'!$H$3:$S$112,9,FALSE),0) -> 4 | M16: =IFERROR(VLOOKUP($B16,'[1]NUM3.1'!$H$3:$S$112,10,FALSE),0) -> 3 | N16: =IFERROR(VLOOKUP($B16,'[1]NUM3.1'!$H$3:$S$112,11,FALSE),0) -> 12 | Q16: =SUM(E16:P16) -> 49 | R16: =IFERROR(VLOOKUP($B16,'[1]DEN3.1'!$H$3:$S$112,2,FALSE),0) -> 4 | S16: =IFERROR(VLOOKUP($B16,'[1]DEN3.1'!$H$3:$S$112,3,FALSE),0) -> 2 | T16: =IFERROR(VLOOKUP($B16,'[1]DEN3.1'!$H$3:$S$112,4,FALSE),0) -> 5 | U16: =IFERROR(VLOOKUP($B16,'[1]DEN3.1'!$H$3:$S$112,5,FALSE),0) -> 2 | V16: =IFERROR(VLOOKUP($B16,'[1]DEN3.1'!$H$3:$S$112,6,FALSE),0) -> 9 | W16: =IFERROR(VLOOKUP($B16,'[1]DEN3.1'!$H$3:$S$112,7,FALSE),0) -> 4 | X16: =IFERROR(VLOOKUP($B16,'[1]DEN3.1'!$H$3:$S$112,8,FALSE),0) -> 4 | Y16: =IFERROR(VLOOKUP($B16,'[1]DEN3.1'!$H$3:$S$112,9,FALSE),0) -> 4 | Z16: =IFERROR(VLOOKUP($B16,'[1]DEN3.1'!$H$3:$S$112,10,FALSE),0) -> 3 | AA16: =IFERROR(VLOOKUP($B16,'[1]DEN3.1'!$H$3:$S$112,11,FALSE),0) -> 12 | AD16: =SUM(R16:AC16) -> 49
A17: 04101-LA SERENA | B17: 105325-CESFAM JUAN PABLO II | E17: =IFERROR(VLOOKUP($B17,'[1]NUM3.1'!$H$3:$S$112,2,FALSE),0) -> 8 | F17: =IFERROR(VLOOKUP($B17,'[1]NUM3.1'!$H$3:$S$112,3,FALSE),0) -> 5 | G17: =IFERROR(VLOOKUP($B17,'[1]NUM3.1'!$H$3:$S$112,4,FALSE),0) -> 3 | H17: =IFERROR(VLOOKUP($B17,'[1]NUM3.1'!$H$3:$S$112,5,FALSE),0) -> 12 | I17: =IFERROR(VLOOKUP($B17,'[1]NUM3.1'!$H$3:$S$112,6,FALSE),0) -> 12 | J17: =IFERROR(VLOOKUP($B17,'[1]NUM3.1'!$H$3:$S$112,7,FALSE),0) -> 3 | K17: =IFERROR(VLOOKUP($B17,'[1]NUM3.1'!$H$3:$S$112,8,FALSE),0) -> 4 | L17: =IFERROR(VLOOKUP($B17,'[1]NUM3.1'!$H$3:$S$112,9,FALSE),0) -> 4 | M17: =IFERROR(VLOOKUP($B17,'[1]NUM3.1'!$H$3:$S$112,10,FALSE),0) -> 6 | N17: =IFERROR(VLOOKUP($B17,'[1]NUM3.1'!$H$3:$S$112,11,FALSE),0) -> 9 | Q17: =SUM(E17:P17) -> 66 | R17: =IFERROR(VLOOKUP($B17,'[1]DEN3.1'!$H$3:$S$112,2,FALSE),0) -> 8 | S17: =IFERROR(VLOOKUP($B17,'[1]DEN3.1'!$H$3:$S$112,3,FALSE),0) -> 5 | T17: =IFERROR(VLOOKUP($B17,'[1]DEN3.1'!$H$3:$S$112,4,FALSE),0) -> 3 | U17: =IFERROR(VLOOKUP($B17,'[1]DEN3.1'!$H$3:$S$112,5,FALSE),0) -> 12 | V17: =IFERROR(VLOOKUP($B17,'[1]DEN3.1'!$H$3:$S$112,6,FALSE),0) -> 12 | W17: =IFERROR(VLOOKUP($B17,'[1]DEN3.1'!$H$3:$S$112,7,FALSE),0) -> 3 | X17: =IFERROR(VLOOKUP($B17,'[1]DEN3.1'!$H$3:$S$112,8,FALSE),0) -> 4 | Y17: =IFERROR(VLOOKUP($B17,'[1]DEN3.1'!$H$3:$S$112,9,FALSE),0) -> 4 | Z17: =IFERROR(VLOOKUP($B17,'[1]DEN3.1'!$H$3:$S$112,10,FALSE),0) -> 6 | AA17: =IFERROR(VLOOKUP($B17,'[1]DEN3.1'!$H$3:$S$112,11,FALSE),0) -> 9 | AD17: =SUM(R17:AC17) -> 66
A18: 04101-LA SERENA | B18: 105400-P.S.R. ALGARROBITO | E18: =IFERROR(VLOOKUP($B18,'[1]NUM3.1'!$H$3:$S$112,2,FALSE),0) -> 0 | F18: =IFERROR(VLOOKUP($B18,'[1]NUM3.1'!$H$3:$S$112,3,FALSE),0) -> 0 | G18: =IFERROR(VLOOKUP($B18,'[1]NUM3.1'!$H$3:$S$112,4,FALSE),0) -> 0 | H18: =IFERROR(VLOOKUP($B18,'[1]NUM3.1'!$H$3:$S$112,5,FALSE),0) -> 0 | I18: =IFERROR(VLOOKUP($B18,'[1]NUM3.1'!$H$3:$S$112,6,FALSE),0) -> 0 | J18: =IFERROR(VLOOKUP($B18,'[1]NUM3.1'!$H$3:$S$112,7,FALSE),0) -> 1 | K18: =IFERROR(VLOOKUP($B18,'[1]NUM3.1'!$H$3:$S$112,8,FALSE),0) -> 2 | L18: =IFERROR(VLOOKUP($B18,'[1]NUM3.1'!$H$3:$S$112,9,FALSE),0) -> 1 | M18: =IFERROR(VLOOKUP($B18,'[1]NUM3.1'!$H$3:$S$112,10,FALSE),0) -> 0 | N18: =IFERROR(VLOOKUP($B18,'[1]NUM3.1'!$H$3:$S$112,11,FALSE),0) -> 0 | Q18: =SUM(E18:P18) -> 4 | R18: =IFERROR(VLOOKUP($B18,'[1]DEN3.1'!$H$3:$S$112,2,FALSE),0) -> 0 | S18: =IFERROR(VLOOKUP($B18,'[1]DEN3.1'!$H$3:$S$112,3,FALSE),0) -> 0 | T18: =IFERROR(VLOOKUP($B18,'[1]DEN3.1'!$H$3:$S$112,4,FALSE),0) -> 0 | U18: =IFERROR(VLOOKUP($B18,'[1]DEN3.1'!$H$3:$S$112,5,FALSE),0) -> 0 | V18: =IFERROR(VLOOKUP($B18,'[1]DEN3.1'!$H$3:$S$112,6,FALSE),0) -> 0 | W18: =IFERROR(VLOOKUP($B18,'[1]DEN3.1'!$H$3:$S$112,7,FALSE),0) -> 1 | X18: =IFERROR(VLOOKUP($B18,'[1]DEN3.1'!$H$3:$S$112,8,FALSE),0) -> 2 | Y18: =IFERROR(VLOOKUP($B18,'[1]DEN3.1'!$H$3:$S$112,9,FALSE),0) -> 1 | Z18: =IFERROR(VLOOKUP($B18,'[1]DEN3.1'!$H$3:$S$112,10,FALSE),0) -> 0 | AA18: =IFERROR(VLOOKUP($B18,'[1]DEN3.1'!$H$3:$S$112,11,FALSE),0) -> 0 | AD18: =SUM(R18:AC18) -> 4
A19: 04101-LA SERENA | B19: 105401-P.S.R. LAS ROJAS | E19: =IFERROR(VLOOKUP($B19,'[1]NUM3.1'!$H$3:$S$112,2,FALSE),0) -> 0 | F19: =IFERROR(VLOOKUP($B19,'[1]NUM3.1'!$H$3:$S$112,3,FALSE),0) -> 0 | G19: =IFERROR(VLOOKUP($B19,'[1]NUM3.1'!$H$3:$S$112,4,FALSE),0) -> 0 | H19: =IFERROR(VLOOKUP($B19,'[1]NUM3.1'!$H$3:$S$112,5,FALSE),0) -> 0 | I19: =IFERROR(VLOOKUP($B19,'[1]NUM3.1'!$H$3:$S$112,6,FALSE),0) -> 0 | J19: =IFERROR(VLOOKUP($B19,'[1]NUM3.1'!$H$3:$S$112,7,FALSE),0) -> 0 | K19: =IFERROR(VLOOKUP($B19,'[1]NUM3.1'!$H$3:$S$112,8,FALSE),0) -> 0 | L19: =IFERROR(VLOOKUP($B19,'[1]NUM3.1'!$H$3:$S$112,9,FALSE),0) -> 0 | M19: =IFERROR(VLOOKUP($B19,'[1]NUM3.1'!$H$3:$S$112,10,FALSE),0) -> 0 | N19: =IFERROR(VLOOKUP($B19,'[1]NUM3.1'!$H$3:$S$112,11,FALSE),0) -> 0 | Q19: =SUM(E19:P19) -> 0 | R19: =IFERROR(VLOOKUP($B19,'[1]DEN3.1'!$H$3:$S$112,2,FALSE),0) -> 0 | S19: =IFERROR(VLOOKUP($B19,'[1]DEN3.1'!$H$3:$S$112,3,FALSE),0) -> 0 | T19: =IFERROR(VLOOKUP($B19,'[1]DEN3.1'!$H$3:$S$112,4,FALSE),0) -> 0 | U19: =IFERROR(VLOOKUP($B19,'[1]DEN3.1'!$H$3:$S$112,5,FALSE),0) -> 0 | V19: =IFERROR(VLOOKUP($B19,'[1]DEN3.1'!$H$3:$S$112,6,FALSE),0) -> 0 | W19: =IFERROR(VLOOKUP($B19,'[1]DEN3.1'!$H$3:$S$112,7,FALSE),0) -> 0 | X19: =IFERROR(VLOOKUP($B19,'[1]DEN3.1'!$H$3:$S$112,8,FALSE),0) -> 0 | Y19: =IFERROR(VLOOKUP($B19,'[1]DEN3.1'!$H$3:$S$112,9,FALSE),0) -> 0 | Z19: =IFERROR(VLOOKUP($B19,'[1]DEN3.1'!$H$3:$S$112,10,FALSE),0) -> 0 | AA19: =IFERROR(VLOOKUP($B19,'[1]DEN3.1'!$H$3:$S$112,11,FALSE),0) -> 0 | AD19: =SUM(R19:AC19) -> 0
A20: 04101-LA SERENA | B20: 105402-P.S.R. EL ROMERO | E20: =IFERROR(VLOOKUP($B20,'[1]NUM3.1'!$H$3:$S$112,2,FALSE),0) -> 0 | F20: =IFERROR(VLOOKUP($B20,'[1]NUM3.1'!$H$3:$S$112,3,FALSE),0) -> 0 | G20: =IFERROR(VLOOKUP($B20,'[1]NUM3.1'!$H$3:$S$112,4,FALSE),0) -> 0 | H20: =IFERROR(VLOOKUP($B20,'[1]NUM3.1'!$H$3:$S$112,5,FALSE),0) -> 0 | I20: =IFERROR(VLOOKUP($B20,'[1]NUM3.1'!$H$3:$S$112,6,FALSE),0) -> 0 | J20: =IFERROR(VLOOKUP($B20,'[1]NUM3.1'!$H$3:$S$112,7,FALSE),0) -> 0 | K20: =IFERROR(VLOOKUP($B20,'[1]NUM3.1'!$H$3:$S$112,8,FALSE),0) -> 1 | L20: =IFERROR(VLOOKUP($B20,'[1]NUM3.1'!$H$3:$S$112,9,FALSE),0) -> 0 | M20: =IFERROR(VLOOKUP($B20,'[1]NUM3.1'!$H$3:$S$112,10,FALSE),0) -> 0 | N20: =IFERROR(VLOOKUP($B20,'[1]NUM3.1'!$H$3:$S$112,11,FALSE),0) -> 1 | Q20: =SUM(E20:P20) -> 2 | R20: =IFERROR(VLOOKUP($B20,'[1]DEN3.1'!$H$3:$S$112,2,FALSE),0) -> 0 | S20: =IFERROR(VLOOKUP($B20,'[1]DEN3.1'!$H$3:$S$112,3,FALSE),0) -> 0 | T20: =IFERROR(VLOOKUP($B20,'[1]DEN3.1'!$H$3:$S$112,4,FALSE),0) -> 0 | U20: =IFERROR(VLOOKUP($B20,'[1]DEN3.1'!$H$3:$S$112,5,FALSE),0) -> 0 | V20: =IFERROR(VLOOKUP($B20,'[1]DEN3.1'!$H$3:$S$112,6,FALSE),0) -> 0 | W20: =IFERROR(VLOOKUP($B20,'[1]DEN3.1'!$H$3:$S$112,7,FALSE),0) -> 0 | X20: =IFERROR(VLOOKUP($B20,'[1]DEN3.1'!$H$3:$S$112,8,FALSE),0) -> 1 | Y20: =IFERROR(VLOOKUP($B20,'[1]DEN3.1'!$H$3:$S$112,9,FALSE),0) -> 0 | Z20: =IFERROR(VLOOKUP($B20,'[1]DEN3.1'!$H$3:$S$112,10,FALSE),0) -> 0 | AA20: =IFERROR(VLOOKUP($B20,'[1]DEN3.1'!$H$3:$S$112,11,FALSE),0) -> 1 | AD20: =SUM(R20:AC20) -> 2
A21: 04101-LA SERENA | B21: 105499-P.S.R. LAMBERT | E21: =IFERROR(VLOOKUP($B21,'[1]NUM3.1'!$H$3:$S$112,2,FALSE),0) -> 0 | F21: =IFERROR(VLOOKUP($B21,'[1]NUM3.1'!$H$3:$S$112,3,FALSE),0) -> 0 | G21: =IFERROR(VLOOKUP($B21,'[1]NUM3.1'!$H$3:$S$112,4,FALSE),0) -> 0 | H21: =IFERROR(VLOOKUP($B21,'[1]NUM3.1'!$H$3:$S$112,5,FALSE),0) -> 0 | I21: =IFERROR(VLOOKUP($B21,'[1]NUM3.1'!$H$3:$S$112,6,FALSE),0) -> 0 | J21: =IFERROR(VLOOKUP($B21,'[1]NUM3.1'!$H$3:$S$112,7,FALSE),0) -> 0 | K21: =IFERROR(VLOOKUP($B21,'[1]NUM3.1'!$H$3:$S$112,8,FALSE),0) -> 0 | L21: =IFERROR(VLOOKUP($B21,'[1]NUM3.1'!$H$3:$S$112,9,FALSE),0) -> 0 | M21: =IFERROR(VLOOKUP($B21,'[1]NUM3.1'!$H$3:$S$112,10,FALSE),0) -> 0 | N21: =IFERROR(VLOOKUP($B21,'[1]NUM3.1'!$H$3:$S$112,11,FALSE),0) -> 1 | Q21: =SUM(E21:P21) -> 1 | R21: =IFERROR(VLOOKUP($B21,'[1]DEN3.1'!$H$3:$S$112,2,FALSE),0) -> 0 | S21: =IFERROR(VLOOKUP($B21,'[1]DEN3.1'!$H$3:$S$112,3,FALSE),0) -> 0 | T21: =IFERROR(VLOOKUP($B21,'[1]DEN3.1'!$H$3:$S$112,4,FALSE),0) -> 0 | U21: =IFERROR(VLOOKUP($B21,'[1]DEN3.1'!$H$3:$S$112,5,FALSE),0) -> 0 | V21: =IFERROR(VLOOKUP($B21,'[1]DEN3.1'!$H$3:$S$112,6,FALSE),0) -> 0 | W21: =IFERROR(VLOOKUP($B21,'[1]DEN3.1'!$H$3:$S$112,7,FALSE),0) -> 0 | X21: =IFERROR(VLOOKUP($B21,'[1]DEN3.1'!$H$3:$S$112,8,FALSE),0) -> 0 | Y21: =IFERROR(VLOOKUP($B21,'[1]DEN3.1'!$H$3:$S$112,9,FALSE),0) -> 0 | Z21: =IFERROR(VLOOKUP($B21,'[1]DEN3.1'!$H$3:$S$112,10,FALSE),0) -> 0 | AA21: =IFERROR(VLOOKUP($B21,'[1]DEN3.1'!$H$3:$S$112,11,FALSE),0) -> 1 | AD21: =SUM(R21:AC21) -> 1
A22: 04101-LA SERENA | B22: 105700-CECOF VILLA EL INDIO | E22: =IFERROR(VLOOKUP($B22,'[1]NUM3.1'!$H$3:$S$112,2,FALSE),0) -> 0 | F22: =IFERROR(VLOOKUP($B22,'[1]NUM3.1'!$H$3:$S$112,3,FALSE),0) -> 1 | G22: =IFERROR(VLOOKUP($B22,'[1]NUM3.1'!$H$3:$S$112,4,FALSE),0) -> 0 | H22: =IFERROR(VLOOKUP($B22,'[1]NUM3.1'!$H$3:$S$112,5,FALSE),0) -> 2 | I22: =IFERROR(VLOOKUP($B22,'[1]NUM3.1'!$H$3:$S$112,6,FALSE),0) -> 2 | J22: =IFERROR(VLOOKUP($B22,'[1]NUM3.1'!$H$3:$S$112,7,FALSE),0) -> 0 | K22: =IFERROR(VLOOKUP($B22,'[1]NUM3.1'!$H$3:$S$112,8,FALSE),0) -> 0 | L22: =IFERROR(VLOOKUP($B22,'[1]NUM3.1'!$H$3:$S$112,9,FALSE),0) -> 0 | M22: =IFERROR(VLOOKUP($B22,'[1]NUM3.1'!$H$3:$S$112,10,FALSE),0) -> 0 | N22: =IFERROR(VLOOKUP($B22,'[1]NUM3.1'!$H$3:$S$112,11,FALSE),0) -> 0 | Q22: =SUM(E22:P22) -> 5 | R22: =IFERROR(VLOOKUP($B22,'[1]DEN3.1'!$H$3:$S$112,2,FALSE),0) -> 0 | S22: =IFERROR(VLOOKUP($B22,'[1]DEN3.1'!$H$3:$S$112,3,FALSE),0) -> 1 | T22: =IFERROR(VLOOKUP($B22,'[1]DEN3.1'!$H$3:$S$112,4,FALSE),0) -> 0 | U22: =IFERROR(VLOOKUP($B22,'[1]DEN3.1'!$H$3:$S$112,5,FALSE),0) -> 2 | V22: =IFERROR(VLOOKUP($B22,'[1]DEN3.1'!$H$3:$S$112,6,FALSE),0) -> 2 | W22: =IFERROR(VLOOKUP($B22,'[1]DEN3.1'!$H$3:$S$112,7,FALSE),0) -> 0 | X22: =IFERROR(VLOOKUP($B22,'[1]DEN3.1'!$H$3:$S$112,8,FALSE),0) -> 0 | Y22: =IFERROR(VLOOKUP($B22,'[1]DEN3.1'!$H$3:$S$112,9,FALSE),0) -> 0 | Z22: =IFERROR(VLOOKUP($B22,'[1]DEN3.1'!$H$3:$S$112,10,FALSE),0) -> 0 | AA22: =IFERROR(VLOOKUP($B22,'[1]DEN3.1'!$H$3:$S$112,11,FALSE),0) -> 0 | AD22: =SUM(R22:AC22) -> 5
A23: 04101-LA SERENA | B23: 105701-CECOF VILLA ALEMANIA | E23: =IFERROR(VLOOKUP($B23,'[1]NUM3.1'!$H$3:$S$112,2,FALSE),0) -> 0 | F23: =IFERROR(VLOOKUP($B23,'[1]NUM3.1'!$H$3:$S$112,3,FALSE),0) -> 0 | G23: =IFERROR(VLOOKUP($B23,'[1]NUM3.1'!$H$3:$S$112,4,FALSE),0) -> 0 | H23: =IFERROR(VLOOKUP($B23,'[1]NUM3.1'!$H$3:$S$112,5,FALSE),0) -> 0 | I23: =IFERROR(VLOOKUP($B23,'[1]NUM3.1'!$H$3:$S$112,6,FALSE),0) -> 0 | J23: =IFERROR(VLOOKUP($B23,'[1]NUM3.1'!$H$3:$S$112,7,FALSE),0) -> 1 | K23: =IFERROR(VLOOKUP($B23,'[1]NUM3.1'!$H$3:$S$112,8,FALSE),0) -> 1 | L23: =IFERROR(VLOOKUP($B23,'[1]NUM3.1'!$H$3:$S$112,9,FALSE),0) -> 0 | M23: =IFERROR(VLOOKUP($B23,'[1]NUM3.1'!$H$3:$S$112,10,FALSE),0) -> 0 | N23: =IFERROR(VLOOKUP($B23,'[1]NUM3.1'!$H$3:$S$112,11,FALSE),0) -> 0 | Q23: =SUM(E23:P23) -> 2 | R23: =IFERROR(VLOOKUP($B23,'[1]DEN3.1'!$H$3:$S$112,2,FALSE),0) -> 0 | S23: =IFERROR(VLOOKUP($B23,'[1]DEN3.1'!$H$3:$S$112,3,FALSE),0) -> 0 | T23: =IFERROR(VLOOKUP($B23,'[1]DEN3.1'!$H$3:$S$112,4,FALSE),0) -> 0 | U23: =IFERROR(VLOOKUP($B23,'[1]DEN3.1'!$H$3:$S$112,5,FALSE),0) -> 0 | V23: =IFERROR(VLOOKUP($B23,'[1]DEN3.1'!$H$3:$S$112,6,FALSE),0) -> 0 | W23: =IFERROR(VLOOKUP($B23,'[1]DEN3.1'!$H$3:$S$112,7,FALSE),0) -> 1 | X23: =IFERROR(VLOOKUP($B23,'[1]DEN3.1'!$H$3:$S$112,8,FALSE),0) -> 1 | Y23: =IFERROR(VLOOKUP($B23,'[1]DEN3.1'!$H$3:$S$112,9,FALSE),0) -> 0 | Z23: =IFERROR(VLOOKUP($B23,'[1]DEN3.1'!$H$3:$S$112,10,FALSE),0) -> 0 | AA23: =IFERROR(VLOOKUP($B23,'[1]DEN3.1'!$H$3:$S$112,11,FALSE),0) -> 0 | AD23: =SUM(R23:AC23) -> 2
A24: 04101-LA SERENA | B24: 105702-CECOF VILLA LAMBERT | E24: =IFERROR(VLOOKUP($B24,'[1]NUM3.1'!$H$3:$S$112,2,FALSE),0) -> 1 | F24: =IFERROR(VLOOKUP($B24,'[1]NUM3.1'!$H$3:$S$112,3,FALSE),0) -> 0 | G24: =IFERROR(VLOOKUP($B24,'[1]NUM3.1'!$H$3:$S$112,4,FALSE),0) -> 0 | H24: =IFERROR(VLOOKUP($B24,'[1]NUM3.1'!$H$3:$S$112,5,FALSE),0) -> 0 | I24: =IFERROR(VLOOKUP($B24,'[1]NUM3.1'!$H$3:$S$112,6,FALSE),0) -> 0 | J24: =IFERROR(VLOOKUP($B24,'[1]NUM3.1'!$H$3:$S$112,7,FALSE),0) -> 0 | K24: =IFERROR(VLOOKUP($B24,'[1]NUM3.1'!$H$3:$S$112,8,FALSE),0) -> 0 | L24: =IFERROR(VLOOKUP($B24,'[1]NUM3.1'!$H$3:$S$112,9,FALSE),0) -> 0 | M24: =IFERROR(VLOOKUP($B24,'[1]NUM3.1'!$H$3:$S$112,10,FALSE),0) -> 0 | N24: =IFERROR(VLOOKUP($B24,'[1]NUM3.1'!$H$3:$S$112,11,FALSE),0) -> 0 | Q24: =SUM(E24:P24) -> 1 | R24: =IFERROR(VLOOKUP($B24,'[1]DEN3.1'!$H$3:$S$112,2,FALSE),0) -> 1 | S24: =IFERROR(VLOOKUP($B24,'[1]DEN3.1'!$H$3:$S$112,3,FALSE),0) -> 0 | T24: =IFERROR(VLOOKUP($B24,'[1]DEN3.1'!$H$3:$S$112,4,FALSE),0) -> 0 | U24: =IFERROR(VLOOKUP($B24,'[1]DEN3.1'!$H$3:$S$112,5,FALSE),0) -> 0 | V24: =IFERROR(VLOOKUP($B24,'[1]DEN3.1'!$H$3:$S$112,6,FALSE),0) -> 0 | W24: =IFERROR(VLOOKUP($B24,'[1]DEN3.1'!$H$3:$S$112,7,FALSE),0) -> 0 | X24: =IFERROR(VLOOKUP($B24,'[1]DEN3.1'!$H$3:$S$112,8,FALSE),0) -> 0 | Y24: =IFERROR(VLOOKUP($B24,'[1]DEN3.1'!$H$3:$S$112,9,FALSE),0) -> 0 | Z24: =IFERROR(VLOOKUP($B24,'[1]DEN3.1'!$H$3:$S$112,10,FALSE),0) -> 0 | AA24: =IFERROR(VLOOKUP($B24,'[1]DEN3.1'!$H$3:$S$112,11,FALSE),0) -> 0 | AD24: =SUM(R24:AC24) -> 1
A25: TOTAL LA SERENA | C25: =+D25/Metas!H89 -> 1.0201429 | D25: =+Q25/AD25 -> 1 | E25: =SUM(E12:E24) -> 57 | F25: =SUM(F12:F24) -> 50 | G25: =SUM(G12:G24) -> 73 | H25: =SUM(H12:H24) -> 52 | I25: =SUM(I12:I24) -> 48 | J25: =SUM(J12:J24) -> 84 | K25: =SUM(K12:K24) -> 78 | L25: =SUM(L12:L24) -> 49 | ... AD25: =SUM(AD12:AD24) -> 605
A26: 04102-COQUIMBO | B26: 105303-CES. SAN JUAN | E26: =IFERROR(VLOOKUP($B26,'[1]NUM3.1'!$H$3:$S$112,2,FALSE),0) -> 7 | F26: =IFERROR(VLOOKUP($B26,'[1]NUM3.1'!$H$3:$S$112,3,FALSE),0) -> 5 | G26: =IFERROR(VLOOKUP($B26,'[1]NUM3.1'!$H$3:$S$112,4,FALSE),0) -> 15 | H26: =IFERROR(VLOOKUP($B26,'[1]NUM3.1'!$H$3:$S$112,5,FALSE),0) -> 21 | I26: =IFERROR(VLOOKUP($B26,'[1]NUM3.1'!$H$3:$S$112,6,FALSE),0) -> 0 | J26: =IFERROR(VLOOKUP($B26,'[1]NUM3.1'!$H$3:$S$112,7,FALSE),0) -> 7 | K26: =IFERROR(VLOOKUP($B26,'[1]NUM3.1'!$H$3:$S$112,8,FALSE),0) -> 10 | L26: =IFERROR(VLOOKUP($B26,'[1]NUM3.1'!$H$3:$S$112,9,FALSE),0) -> 15 | M26: =IFERROR(VLOOKUP($B26,'[1]NUM3.1'!$H$3:$S$112,10,FALSE),0) -> 12 | N26: =IFERROR(VLOOKUP($B26,'[1]NUM3.1'!$H$3:$S$112,11,FALSE),0) -> 11 | Q26: =SUM(E26:P26) -> 103 | R26: =IFERROR(VLOOKUP($B26,'[1]DEN3.1'!$H$3:$S$112,2,FALSE),0) -> 7 | S26: =IFERROR(VLOOKUP($B26,'[1]DEN3.1'!$H$3:$S$112,3,FALSE),0) -> 5 | T26: =IFERROR(VLOOKUP($B26,'[1]DEN3.1'!$H$3:$S$112,4,FALSE),0) -> 15 | U26: =IFERROR(VLOOKUP($B26,'[1]DEN3.1'!$H$3:$S$112,5,FALSE),0) -> 21 | V26: =IFERROR(VLOOKUP($B26,'[1]DEN3.1'!$H$3:$S$112,6,FALSE),0) -> 0 | W26: =IFERROR(VLOOKUP($B26,'[1]DEN3.1'!$H$3:$S$112,7,FALSE),0) -> 7 | X26: =IFERROR(VLOOKUP($B26,'[1]DEN3.1'!$H$3:$S$112,8,FALSE),0) -> 10 | Y26: =IFERROR(VLOOKUP($B26,'[1]DEN3.1'!$H$3:$S$112,9,FALSE),0) -> 15 | Z26: =IFERROR(VLOOKUP($B26,'[1]DEN3.1'!$H$3:$S$112,10,FALSE),0) -> 12 | AA26: =IFERROR(VLOOKUP($B26,'[1]DEN3.1'!$H$3:$S$112,11,FALSE),0) -> 11 | AD26: =SUM(R26:AC26) -> 103
A27: 04102-COQUIMBO | B27: 105304-CES. SANTA CECILIA | E27: =IFERROR(VLOOKUP($B27,'[1]NUM3.1'!$H$3:$S$112,2,FALSE),0) -> 11 | F27: =IFERROR(VLOOKUP($B27,'[1]NUM3.1'!$H$3:$S$112,3,FALSE),0) -> 5 | G27: =IFERROR(VLOOKUP($B27,'[1]NUM3.1'!$H$3:$S$112,4,FALSE),0) -> 11 | H27: =IFERROR(VLOOKUP($B27,'[1]NUM3.1'!$H$3:$S$112,5,FALSE),0) -> 10 | I27: =IFERROR(VLOOKUP($B27,'[1]NUM3.1'!$H$3:$S$112,6,FALSE),0) -> 17 | J27: =IFERROR(VLOOKUP($B27,'[1]NUM3.1'!$H$3:$S$112,7,FALSE),0) -> 10 | K27: =IFERROR(VLOOKUP($B27,'[1]NUM3.1'!$H$3:$S$112,8,FALSE),0) -> 13 | L27: =IFERROR(VLOOKUP($B27,'[1]NUM3.1'!$H$3:$S$112,9,FALSE),0) -> 11 | M27: =IFERROR(VLOOKUP($B27,'[1]NUM3.1'!$H$3:$S$112,10,FALSE),0) -> 10 | N27: =IFERROR(VLOOKUP($B27,'[1]NUM3.1'!$H$3:$S$112,11,FALSE),0) -> 8 | Q27: =SUM(E27:P27) -> 106 | R27: =IFERROR(VLOOKUP($B27,'[1]DEN3.1'!$H$3:$S$112,2,FALSE),0) -> 11 | S27: =IFERROR(VLOOKUP($B27,'[1]DEN3.1'!$H$3:$S$112,3,FALSE),0) -> 5 | T27: =IFERROR(VLOOKUP($B27,'[1]DEN3.1'!$H$3:$S$112,4,FALSE),0) -> 11 | U27: =IFERROR(VLOOKUP($B27,'[1]DEN3.1'!$H$3:$S$112,5,FALSE),0) -> 10 | V27: =IFERROR(VLOOKUP($B27,'[1]DEN3.1'!$H$3:$S$112,6,FALSE),0) -> 17 | W27: =IFERROR(VLOOKUP($B27,'[1]DEN3.1'!$H$3:$S$112,7,FALSE),0) -> 10 | X27: =IFERROR(VLOOKUP($B27,'[1]DEN3.1'!$H$3:$S$112,8,FALSE),0) -> 13 | Y27: =IFERROR(VLOOKUP($B27,'[1]DEN3.1'!$H$3:$S$112,9,FALSE),0) -> 11 | Z27: =IFERROR(VLOOKUP($B27,'[1]DEN3.1'!$H$3:$S$112,10,FALSE),0) -> 10 | AA27: =IFERROR(VLOOKUP($B27,'[1]DEN3.1'!$H$3:$S$112,11,FALSE),0) -> 8 | AD27: =SUM(R27:AC27) -> 106
A28: 04102-COQUIMBO | B28: 105305-CES. TIERRAS BLANCAS | E28: =IFERROR(VLOOKUP($B28,'[1]NUM3.1'!$H$3:$S$112,2,FALSE),0) -> 1 | F28: =IFERROR(VLOOKUP($B28,'[1]NUM3.1'!$H$3:$S$112,3,FALSE),0) -> 3 | G28: =IFERROR(VLOOKUP($B28,'[1]NUM3.1'!$H$3:$S$112,4,FALSE),0) -> 9 | H28: =IFERROR(VLOOKUP($B28,'[1]NUM3.1'!$H$3:$S$112,5,FALSE),0) -> 3 | I28: =IFERROR(VLOOKUP($B28,'[1]NUM3.1'!$H$3:$S$112,6,FALSE),0) -> 12 | J28: =IFERROR(VLOOKUP($B28,'[1]NUM3.1'!$H$3:$S$112,7,FALSE),0) -> 4 | K28: =IFERROR(VLOOKUP($B28,'[1]NUM3.1'!$H$3:$S$112,8,FALSE),0) -> 3 | L28: =IFERROR(VLOOKUP($B28,'[1]NUM3.1'!$H$3:$S$112,9,FALSE),0) -> 7 | M28: =IFERROR(VLOOKUP($B28,'[1]NUM3.1'!$H$3:$S$112,10,FALSE),0) -> 6 | N28: =IFERROR(VLOOKUP($B28,'[1]NUM3.1'!$H$3:$S$112,11,FALSE),0) -> 4 | Q28: =SUM(E28:P28) -> 52 | R28: =IFERROR(VLOOKUP($B28,'[1]DEN3.1'!$H$3:$S$112,2,FALSE),0) -> 1 | S28: =IFERROR(VLOOKUP($B28,'[1]DEN3.1'!$H$3:$S$112,3,FALSE),0) -> 3 | T28: =IFERROR(VLOOKUP($B28,'[1]DEN3.1'!$H$3:$S$112,4,FALSE),0) -> 9 | U28: =IFERROR(VLOOKUP($B28,'[1]DEN3.1'!$H$3:$S$112,5,FALSE),0) -> 3 | V28: =IFERROR(VLOOKUP($B28,'[1]DEN3.1'!$H$3:$S$112,6,FALSE),0) -> 12 | W28: =IFERROR(VLOOKUP($B28,'[1]DEN3.1'!$H$3:$S$112,7,FALSE),0) -> 4 | X28: =IFERROR(VLOOKUP($B28,'[1]DEN3.1'!$H$3:$S$112,8,FALSE),0) -> 3 | Y28: =IFERROR(VLOOKUP($B28,'[1]DEN3.1'!$H$3:$S$112,9,FALSE),0) -> 7 | Z28: =IFERROR(VLOOKUP($B28,'[1]DEN3.1'!$H$3:$S$112,10,FALSE),0) -> 6 | AA28: =IFERROR(VLOOKUP($B28,'[1]DEN3.1'!$H$3:$S$112,11,FALSE),0) -> 4 | AD28: =SUM(R28:AC28) -> 52
A29: 04102-COQUIMBO | B29: 105321-CES. RURAL TONGOY | E29: =IFERROR(VLOOKUP($B29,'[1]NUM3.1'!$H$3:$S$112,2,FALSE),0) -> 0 | F29: =IFERROR(VLOOKUP($B29,'[1]NUM3.1'!$H$3:$S$112,3,FALSE),0) -> 6 | G29: =IFERROR(VLOOKUP($B29,'[1]NUM3.1'!$H$3:$S$112,4,FALSE),0) -> 2 | H29: =IFERROR(VLOOKUP($B29,'[1]NUM3.1'!$H$3:$S$112,5,FALSE),0) -> 3 | I29: =IFERROR(VLOOKUP($B29,'[1]NUM3.1'!$H$3:$S$112,6,FALSE),0) -> 3 | J29: =IFERROR(VLOOKUP($B29,'[1]NUM3.1'!$H$3:$S$112,7,FALSE),0) -> 0 | K29: =IFERROR(VLOOKUP($B29,'[1]NUM3.1'!$H$3:$S$112,8,FALSE),0) -> 2 | L29: =IFERROR(VLOOKUP($B29,'[1]NUM3.1'!$H$3:$S$112,9,FALSE),0) -> 0 | M29: =IFERROR(VLOOKUP($B29,'[1]NUM3.1'!$H$3:$S$112,10,FALSE),0) -> 0 | N29: =IFERROR(VLOOKUP($B29,'[1]NUM3.1'!$H$3:$S$112,11,FALSE),0) -> 0 | Q29: =SUM(E29:P29) -> 16 | R29: =IFERROR(VLOOKUP($B29,'[1]DEN3.1'!$H$3:$S$112,2,FALSE),0) -> 0 | S29: =IFERROR(VLOOKUP($B29,'[1]DEN3.1'!$H$3:$S$112,3,FALSE),0) -> 6 | T29: =IFERROR(VLOOKUP($B29,'[1]DEN3.1'!$H$3:$S$112,4,FALSE),0) -> 2 | U29: =IFERROR(VLOOKUP($B29,'[1]DEN3.1'!$H$3:$S$112,5,FALSE),0) -> 3 | V29: =IFERROR(VLOOKUP($B29,'[1]DEN3.1'!$H$3:$S$112,6,FALSE),0) -> 3 | W29: =IFERROR(VLOOKUP($B29,'[1]DEN3.1'!$H$3:$S$112,7,FALSE),0) -> 0 | X29: =IFERROR(VLOOKUP($B29,'[1]DEN3.1'!$H$3:$S$112,8,FALSE),0) -> 2 | Y29: =IFERROR(VLOOKUP($B29,'[1]DEN3.1'!$H$3:$S$112,9,FALSE),0) -> 0 | Z29: =IFERROR(VLOOKUP($B29,'[1]DEN3.1'!$H$3:$S$112,10,FALSE),0) -> 0 | AA29: =IFERROR(VLOOKUP($B29,'[1]DEN3.1'!$H$3:$S$112,11,FALSE),0) -> 0 | AD29: =SUM(R29:AC29) -> 16
A30: 04102-COQUIMBO | B30: 105323-CES. DR. SERGIO AGUILAR | E30: =IFERROR(VLOOKUP($B30,'[1]NUM3.1'!$H$3:$S$112,2,FALSE),0) -> 54 | F30: =IFERROR(VLOOKUP($B30,'[1]NUM3.1'!$H$3:$S$112,3,FALSE),0) -> 46 | G30: =IFERROR(VLOOKUP($B30,'[1]NUM3.1'!$H$3:$S$112,4,FALSE),0) -> 57 | H30: =IFERROR(VLOOKUP($B30,'[1]NUM3.1'!$H$3:$S$112,5,FALSE),0) -> 59 | I30: =IFERROR(VLOOKUP($B30,'[1]NUM3.1'!$H$3:$S$112,6,FALSE),0) -> 48 | J30: =IFERROR(VLOOKUP($B30,'[1]NUM3.1'!$H$3:$S$112,7,FALSE),0) -> 47 | K30: =IFERROR(VLOOKUP($B30,'[1]NUM3.1'!$H$3:$S$112,8,FALSE),0) -> 47 | L30: =IFERROR(VLOOKUP($B30,'[1]NUM3.1'!$H$3:$S$112,9,FALSE),0) -> 47 | M30: =IFERROR(VLOOKUP($B30,'[1]NUM3.1'!$H$3:$S$112,10,FALSE),0) -> 40 | N30: =IFERROR(VLOOKUP($B30,'[1]NUM3.1'!$H$3:$S$112,11,FALSE),0) -> 32 | Q30: =SUM(E30:P30) -> 477 | R30: =IFERROR(VLOOKUP($B30,'[1]DEN3.1'!$H$3:$S$112,2,FALSE),0) -> 54 | S30: =IFERROR(VLOOKUP($B30,'[1]DEN3.1'!$H$3:$S$112,3,FALSE),0) -> 46 | T30: =IFERROR(VLOOKUP($B30,'[1]DEN3.1'!$H$3:$S$112,4,FALSE),0) -> 57 | U30: =IFERROR(VLOOKUP($B30,'[1]DEN3.1'!$H$3:$S$112,5,FALSE),0) -> 59 | V30: =IFERROR(VLOOKUP($B30,'[1]DEN3.1'!$H$3:$S$112,6,FALSE),0) -> 49 | W30: =IFERROR(VLOOKUP($B30,'[1]DEN3.1'!$H$3:$S$112,7,FALSE),0) -> 47 | X30: =IFERROR(VLOOKUP($B30,'[1]DEN3.1'!$H$3:$S$112,8,FALSE),0) -> 47 | Y30: =IFERROR(VLOOKUP($B30,'[1]DEN3.1'!$H$3:$S$112,9,FALSE),0) -> 47 | Z30: =IFERROR(VLOOKUP($B30,'[1]DEN3.1'!$H$3:$S$112,10,FALSE),0) -> 40 | AA30: =IFERROR(VLOOKUP($B30,'[1]DEN3.1'!$H$3:$S$112,11,FALSE),0) -> 32 | AD30: =SUM(R30:AC30) -> 478
A31: 04102-COQUIMBO | B31: 105404-P.S.R. EL TANGUE | E31: =IFERROR(VLOOKUP($B31,'[1]NUM3.1'!$H$3:$S$112,2,FALSE),0) -> 0 | F31: =IFERROR(VLOOKUP($B31,'[1]NUM3.1'!$H$3:$S$112,3,FALSE),0) -> 0 | G31: =IFERROR(VLOOKUP($B31,'[1]NUM3.1'!$H$3:$S$112,4,FALSE),0) -> 0 | H31: =IFERROR(VLOOKUP($B31,'[1]NUM3.1'!$H$3:$S$112,5,FALSE),0) -> 0 | I31: =IFERROR(VLOOKUP($B31,'[1]NUM3.1'!$H$3:$S$112,6,FALSE),0) -> 0 | J31: =IFERROR(VLOOKUP($B31,'[1]NUM3.1'!$H$3:$S$112,7,FALSE),0) -> 0 | K31: =IFERROR(VLOOKUP($B31,'[1]NUM3.1'!$H$3:$S$112,8,FALSE),0) -> 0 | L31: =IFERROR(VLOOKUP($B31,'[1]NUM3.1'!$H$3:$S$112,9,FALSE),0) -> 0 | M31: =IFERROR(VLOOKUP($B31,'[1]NUM3.1'!$H$3:$S$112,10,FALSE),0) -> 0 | N31: =IFERROR(VLOOKUP($B31,'[1]NUM3.1'!$H$3:$S$112,11,FALSE),0) -> 0 | Q31: =SUM(E31:P31) -> 0 | R31: =IFERROR(VLOOKUP($B31,'[1]DEN3.1'!$H$3:$S$112,2,FALSE),0) -> 0 | S31: =IFERROR(VLOOKUP($B31,'[1]DEN3.1'!$H$3:$S$112,3,FALSE),0) -> 0 | T31: =IFERROR(VLOOKUP($B31,'[1]DEN3.1'!$H$3:$S$112,4,FALSE),0) -> 0 | U31: =IFERROR(VLOOKUP($B31,'[1]DEN3.1'!$H$3:$S$112,5,FALSE),0) -> 0 | V31: =IFERROR(VLOOKUP($B31,'[1]DEN3.1'!$H$3:$S$112,6,FALSE),0) -> 0 | W31: =IFERROR(VLOOKUP($B31,'[1]DEN3.1'!$H$3:$S$112,7,FALSE),0) -> 0 | X31: =IFERROR(VLOOKUP($B31,'[1]DEN3.1'!$H$3:$S$112,8,FALSE),0) -> 0 | Y31: =IFERROR(VLOOKUP($B31,'[1]DEN3.1'!$H$3:$S$112,9,FALSE),0) -> 0 | Z31: =IFERROR(VLOOKUP($B31,'[1]DEN3.1'!$H$3:$S$112,10,FALSE),0) -> 0 | AA31: =IFERROR(VLOOKUP($B31,'[1]DEN3.1'!$H$3:$S$112,11,FALSE),0) -> 0 | AD31: =SUM(R31:AC31) -> 0
A32: 04102-COQUIMBO | B32: 105405-P.S.R. GUANAQUEROS | E32: =IFERROR(VLOOKUP($B32,'[1]NUM3.1'!$H$3:$S$112,2,FALSE),0) -> 3 | F32: =IFERROR(VLOOKUP($B32,'[1]NUM3.1'!$H$3:$S$112,3,FALSE),0) -> 2 | G32: =IFERROR(VLOOKUP($B32,'[1]NUM3.1'!$H$3:$S$112,4,FALSE),0) -> 1 | H32: =IFERROR(VLOOKUP($B32,'[1]NUM3.1'!$H$3:$S$112,5,FALSE),0) -> 2 | I32: =IFERROR(VLOOKUP($B32,'[1]NUM3.1'!$H$3:$S$112,6,FALSE),0) -> 1 | J32: =IFERROR(VLOOKUP($B32,'[1]NUM3.1'!$H$3:$S$112,7,FALSE),0) -> 0 | K32: =IFERROR(VLOOKUP($B32,'[1]NUM3.1'!$H$3:$S$112,8,FALSE),0) -> 0 | L32: =IFERROR(VLOOKUP($B32,'[1]NUM3.1'!$H$3:$S$112,9,FALSE),0) -> 0 | M32: =IFERROR(VLOOKUP($B32,'[1]NUM3.1'!$H$3:$S$112,10,FALSE),0) -> 1 | N32: =IFERROR(VLOOKUP($B32,'[1]NUM3.1'!$H$3:$S$112,11,FALSE),0) -> 0 | Q32: =SUM(E32:P32) -> 10 | R32: =IFERROR(VLOOKUP($B32,'[1]DEN3.1'!$H$3:$S$112,2,FALSE),0) -> 3 | S32: =IFERROR(VLOOKUP($B32,'[1]DEN3.1'!$H$3:$S$112,3,FALSE),0) -> 2 | T32: =IFERROR(VLOOKUP($B32,'[1]DEN3.1'!$H$3:$S$112,4,FALSE),0) -> 1 | U32: =IFERROR(VLOOKUP($B32,'[1]DEN3.1'!$H$3:$S$112,5,FALSE),0) -> 2 | V32: =IFERROR(VLOOKUP($B32,'[1]DEN3.1'!$H$3:$S$112,6,FALSE),0) -> 1 | W32: =IFERROR(VLOOKUP($B32,'[1]DEN3.1'!$H$3:$S$112,7,FALSE),0) -> 0 | X32: =IFERROR(VLOOKUP($B32,'[1]DEN3.1'!$H$3:$S$112,8,FALSE),0) -> 0 | Y32: =IFERROR(VLOOKUP($B32,'[1]DEN3.1'!$H$3:$S$112,9,FALSE),0) -> 0 | Z32: =IFERROR(VLOOKUP($B32,'[1]DEN3.1'!$H$3:$S$112,10,FALSE),0) -> 1 | AA32: =IFERROR(VLOOKUP($B32,'[1]DEN3.1'!$H$3:$S$112,11,FALSE),0) -> 0 | AD32: =SUM(R32:AC32) -> 10
A33: 04102-COQUIMBO | B33: 105406-P.S.R. PAN DE AZUCAR | E33: =IFERROR(VLOOKUP($B33,'[1]NUM3.1'!$H$3:$S$112,2,FALSE),0) -> 2 | F33: =IFERROR(VLOOKUP($B33,'[1]NUM3.1'!$H$3:$S$112,3,FALSE),0) -> 2 | G33: =IFERROR(VLOOKUP($B33,'[1]NUM3.1'!$H$3:$S$112,4,FALSE),0) -> 0 | H33: =IFERROR(VLOOKUP($B33,'[1]NUM3.1'!$H$3:$S$112,5,FALSE),0) -> 3 | I33: =IFERROR(VLOOKUP($B33,'[1]NUM3.1'!$H$3:$S$112,6,FALSE),0) -> 2 | J33: =IFERROR(VLOOKUP($B33,'[1]NUM3.1'!$H$3:$S$112,7,FALSE),0) -> 3 | K33: =IFERROR(VLOOKUP($B33,'[1]NUM3.1'!$H$3:$S$112,8,FALSE),0) -> 4 | L33: =IFERROR(VLOOKUP($B33,'[1]NUM3.1'!$H$3:$S$112,9,FALSE),0) -> 0 | M33: =IFERROR(VLOOKUP($B33,'[1]NUM3.1'!$H$3:$S$112,10,FALSE),0) -> 2 | N33: =IFERROR(VLOOKUP($B33,'[1]NUM3.1'!$H$3:$S$112,11,FALSE),0) -> 0 | Q33: =SUM(E33:P33) -> 18 | R33: =IFERROR(VLOOKUP($B33,'[1]DEN3.1'!$H$3:$S$112,2,FALSE),0) -> 2 | S33: =IFERROR(VLOOKUP($B33,'[1]DEN3.1'!$H$3:$S$112,3,FALSE),0) -> 2 | T33: =IFERROR(VLOOKUP($B33,'[1]DEN3.1'!$H$3:$S$112,4,FALSE),0) -> 0 | U33: =IFERROR(VLOOKUP($B33,'[1]DEN3.1'!$H$3:$S$112,5,FALSE),0) -> 3 | V33: =IFERROR(VLOOKUP($B33,'[1]DEN3.1'!$H$3:$S$112,6,FALSE),0) -> 2 | W33: =IFERROR(VLOOKUP($B33,'[1]DEN3.1'!$H$3:$S$112,7,FALSE),0) -> 3 | X33: =IFERROR(VLOOKUP($B33,'[1]DEN3.1'!$H$3:$S$112,8,FALSE),0) -> 4 | Y33: =IFERROR(VLOOKUP($B33,'[1]DEN3.1'!$H$3:$S$112,9,FALSE),0) -> 0 | Z33: =IFERROR(VLOOKUP($B33,'[1]DEN3.1'!$H$3:$S$112,10,FALSE),0) -> 2 | AA33: =IFERROR(VLOOKUP($B33,'[1]DEN3.1'!$H$3:$S$112,11,FALSE),0) -> 2 | AD33: =SUM(R33:AC33) -> 20
A34: 04102-COQUIMBO | B34: 105407-P.S.R. TAMBILLOS | E34: =IFERROR(VLOOKUP($B34,'[1]NUM3.1'!$H$3:$S$112,2,FALSE),0) -> 0 | F34: =IFERROR(VLOOKUP($B34,'[1]NUM3.1'!$H$3:$S$112,3,FALSE),0) -> 0 | G34: =IFERROR(VLOOKUP($B34,'[1]NUM3.1'!$H$3:$S$112,4,FALSE),0) -> 0 | H34: =IFERROR(VLOOKUP($B34,'[1]NUM3.1'!$H$3:$S$112,5,FALSE),0) -> 0 | I34: =IFERROR(VLOOKUP($B34,'[1]NUM3.1'!$H$3:$S$112,6,FALSE),0) -> 0 | J34: =IFERROR(VLOOKUP($B34,'[1]NUM3.1'!$H$3:$S$112,7,FALSE),0) -> 0 | K34: =IFERROR(VLOOKUP($B34,'[1]NUM3.1'!$H$3:$S$112,8,FALSE),0) -> 0 | L34: =IFERROR(VLOOKUP($B34,'[1]NUM3.1'!$H$3:$S$112,9,FALSE),0) -> 0 | M34: =IFERROR(VLOOKUP($B34,'[1]NUM3.1'!$H$3:$S$112,10,FALSE),0) -> 0 | N34: =IFERROR(VLOOKUP($B34,'[1]NUM3.1'!$H$3:$S$112,11,FALSE),0) -> 0 | Q34: =SUM(E34:P34) -> 0 | R34: =IFERROR(VLOOKUP($B34,'[1]DEN3.1'!$H$3:$S$112,2,FALSE),0) -> 0 | S34: =IFERROR(VLOOKUP($B34,'[1]DEN3.1'!$H$3:$S$112,3,FALSE),0) -> 0 | T34: =IFERROR(VLOOKUP($B34,'[1]DEN3.1'!$H$3:$S$112,4,FALSE),0) -> 0 | U34: =IFERROR(VLOOKUP($B34,'[1]DEN3.1'!$H$3:$S$112,5,FALSE),0) -> 0 | V34: =IFERROR(VLOOKUP($B34,'[1]DEN3.1'!$H$3:$S$112,6,FALSE),0) -> 0 | W34: =IFERROR(VLOOKUP($B34,'[1]DEN3.1'!$H$3:$S$112,7,FALSE),0) -> 0 | X34: =IFERROR(VLOOKUP($B34,'[1]DEN3.1'!$H$3:$S$112,8,FALSE),0) -> 0 | Y34: =IFERROR(VLOOKUP($B34,'[1]DEN3.1'!$H$3:$S$112,9,FALSE),0) -> 0 | Z34: =IFERROR(VLOOKUP($B34,'[1]DEN3.1'!$H$3:$S$112,10,FALSE),0) -> 0 | AA34: =IFERROR(VLOOKUP($B34,'[1]DEN3.1'!$H$3:$S$112,11,FALSE),0) -> 0 | AD34: =SUM(R34:AC34) -> 0
A35: 04102-COQUIMBO | B35: 105705-CECOF EL ALBA | E35: =IFERROR(VLOOKUP($B35,'[1]NUM3.1'!$H$3:$S$112,2,FALSE),0) -> 2 | F35: =IFERROR(VLOOKUP($B35,'[1]NUM3.1'!$H$3:$S$112,3,FALSE),0) -> 2 | G35: =IFERROR(VLOOKUP($B35,'[1]NUM3.1'!$H$3:$S$112,4,FALSE),0) -> 1 | H35: =IFERROR(VLOOKUP($B35,'[1]NUM3.1'!$H$3:$S$112,5,FALSE),0) -> 3 | I35: =IFERROR(VLOOKUP($B35,'[1]NUM3.1'!$H$3:$S$112,6,FALSE),0) -> 0 | J35: =IFERROR(VLOOKUP($B35,'[1]NUM3.1'!$H$3:$S$112,7,FALSE),0) -> 1 | K35: =IFERROR(VLOOKUP($B35,'[1]NUM3.1'!$H$3:$S$112,8,FALSE),0) -> 1 | L35: =IFERROR(VLOOKUP($B35,'[1]NUM3.1'!$H$3:$S$112,9,FALSE),0) -> 2 | M35: =IFERROR(VLOOKUP($B35,'[1]NUM3.1'!$H$3:$S$112,10,FALSE),0) -> 2 | N35: =IFERROR(VLOOKUP($B35,'[1]NUM3.1'!$H$3:$S$112,11,FALSE),0) -> 1 | Q35: =SUM(E35:P35) -> 15 | R35: =IFERROR(VLOOKUP($B35,'[1]DEN3.1'!$H$3:$S$112,2,FALSE),0) -> 2 | S35: =IFERROR(VLOOKUP($B35,'[1]DEN3.1'!$H$3:$S$112,3,FALSE),0) -> 2 | T35: =IFERROR(VLOOKUP($B35,'[1]DEN3.1'!$H$3:$S$112,4,FALSE),0) -> 1 | U35: =IFERROR(VLOOKUP($B35,'[1]DEN3.1'!$H$3:$S$112,5,FALSE),0) -> 3 | V35: =IFERROR(VLOOKUP($B35,'[1]DEN3.1'!$H$3:$S$112,6,FALSE),0) -> 0 | W35: =IFERROR(VLOOKUP($B35,'[1]DEN3.1'!$H$3:$S$112,7,FALSE),0) -> 1 | X35: =IFERROR(VLOOKUP($B35,'[1]DEN3.1'!$H$3:$S$112,8,FALSE),0) -> 1 | Y35: =IFERROR(VLOOKUP($B35,'[1]DEN3.1'!$H$3:$S$112,9,FALSE),0) -> 2 | Z35: =IFERROR(VLOOKUP($B35,'[1]DEN3.1'!$H$3:$S$112,10,FALSE),0) -> 2 | AA35: =IFERROR(VLOOKUP($B35,'[1]DEN3.1'!$H$3:$S$112,11,FALSE),0) -> 1 | AD35: =SUM(R35:AC35) -> 15
A36: 04102-COQUIMBO | B36: 200273-CECOF PUNTA MIRA | E36: =IFERROR(VLOOKUP($B36,'[1]NUM3.1'!$H$3:$S$112,2,FALSE),0) -> 3 | F36: =IFERROR(VLOOKUP($B36,'[1]NUM3.1'!$H$3:$S$112,3,FALSE),0) -> 4 | G36: =IFERROR(VLOOKUP($B36,'[1]NUM3.1'!$H$3:$S$112,4,FALSE),0) -> 2 | H36: =IFERROR(VLOOKUP($B36,'[1]NUM3.1'!$H$3:$S$112,5,FALSE),0) -> 3 | I36: =IFERROR(VLOOKUP($B36,'[1]NUM3.1'!$H$3:$S$112,6,FALSE),0) -> 5 | J36: =IFERROR(VLOOKUP($B36,'[1]NUM3.1'!$H$3:$S$112,7,FALSE),0) -> 4 | K36: =IFERROR(VLOOKUP($B36,'[1]NUM3.1'!$H$3:$S$112,8,FALSE),0) -> 0 | L36: =IFERROR(VLOOKUP($B36,'[1]NUM3.1'!$H$3:$S$112,9,FALSE),0) -> 1 | M36: =IFERROR(VLOOKUP($B36,'[1]NUM3.1'!$H$3:$S$112,10,FALSE),0) -> 3 | N36: =IFERROR(VLOOKUP($B36,'[1]NUM3.1'!$H$3:$S$112,11,FALSE),0) -> 1 | Q36: =SUM(E36:P36) -> 26 | R36: =IFERROR(VLOOKUP($B36,'[1]DEN3.1'!$H$3:$S$112,2,FALSE),0) -> 3 | S36: =IFERROR(VLOOKUP($B36,'[1]DEN3.1'!$H$3:$S$112,3,FALSE),0) -> 4 | T36: =IFERROR(VLOOKUP($B36,'[1]DEN3.1'!$H$3:$S$112,4,FALSE),0) -> 2 | U36: =IFERROR(VLOOKUP($B36,'[1]DEN3.1'!$H$3:$S$112,5,FALSE),0) -> 3 | V36: =IFERROR(VLOOKUP($B36,'[1]DEN3.1'!$H$3:$S$112,6,FALSE),0) -> 5 | W36: =IFERROR(VLOOKUP($B36,'[1]DEN3.1'!$H$3:$S$112,7,FALSE),0) -> 4 | X36: =IFERROR(VLOOKUP($B36,'[1]DEN3.1'!$H$3:$S$112,8,FALSE),0) -> 0 | Y36: =IFERROR(VLOOKUP($B36,'[1]DEN3.1'!$H$3:$S$112,9,FALSE),0) -> 1 | Z36: =IFERROR(VLOOKUP($B36,'[1]DEN3.1'!$H$3:$S$112,10,FALSE),0) -> 3 | AA36: =IFERROR(VLOOKUP($B36,'[1]DEN3.1'!$H$3:$S$112,11,FALSE),0) -> 1 | AD36: =SUM(R36:AC36) -> 26
A37: TOTAL COQUIMBO | C37: =+D37/Metas!H87 -> 1.0166415 | D37: =+Q37/AD37 -> 0.99636804 | E37: =SUM(E26:E36) -> 83 | F37: =SUM(F26:F36) -> 75 | G37: =SUM(G26:G36) -> 98 | H37: =SUM(H26:H36) -> 107 | I37: =SUM(I26:I36) -> 88 | J37: =SUM(J26:J36) -> 76 | K37: =SUM(K26:K36) -> 80 | L37: =SUM(L26:L36) -> 83 | ... AD37: =SUM(AD26:AD36) -> 826
A38: 04106-VICUÑA | B38: 105467-P.S.R. DIAGUITAS | E38: =IFERROR(VLOOKUP($B38,'[1]NUM3.1'!$H$3:$S$112,2,FALSE),0) -> 1 | F38: =IFERROR(VLOOKUP($B38,'[1]NUM3.1'!$H$3:$S$112,3,FALSE),0) -> 1 | G38: =IFERROR(VLOOKUP($B38,'[1]NUM3.1'!$H$3:$S$112,4,FALSE),0) -> 0 | H38: =IFERROR(VLOOKUP($B38,'[1]NUM3.1'!$H$3:$S$112,5,FALSE),0) -> 1 | I38: =IFERROR(VLOOKUP($B38,'[1]NUM3.1'!$H$3:$S$112,6,FALSE),0) -> 2 | J38: =IFERROR(VLOOKUP($B38,'[1]NUM3.1'!$H$3:$S$112,7,FALSE),0) -> 1 | K38: =IFERROR(VLOOKUP($B38,'[1]NUM3.1'!$H$3:$S$112,8,FALSE),0) -> 1 | L38: =IFERROR(VLOOKUP($B38,'[1]NUM3.1'!$H$3:$S$112,9,FALSE),0) -> 1 | M38: =IFERROR(VLOOKUP($B38,'[1]NUM3.1'!$H$3:$S$112,10,FALSE),0) -> 0 | N38: =IFERROR(VLOOKUP($B38,'[1]NUM3.1'!$H$3:$S$112,11,FALSE),0) -> 0 | Q38: =SUM(E38:P38) -> 8 | R38: =IFERROR(VLOOKUP($B38,'[1]DEN3.1'!$H$3:$S$112,2,FALSE),0) -> 1 | S38: =IFERROR(VLOOKUP($B38,'[1]DEN3.1'!$H$3:$S$112,3,FALSE),0) -> 1 | T38: =IFERROR(VLOOKUP($B38,'[1]DEN3.1'!$H$3:$S$112,4,FALSE),0) -> 0 | U38: =IFERROR(VLOOKUP($B38,'[1]DEN3.1'!$H$3:$S$112,5,FALSE),0) -> 1 | V38: =IFERROR(VLOOKUP($B38,'[1]DEN3.1'!$H$3:$S$112,6,FALSE),0) -> 2 | W38: =IFERROR(VLOOKUP($B38,'[1]DEN3.1'!$H$3:$S$112,7,FALSE),0) -> 1 | X38: =IFERROR(VLOOKUP($B38,'[1]DEN3.1'!$H$3:$S$112,8,FALSE),0) -> 1 | Y38: =IFERROR(VLOOKUP($B38,'[1]DEN3.1'!$H$3:$S$112,9,FALSE),0) -> 1 | Z38: =IFERROR(VLOOKUP($B38,'[1]DEN3.1'!$H$3:$S$112,10,FALSE),0) -> 0 | AA38: =IFERROR(VLOOKUP($B38,'[1]DEN3.1'!$H$3:$S$112,11,FALSE),0) -> 0 | AD38: =SUM(R38:AC38) -> 8
A39: 04106-VICUÑA | B39: 105468-P.S.R. EL MOLLE | E39: =IFERROR(VLOOKUP($B39,'[1]NUM3.1'!$H$3:$S$112,2,FALSE),0) -> 0 | F39: =IFERROR(VLOOKUP($B39,'[1]NUM3.1'!$H$3:$S$112,3,FALSE),0) -> 0 | G39: =IFERROR(VLOOKUP($B39,'[1]NUM3.1'!$H$3:$S$112,4,FALSE),0) -> 0 | H39: =IFERROR(VLOOKUP($B39,'[1]NUM3.1'!$H$3:$S$112,5,FALSE),0) -> 0 | I39: =IFERROR(VLOOKUP($B39,'[1]NUM3.1'!$H$3:$S$112,6,FALSE),0) -> 0 | J39: =IFERROR(VLOOKUP($B39,'[1]NUM3.1'!$H$3:$S$112,7,FALSE),0) -> 0 | K39: =IFERROR(VLOOKUP($B39,'[1]NUM3.1'!$H$3:$S$112,8,FALSE),0) -> 0 | L39: =IFERROR(VLOOKUP($B39,'[1]NUM3.1'!$H$3:$S$112,9,FALSE),0) -> 0 | M39: =IFERROR(VLOOKUP($B39,'[1]NUM3.1'!$H$3:$S$112,10,FALSE),0) -> 0 | N39: =IFERROR(VLOOKUP($B39,'[1]NUM3.1'!$H$3:$S$112,11,FALSE),0) -> 1 | Q39: =SUM(E39:P39) -> 1 | R39: =IFERROR(VLOOKUP($B39,'[1]DEN3.1'!$H$3:$S$112,2,FALSE),0) -> 0 | S39: =IFERROR(VLOOKUP($B39,'[1]DEN3.1'!$H$3:$S$112,3,FALSE),0) -> 0 | T39: =IFERROR(VLOOKUP($B39,'[1]DEN3.1'!$H$3:$S$112,4,FALSE),0) -> 0 | U39: =IFERROR(VLOOKUP($B39,'[1]DEN3.1'!$H$3:$S$112,5,FALSE),0) -> 0 | V39: =IFERROR(VLOOKUP($B39,'[1]DEN3.1'!$H$3:$S$112,6,FALSE),0) -> 0 | W39: =IFERROR(VLOOKUP($B39,'[1]DEN3.1'!$H$3:$S$112,7,FALSE),0) -> 0 | X39: =IFERROR(VLOOKUP($B39,'[1]DEN3.1'!$H$3:$S$112,8,FALSE),0) -> 0 | Y39: =IFERROR(VLOOKUP($B39,'[1]DEN3.1'!$H$3:$S$112,9,FALSE),0) -> 0 | Z39: =IFERROR(VLOOKUP($B39,'[1]DEN3.1'!$H$3:$S$112,10,FALSE),0) -> 0 | AA39: =IFERROR(VLOOKUP($B39,'[1]DEN3.1'!$H$3:$S$112,11,FALSE),0) -> 1 | AD39: =SUM(R39:AC39) -> 1
A40: 04106-VICUÑA | B40: 105469-P.S.R. EL TAMBO | E40: =IFERROR(VLOOKUP($B40,'[1]NUM3.1'!$H$3:$S$112,2,FALSE),0) -> 2 | F40: =IFERROR(VLOOKUP($B40,'[1]NUM3.1'!$H$3:$S$112,3,FALSE),0) -> 2 | G40: =IFERROR(VLOOKUP($B40,'[1]NUM3.1'!$H$3:$S$112,4,FALSE),0) -> 0 | H40: =IFERROR(VLOOKUP($B40,'[1]NUM3.1'!$H$3:$S$112,5,FALSE),0) -> 0 | I40: =IFERROR(VLOOKUP($B40,'[1]NUM3.1'!$H$3:$S$112,6,FALSE),0) -> 0 | J40: =IFERROR(VLOOKUP($B40,'[1]NUM3.1'!$H$3:$S$112,7,FALSE),0) -> 0 | K40: =IFERROR(VLOOKUP($B40,'[1]NUM3.1'!$H$3:$S$112,8,FALSE),0) -> 0 | L40: =IFERROR(VLOOKUP($B40,'[1]NUM3.1'!$H$3:$S$112,9,FALSE),0) -> 0 | M40: =IFERROR(VLOOKUP($B40,'[1]NUM3.1'!$H$3:$S$112,10,FALSE),0) -> 0 | N40: =IFERROR(VLOOKUP($B40,'[1]NUM3.1'!$H$3:$S$112,11,FALSE),0) -> 2 | Q40: =SUM(E40:P40) -> 6 | R40: =IFERROR(VLOOKUP($B40,'[1]DEN3.1'!$H$3:$S$112,2,FALSE),0) -> 2 | S40: =IFERROR(VLOOKUP($B40,'[1]DEN3.1'!$H$3:$S$112,3,FALSE),0) -> 2 | T40: =IFERROR(VLOOKUP($B40,'[1]DEN3.1'!$H$3:$S$112,4,FALSE),0) -> 0 | U40: =IFERROR(VLOOKUP($B40,'[1]DEN3.1'!$H$3:$S$112,5,FALSE),0) -> 0 | V40: =IFERROR(VLOOKUP($B40,'[1]DEN3.1'!$H$3:$S$112,6,FALSE),0) -> 0 | W40: =IFERROR(VLOOKUP($B40,'[1]DEN3.1'!$H$3:$S$112,7,FALSE),0) -> 0 | X40: =IFERROR(VLOOKUP($B40,'[1]DEN3.1'!$H$3:$S$112,8,FALSE),0) -> 0 | Y40: =IFERROR(VLOOKUP($B40,'[1]DEN3.1'!$H$3:$S$112,9,FALSE),0) -> 0 | Z40: =IFERROR(VLOOKUP($B40,'[1]DEN3.1'!$H$3:$S$112,10,FALSE),0) -> 0 | AA40: =IFERROR(VLOOKUP($B40,'[1]DEN3.1'!$H$3:$S$112,11,FALSE),0) -> 2 | AD40: =SUM(R40:AC40) -> 6
A41: 04106-VICUÑA | B41: 105470-P.S.R. HUANTA | E41: =IFERROR(VLOOKUP($B41,'[1]NUM3.1'!$H$3:$S$112,2,FALSE),0) -> 0 | F41: =IFERROR(VLOOKUP($B41,'[1]NUM3.1'!$H$3:$S$112,3,FALSE),0) -> 0 | G41: =IFERROR(VLOOKUP($B41,'[1]NUM3.1'!$H$3:$S$112,4,FALSE),0) -> 0 | H41: =IFERROR(VLOOKUP($B41,'[1]NUM3.1'!$H$3:$S$112,5,FALSE),0) -> 0 | I41: =IFERROR(VLOOKUP($B41,'[1]NUM3.1'!$H$3:$S$112,6,FALSE),0) -> 0 | J41: =IFERROR(VLOOKUP($B41,'[1]NUM3.1'!$H$3:$S$112,7,FALSE),0) -> 0 | K41: =IFERROR(VLOOKUP($B41,'[1]NUM3.1'!$H$3:$S$112,8,FALSE),0) -> 0 | L41: =IFERROR(VLOOKUP($B41,'[1]NUM3.1'!$H$3:$S$112,9,FALSE),0) -> 0 | M41: =IFERROR(VLOOKUP($B41,'[1]NUM3.1'!$H$3:$S$112,10,FALSE),0) -> 0 | N41: =IFERROR(VLOOKUP($B41,'[1]NUM3.1'!$H$3:$S$112,11,FALSE),0) -> 0 | Q41: =SUM(E41:P41) -> 0 | R41: =IFERROR(VLOOKUP($B41,'[1]DEN3.1'!$H$3:$S$112,2,FALSE),0) -> 0 | S41: =IFERROR(VLOOKUP($B41,'[1]DEN3.1'!$H$3:$S$112,3,FALSE),0) -> 0 | T41: =IFERROR(VLOOKUP($B41,'[1]DEN3.1'!$H$3:$S$112,4,FALSE),0) -> 0 | U41: =IFERROR(VLOOKUP($B41,'[1]DEN3.1'!$H$3:$S$112,5,FALSE),0) -> 0 | V41: =IFERROR(VLOOKUP($B41,'[1]DEN3.1'!$H$3:$S$112,6,FALSE),0) -> 0 | W41: =IFERROR(VLOOKUP($B41,'[1]DEN3.1'!$H$3:$S$112,7,FALSE),0) -> 0 | X41: =IFERROR(VLOOKUP($B41,'[1]DEN3.1'!$H$3:$S$112,8,FALSE),0) -> 0 | Y41: =IFERROR(VLOOKUP($B41,'[1]DEN3.1'!$H$3:$S$112,9,FALSE),0) -> 0 | Z41: =IFERROR(VLOOKUP($B41,'[1]DEN3.1'!$H$3:$S$112,10,FALSE),0) -> 0 | AA41: =IFERROR(VLOOKUP($B41,'[1]DEN3.1'!$H$3:$S$112,11,FALSE),0) -> 0 | AD41: =SUM(R41:AC41) -> 0
A42: 04106-VICUÑA | B42: 105471-P.S.R. PERALILLO | E42: =IFERROR(VLOOKUP($B42,'[1]NUM3.1'!$H$3:$S$112,2,FALSE),0) -> 1 | F42: =IFERROR(VLOOKUP($B42,'[1]NUM3.1'!$H$3:$S$112,3,FALSE),0) -> 1 | G42: =IFERROR(VLOOKUP($B42,'[1]NUM3.1'!$H$3:$S$112,4,FALSE),0) -> 0 | H42: =IFERROR(VLOOKUP($B42,'[1]NUM3.1'!$H$3:$S$112,5,FALSE),0) -> 0 | I42: =IFERROR(VLOOKUP($B42,'[1]NUM3.1'!$H$3:$S$112,6,FALSE),0) -> 0 | J42: =IFERROR(VLOOKUP($B42,'[1]NUM3.1'!$H$3:$S$112,7,FALSE),0) -> 0 | K42: =IFERROR(VLOOKUP($B42,'[1]NUM3.1'!$H$3:$S$112,8,FALSE),0) -> 0 | L42: =IFERROR(VLOOKUP($B42,'[1]NUM3.1'!$H$3:$S$112,9,FALSE),0) -> 0 | M42: =IFERROR(VLOOKUP($B42,'[1]NUM3.1'!$H$3:$S$112,10,FALSE),0) -> 0 | N42: =IFERROR(VLOOKUP($B42,'[1]NUM3.1'!$H$3:$S$112,11,FALSE),0) -> 0 | Q42: =SUM(E42:P42) -> 2 | R42: =IFERROR(VLOOKUP($B42,'[1]DEN3.1'!$H$3:$S$112,2,FALSE),0) -> 1 | S42: =IFERROR(VLOOKUP($B42,'[1]DEN3.1'!$H$3:$S$112,3,FALSE),0) -> 1 | T42: =IFERROR(VLOOKUP($B42,'[1]DEN3.1'!$H$3:$S$112,4,FALSE),0) -> 0 | U42: =IFERROR(VLOOKUP($B42,'[1]DEN3.1'!$H$3:$S$112,5,FALSE),0) -> 0 | V42: =IFERROR(VLOOKUP($B42,'[1]DEN3.1'!$H$3:$S$112,6,FALSE),0) -> 0 | W42: =IFERROR(VLOOKUP($B42,'[1]DEN3.1'!$H$3:$S$112,7,FALSE),0) -> 0 | X42: =IFERROR(VLOOKUP($B42,'[1]DEN3.1'!$H$3:$S$112,8,FALSE),0) -> 0 | Y42: =IFERROR(VLOOKUP($B42,'[1]DEN3.1'!$H$3:$S$112,9,FALSE),0) -> 0 | Z42: =IFERROR(VLOOKUP($B42,'[1]DEN3.1'!$H$3:$S$112,10,FALSE),0) -> 0 | AA42: =IFERROR(VLOOKUP($B42,'[1]DEN3.1'!$H$3:$S$112,11,FALSE),0) -> 0 | AD42: =SUM(R42:AC42) -> 2
A43: 04106-VICUÑA | B43: 105472-P.S.R. RIVADAVIA | E43: =IFERROR(VLOOKUP($B43,'[1]NUM3.1'!$H$3:$S$112,2,FALSE),0) -> 0 | F43: =IFERROR(VLOOKUP($B43,'[1]NUM3.1'!$H$3:$S$112,3,FALSE),0) -> 0 | G43: =IFERROR(VLOOKUP($B43,'[1]NUM3.1'!$H$3:$S$112,4,FALSE),0) -> 0 | H43: =IFERROR(VLOOKUP($B43,'[1]NUM3.1'!$H$3:$S$112,5,FALSE),0) -> 0 | I43: =IFERROR(VLOOKUP($B43,'[1]NUM3.1'!$H$3:$S$112,6,FALSE),0) -> 0 | J43: =IFERROR(VLOOKUP($B43,'[1]NUM3.1'!$H$3:$S$112,7,FALSE),0) -> 0 | K43: =IFERROR(VLOOKUP($B43,'[1]NUM3.1'!$H$3:$S$112,8,FALSE),0) -> 0 | L43: =IFERROR(VLOOKUP($B43,'[1]NUM3.1'!$H$3:$S$112,9,FALSE),0) -> 0 | M43: =IFERROR(VLOOKUP($B43,'[1]NUM3.1'!$H$3:$S$112,10,FALSE),0) -> 0 | N43: =IFERROR(VLOOKUP($B43,'[1]NUM3.1'!$H$3:$S$112,11,FALSE),0) -> 0 | Q43: =SUM(E43:P43) -> 0 | R43: =IFERROR(VLOOKUP($B43,'[1]DEN3.1'!$H$3:$S$112,2,FALSE),0) -> 0 | S43: =IFERROR(VLOOKUP($B43,'[1]DEN3.1'!$H$3:$S$112,3,FALSE),0) -> 0 | T43: =IFERROR(VLOOKUP($B43,'[1]DEN3.1'!$H$3:$S$112,4,FALSE),0) -> 0 | U43: =IFERROR(VLOOKUP($B43,'[1]DEN3.1'!$H$3:$S$112,5,FALSE),0) -> 0 | V43: =IFERROR(VLOOKUP($B43,'[1]DEN3.1'!$H$3:$S$112,6,FALSE),0) -> 0 | W43: =IFERROR(VLOOKUP($B43,'[1]DEN3.1'!$H$3:$S$112,7,FALSE),0) -> 0 | X43: =IFERROR(VLOOKUP($B43,'[1]DEN3.1'!$H$3:$S$112,8,FALSE),0) -> 0 | Y43: =IFERROR(VLOOKUP($B43,'[1]DEN3.1'!$H$3:$S$112,9,FALSE),0) -> 0 | Z43: =IFERROR(VLOOKUP($B43,'[1]DEN3.1'!$H$3:$S$112,10,FALSE),0) -> 0 | AA43: =IFERROR(VLOOKUP($B43,'[1]DEN3.1'!$H$3:$S$112,11,FALSE),0) -> 0 | AD43: =SUM(R43:AC43) -> 0
A44: 04106-VICUÑA | B44: 105473-P.S.R. TALCUNA | E44: =IFERROR(VLOOKUP($B44,'[1]NUM3.1'!$H$3:$S$112,2,FALSE),0) -> 0 | F44: =IFERROR(VLOOKUP($B44,'[1]NUM3.1'!$H$3:$S$112,3,FALSE),0) -> 0 | G44: =IFERROR(VLOOKUP($B44,'[1]NUM3.1'!$H$3:$S$112,4,FALSE),0) -> 1 | H44: =IFERROR(VLOOKUP($B44,'[1]NUM3.1'!$H$3:$S$112,5,FALSE),0) -> 1 | I44: =IFERROR(VLOOKUP($B44,'[1]NUM3.1'!$H$3:$S$112,6,FALSE),0) -> 0 | J44: =IFERROR(VLOOKUP($B44,'[1]NUM3.1'!$H$3:$S$112,7,FALSE),0) -> 0 | K44: =IFERROR(VLOOKUP($B44,'[1]NUM3.1'!$H$3:$S$112,8,FALSE),0) -> 1 | L44: =IFERROR(VLOOKUP($B44,'[1]NUM3.1'!$H$3:$S$112,9,FALSE),0) -> 1 | M44: =IFERROR(VLOOKUP($B44,'[1]NUM3.1'!$H$3:$S$112,10,FALSE),0) -> 0 | N44: =IFERROR(VLOOKUP($B44,'[1]NUM3.1'!$H$3:$S$112,11,FALSE),0) -> 0 | Q44: =SUM(E44:P44) -> 4 | R44: =IFERROR(VLOOKUP($B44,'[1]DEN3.1'!$H$3:$S$112,2,FALSE),0) -> 0 | S44: =IFERROR(VLOOKUP($B44,'[1]DEN3.1'!$H$3:$S$112,3,FALSE),0) -> 0 | T44: =IFERROR(VLOOKUP($B44,'[1]DEN3.1'!$H$3:$S$112,4,FALSE),0) -> 1 | U44: =IFERROR(VLOOKUP($B44,'[1]DEN3.1'!$H$3:$S$112,5,FALSE),0) -> 1 | V44: =IFERROR(VLOOKUP($B44,'[1]DEN3.1'!$H$3:$S$112,6,FALSE),0) -> 0 | W44: =IFERROR(VLOOKUP($B44,'[1]DEN3.1'!$H$3:$S$112,7,FALSE),0) -> 0 | X44: =IFERROR(VLOOKUP($B44,'[1]DEN3.1'!$H$3:$S$112,8,FALSE),0) -> 1 | Y44: =IFERROR(VLOOKUP($B44,'[1]DEN3.1'!$H$3:$S$112,9,FALSE),0) -> 1 | Z44: =IFERROR(VLOOKUP($B44,'[1]DEN3.1'!$H$3:$S$112,10,FALSE),0) -> 0 | AA44: =IFERROR(VLOOKUP($B44,'[1]DEN3.1'!$H$3:$S$112,11,FALSE),0) -> 0 | AD44: =SUM(R44:AC44) -> 4
A45: 04106-VICUÑA | B45: 105474-P.S.R. CHAPILCA | E45: =IFERROR(VLOOKUP($B45,'[1]NUM3.1'!$H$3:$S$112,2,FALSE),0) -> 0 | F45: =IFERROR(VLOOKUP($B45,'[1]NUM3.1'!$H$3:$S$112,3,FALSE),0) -> 0 | G45: =IFERROR(VLOOKUP($B45,'[1]NUM3.1'!$H$3:$S$112,4,FALSE),0) -> 0 | H45: =IFERROR(VLOOKUP($B45,'[1]NUM3.1'!$H$3:$S$112,5,FALSE),0) -> 0 | I45: =IFERROR(VLOOKUP($B45,'[1]NUM3.1'!$H$3:$S$112,6,FALSE),0) -> 0 | J45: =IFERROR(VLOOKUP($B45,'[1]NUM3.1'!$H$3:$S$112,7,FALSE),0) -> 0 | K45: =IFERROR(VLOOKUP($B45,'[1]NUM3.1'!$H$3:$S$112,8,FALSE),0) -> 0 | L45: =IFERROR(VLOOKUP($B45,'[1]NUM3.1'!$H$3:$S$112,9,FALSE),0) -> 0 | M45: =IFERROR(VLOOKUP($B45,'[1]NUM3.1'!$H$3:$S$112,10,FALSE),0) -> 0 | N45: =IFERROR(VLOOKUP($B45,'[1]NUM3.1'!$H$3:$S$112,11,FALSE),0) -> 0 | Q45: =SUM(E45:P45) -> 0 | R45: =IFERROR(VLOOKUP($B45,'[1]DEN3.1'!$H$3:$S$112,2,FALSE),0) -> 0 | S45: =IFERROR(VLOOKUP($B45,'[1]DEN3.1'!$H$3:$S$112,3,FALSE),0) -> 0 | T45: =IFERROR(VLOOKUP($B45,'[1]DEN3.1'!$H$3:$S$112,4,FALSE),0) -> 0 | U45: =IFERROR(VLOOKUP($B45,'[1]DEN3.1'!$H$3:$S$112,5,FALSE),0) -> 0 | V45: =IFERROR(VLOOKUP($B45,'[1]DEN3.1'!$H$3:$S$112,6,FALSE),0) -> 0 | W45: =IFERROR(VLOOKUP($B45,'[1]DEN3.1'!$H$3:$S$112,7,FALSE),0) -> 0 | X45: =IFERROR(VLOOKUP($B45,'[1]DEN3.1'!$H$3:$S$112,8,FALSE),0) -> 0 | Y45: =IFERROR(VLOOKUP($B45,'[1]DEN3.1'!$H$3:$S$112,9,FALSE),0) -> 0 | Z45: =IFERROR(VLOOKUP($B45,'[1]DEN3.1'!$H$3:$S$112,10,FALSE),0) -> 0 | AA45: =IFERROR(VLOOKUP($B45,'[1]DEN3.1'!$H$3:$S$112,11,FALSE),0) -> 0 | AD45: =SUM(R45:AC45) -> 0
A46: 04106-VICUÑA | B46: 105502-P.S.R. CALINGASTA | E46: =IFERROR(VLOOKUP($B46,'[1]NUM3.1'!$H$3:$S$112,2,FALSE),0) -> 0 | F46: =IFERROR(VLOOKUP($B46,'[1]NUM3.1'!$H$3:$S$112,3,FALSE),0) -> 0 | G46: =IFERROR(VLOOKUP($B46,'[1]NUM3.1'!$H$3:$S$112,4,FALSE),0) -> 2 | H46: =IFERROR(VLOOKUP($B46,'[1]NUM3.1'!$H$3:$S$112,5,FALSE),0) -> 2 | I46: =IFERROR(VLOOKUP($B46,'[1]NUM3.1'!$H$3:$S$112,6,FALSE),0) -> 0 | J46: =IFERROR(VLOOKUP($B46,'[1]NUM3.1'!$H$3:$S$112,7,FALSE),0) -> 1 | K46: =IFERROR(VLOOKUP($B46,'[1]NUM3.1'!$H$3:$S$112,8,FALSE),0) -> 2 | L46: =IFERROR(VLOOKUP($B46,'[1]NUM3.1'!$H$3:$S$112,9,FALSE),0) -> 1 | M46: =IFERROR(VLOOKUP($B46,'[1]NUM3.1'!$H$3:$S$112,10,FALSE),0) -> 0 | N46: =IFERROR(VLOOKUP($B46,'[1]NUM3.1'!$H$3:$S$112,11,FALSE),0) -> 0 | Q46: =SUM(E46:P46) -> 8 | R46: =IFERROR(VLOOKUP($B46,'[1]DEN3.1'!$H$3:$S$112,2,FALSE),0) -> 0 | S46: =IFERROR(VLOOKUP($B46,'[1]DEN3.1'!$H$3:$S$112,3,FALSE),0) -> 0 | T46: =IFERROR(VLOOKUP($B46,'[1]DEN3.1'!$H$3:$S$112,4,FALSE),0) -> 2 | U46: =IFERROR(VLOOKUP($B46,'[1]DEN3.1'!$H$3:$S$112,5,FALSE),0) -> 2 | V46: =IFERROR(VLOOKUP($B46,'[1]DEN3.1'!$H$3:$S$112,6,FALSE),0) -> 0 | W46: =IFERROR(VLOOKUP($B46,'[1]DEN3.1'!$H$3:$S$112,7,FALSE),0) -> 1 | X46: =IFERROR(VLOOKUP($B46,'[1]DEN3.1'!$H$3:$S$112,8,FALSE),0) -> 2 | Y46: =IFERROR(VLOOKUP($B46,'[1]DEN3.1'!$H$3:$S$112,9,FALSE),0) -> 1 | Z46: =IFERROR(VLOOKUP($B46,'[1]DEN3.1'!$H$3:$S$112,10,FALSE),0) -> 0 | AA46: =IFERROR(VLOOKUP($B46,'[1]DEN3.1'!$H$3:$S$112,11,FALSE),0) -> 0 | AD46: =SUM(R46:AC46) -> 8
A47: 04106-VICUÑA | B47: 105509-P.S.R. GUALLIGUAICA | E47: =IFERROR(VLOOKUP($B47,'[1]NUM3.1'!$H$3:$S$112,2,FALSE),0) -> 0 | F47: =IFERROR(VLOOKUP($B47,'[1]NUM3.1'!$H$3:$S$112,3,FALSE),0) -> 0 | G47: =IFERROR(VLOOKUP($B47,'[1]NUM3.1'!$H$3:$S$112,4,FALSE),0) -> 0 | H47: =IFERROR(VLOOKUP($B47,'[1]NUM3.1'!$H$3:$S$112,5,FALSE),0) -> 0 | I47: =IFERROR(VLOOKUP($B47,'[1]NUM3.1'!$H$3:$S$112,6,FALSE),0) -> 0 | J47: =IFERROR(VLOOKUP($B47,'[1]NUM3.1'!$H$3:$S$112,7,FALSE),0) -> 0 | K47: =IFERROR(VLOOKUP($B47,'[1]NUM3.1'!$H$3:$S$112,8,FALSE),0) -> 0 | L47: =IFERROR(VLOOKUP($B47,'[1]NUM3.1'!$H$3:$S$112,9,FALSE),0) -> 0 | M47: =IFERROR(VLOOKUP($B47,'[1]NUM3.1'!$H$3:$S$112,10,FALSE),0) -> 0 | N47: =IFERROR(VLOOKUP($B47,'[1]NUM3.1'!$H$3:$S$112,11,FALSE),0) -> 0 | Q47: =SUM(E47:P47) -> 0 | R47: =IFERROR(VLOOKUP($B47,'[1]DEN3.1'!$H$3:$S$112,2,FALSE),0) -> 0 | S47: =IFERROR(VLOOKUP($B47,'[1]DEN3.1'!$H$3:$S$112,3,FALSE),0) -> 0 | T47: =IFERROR(VLOOKUP($B47,'[1]DEN3.1'!$H$3:$S$112,4,FALSE),0) -> 0 | U47: =IFERROR(VLOOKUP($B47,'[1]DEN3.1'!$H$3:$S$112,5,FALSE),0) -> 0 | V47: =IFERROR(VLOOKUP($B47,'[1]DEN3.1'!$H$3:$S$112,6,FALSE),0) -> 0 | W47: =IFERROR(VLOOKUP($B47,'[1]DEN3.1'!$H$3:$S$112,7,FALSE),0) -> 0 | X47: =IFERROR(VLOOKUP($B47,'[1]DEN3.1'!$H$3:$S$112,8,FALSE),0) -> 0 | Y47: =IFERROR(VLOOKUP($B47,'[1]DEN3.1'!$H$3:$S$112,9,FALSE),0) -> 0 | Z47: =IFERROR(VLOOKUP($B47,'[1]DEN3.1'!$H$3:$S$112,10,FALSE),0) -> 0 | AA47: =IFERROR(VLOOKUP($B47,'[1]DEN3.1'!$H$3:$S$112,11,FALSE),0) -> 0 | AD47: =SUM(R47:AC47) -> 0
A48: TOTAL VICUÑA | C48: =+D48/Metas!H96 -> 1.0204082 | D48: =+Q48/AD48 -> 1 | E48: =SUM(E38:E47) -> 4 | F48: =SUM(F38:F47) -> 4 | G48: =SUM(G38:G47) -> 3 | H48: =SUM(H38:H47) -> 4 | I48: =SUM(I38:I47) -> 2 | J48: =SUM(J38:J47) -> 2 | K48: =SUM(K38:K47) -> 4 | L48: =SUM(L38:L47) -> 3 | ... AD48: =SUM(AD38:AD47) -> 29
A49: 04201-ILLAPEL | B49: 105326-CESFAM SAN RAFAEL | E49: =IFERROR(VLOOKUP($B49,'[1]NUM3.1'!$H$3:$S$112,2,FALSE),0) -> 3 | F49: =IFERROR(VLOOKUP($B49,'[1]NUM3.1'!$H$3:$S$112,3,FALSE),0) -> 2 | G49: =IFERROR(VLOOKUP($B49,'[1]NUM3.1'!$H$3:$S$112,4,FALSE),0) -> 0 | H49: =IFERROR(VLOOKUP($B49,'[1]NUM3.1'!$H$3:$S$112,5,FALSE),0) -> 0 | I49: =IFERROR(VLOOKUP($B49,'[1]NUM3.1'!$H$3:$S$112,6,FALSE),0) -> 0 | J49: =IFERROR(VLOOKUP($B49,'[1]NUM3.1'!$H$3:$S$112,7,FALSE),0) -> 6 | K49: =IFERROR(VLOOKUP($B49,'[1]NUM3.1'!$H$3:$S$112,8,FALSE),0) -> 0 | L49: =IFERROR(VLOOKUP($B49,'[1]NUM3.1'!$H$3:$S$112,9,FALSE),0) -> 3 | M49: =IFERROR(VLOOKUP($B49,'[1]NUM3.1'!$H$3:$S$112,10,FALSE),0) -> 2 | N49: =IFERROR(VLOOKUP($B49,'[1]NUM3.1'!$H$3:$S$112,11,FALSE),0) -> 4 | Q49: =SUM(E49:P49) -> 20 | R49: =IFERROR(VLOOKUP($B49,'[1]DEN3.1'!$H$3:$S$112,2,FALSE),0) -> 3 | S49: =IFERROR(VLOOKUP($B49,'[1]DEN3.1'!$H$3:$S$112,3,FALSE),0) -> 2 | T49: =IFERROR(VLOOKUP($B49,'[1]DEN3.1'!$H$3:$S$112,4,FALSE),0) -> 0 | U49: =IFERROR(VLOOKUP($B49,'[1]DEN3.1'!$H$3:$S$112,5,FALSE),0) -> 0 | V49: =IFERROR(VLOOKUP($B49,'[1]DEN3.1'!$H$3:$S$112,6,FALSE),0) -> 0 | W49: =IFERROR(VLOOKUP($B49,'[1]DEN3.1'!$H$3:$S$112,7,FALSE),0) -> 6 | X49: =IFERROR(VLOOKUP($B49,'[1]DEN3.1'!$H$3:$S$112,8,FALSE),0) -> 0 | Y49: =IFERROR(VLOOKUP($B49,'[1]DEN3.1'!$H$3:$S$112,9,FALSE),0) -> 3 | Z49: =IFERROR(VLOOKUP($B49,'[1]DEN3.1'!$H$3:$S$112,10,FALSE),0) -> 2 | AA49: =IFERROR(VLOOKUP($B49,'[1]DEN3.1'!$H$3:$S$112,11,FALSE),0) -> 4 | AD49: =SUM(R49:AC49) -> 20
A50: 04201-ILLAPEL | B50: 105443-P.S.R. CARCAMO | E50: =IFERROR(VLOOKUP($B50,'[1]NUM3.1'!$H$3:$S$112,2,FALSE),0) -> 0 | F50: =IFERROR(VLOOKUP($B50,'[1]NUM3.1'!$H$3:$S$112,3,FALSE),0) -> 0 | G50: =IFERROR(VLOOKUP($B50,'[1]NUM3.1'!$H$3:$S$112,4,FALSE),0) -> 0 | H50: =IFERROR(VLOOKUP($B50,'[1]NUM3.1'!$H$3:$S$112,5,FALSE),0) -> 0 | I50: =IFERROR(VLOOKUP($B50,'[1]NUM3.1'!$H$3:$S$112,6,FALSE),0) -> 0 | J50: =IFERROR(VLOOKUP($B50,'[1]NUM3.1'!$H$3:$S$112,7,FALSE),0) -> 0 | K50: =IFERROR(VLOOKUP($B50,'[1]NUM3.1'!$H$3:$S$112,8,FALSE),0) -> 0 | L50: =IFERROR(VLOOKUP($B50,'[1]NUM3.1'!$H$3:$S$112,9,FALSE),0) -> 0 | M50: =IFERROR(VLOOKUP($B50,'[1]NUM3.1'!$H$3:$S$112,10,FALSE),0) -> 0 | N50: =IFERROR(VLOOKUP($B50,'[1]NUM3.1'!$H$3:$S$112,11,FALSE),0) -> 0 | Q50: =SUM(E50:P50) -> 0 | R50: =IFERROR(VLOOKUP($B50,'[1]DEN3.1'!$H$3:$S$112,2,FALSE),0) -> 0 | S50: =IFERROR(VLOOKUP($B50,'[1]DEN3.1'!$H$3:$S$112,3,FALSE),0) -> 0 | T50: =IFERROR(VLOOKUP($B50,'[1]DEN3.1'!$H$3:$S$112,4,FALSE),0) -> 0 | U50: =IFERROR(VLOOKUP($B50,'[1]DEN3.1'!$H$3:$S$112,5,FALSE),0) -> 0 | V50: =IFERROR(VLOOKUP($B50,'[1]DEN3.1'!$H$3:$S$112,6,FALSE),0) -> 0 | W50: =IFERROR(VLOOKUP($B50,'[1]DEN3.1'!$H$3:$S$112,7,FALSE),0) -> 0 | X50: =IFERROR(VLOOKUP($B50,'[1]DEN3.1'!$H$3:$S$112,8,FALSE),0) -> 0 | Y50: =IFERROR(VLOOKUP($B50,'[1]DEN3.1'!$H$3:$S$112,9,FALSE),0) -> 0 | Z50: =IFERROR(VLOOKUP($B50,'[1]DEN3.1'!$H$3:$S$112,10,FALSE),0) -> 0 | AA50: =IFERROR(VLOOKUP($B50,'[1]DEN3.1'!$H$3:$S$112,11,FALSE),0) -> 0 | AD50: =SUM(R50:AC50) -> 0
A51: 04201-ILLAPEL | B51: 105444-P.S.R. HUINTIL | E51: =IFERROR(VLOOKUP($B51,'[1]NUM3.1'!$H$3:$S$112,2,FALSE),0) -> 0 | F51: =IFERROR(VLOOKUP($B51,'[1]NUM3.1'!$H$3:$S$112,3,FALSE),0) -> 0 | G51: =IFERROR(VLOOKUP($B51,'[1]NUM3.1'!$H$3:$S$112,4,FALSE),0) -> 0 | H51: =IFERROR(VLOOKUP($B51,'[1]NUM3.1'!$H$3:$S$112,5,FALSE),0) -> 0 | I51: =IFERROR(VLOOKUP($B51,'[1]NUM3.1'!$H$3:$S$112,6,FALSE),0) -> 0 | J51: =IFERROR(VLOOKUP($B51,'[1]NUM3.1'!$H$3:$S$112,7,FALSE),0) -> 0 | K51: =IFERROR(VLOOKUP($B51,'[1]NUM3.1'!$H$3:$S$112,8,FALSE),0) -> 0 | L51: =IFERROR(VLOOKUP($B51,'[1]NUM3.1'!$H$3:$S$112,9,FALSE),0) -> 0 | M51: =IFERROR(VLOOKUP($B51,'[1]NUM3.1'!$H$3:$S$112,10,FALSE),0) -> 0 | N51: =IFERROR(VLOOKUP($B51,'[1]NUM3.1'!$H$3:$S$112,11,FALSE),0) -> 0 | Q51: =SUM(E51:P51) -> 0 | R51: =IFERROR(VLOOKUP($B51,'[1]DEN3.1'!$H$3:$S$112,2,FALSE),0) -> 0 | S51: =IFERROR(VLOOKUP($B51,'[1]DEN3.1'!$H$3:$S$112,3,FALSE),0) -> 0 | T51: =IFERROR(VLOOKUP($B51,'[1]DEN3.1'!$H$3:$S$112,4,FALSE),0) -> 0 | U51: =IFERROR(VLOOKUP($B51,'[1]DEN3.1'!$H$3:$S$112,5,FALSE),0) -> 0 | V51: =IFERROR(VLOOKUP($B51,'[1]DEN3.1'!$H$3:$S$112,6,FALSE),0) -> 0 | W51: =IFERROR(VLOOKUP($B51,'[1]DEN3.1'!$H$3:$S$112,7,FALSE),0) -> 0 | X51: =IFERROR(VLOOKUP($B51,'[1]DEN3.1'!$H$3:$S$112,8,FALSE),0) -> 0 | Y51: =IFERROR(VLOOKUP($B51,'[1]DEN3.1'!$H$3:$S$112,9,FALSE),0) -> 0 | Z51: =IFERROR(VLOOKUP($B51,'[1]DEN3.1'!$H$3:$S$112,10,FALSE),0) -> 0 | AA51: =IFERROR(VLOOKUP($B51,'[1]DEN3.1'!$H$3:$S$112,11,FALSE),0) -> 0 | AD51: =SUM(R51:AC51) -> 0
A52: 04201-ILLAPEL | B52: 105445-P.S.R. LIMAHUIDA | E52: =IFERROR(VLOOKUP($B52,'[1]NUM3.1'!$H$3:$S$112,2,FALSE),0) -> 0 | F52: =IFERROR(VLOOKUP($B52,'[1]NUM3.1'!$H$3:$S$112,3,FALSE),0) -> 0 | G52: =IFERROR(VLOOKUP($B52,'[1]NUM3.1'!$H$3:$S$112,4,FALSE),0) -> 0 | H52: =IFERROR(VLOOKUP($B52,'[1]NUM3.1'!$H$3:$S$112,5,FALSE),0) -> 0 | I52: =IFERROR(VLOOKUP($B52,'[1]NUM3.1'!$H$3:$S$112,6,FALSE),0) -> 0 | J52: =IFERROR(VLOOKUP($B52,'[1]NUM3.1'!$H$3:$S$112,7,FALSE),0) -> 0 | K52: =IFERROR(VLOOKUP($B52,'[1]NUM3.1'!$H$3:$S$112,8,FALSE),0) -> 0 | L52: =IFERROR(VLOOKUP($B52,'[1]NUM3.1'!$H$3:$S$112,9,FALSE),0) -> 0 | M52: =IFERROR(VLOOKUP($B52,'[1]NUM3.1'!$H$3:$S$112,10,FALSE),0) -> 0 | N52: =IFERROR(VLOOKUP($B52,'[1]NUM3.1'!$H$3:$S$112,11,FALSE),0) -> 0 | Q52: =SUM(E52:P52) -> 0 | R52: =IFERROR(VLOOKUP($B52,'[1]DEN3.1'!$H$3:$S$112,2,FALSE),0) -> 0 | S52: =IFERROR(VLOOKUP($B52,'[1]DEN3.1'!$H$3:$S$112,3,FALSE),0) -> 0 | T52: =IFERROR(VLOOKUP($B52,'[1]DEN3.1'!$H$3:$S$112,4,FALSE),0) -> 0 | U52: =IFERROR(VLOOKUP($B52,'[1]DEN3.1'!$H$3:$S$112,5,FALSE),0) -> 0 | V52: =IFERROR(VLOOKUP($B52,'[1]DEN3.1'!$H$3:$S$112,6,FALSE),0) -> 0 | W52: =IFERROR(VLOOKUP($B52,'[1]DEN3.1'!$H$3:$S$112,7,FALSE),0) -> 0 | X52: =IFERROR(VLOOKUP($B52,'[1]DEN3.1'!$H$3:$S$112,8,FALSE),0) -> 0 | Y52: =IFERROR(VLOOKUP($B52,'[1]DEN3.1'!$H$3:$S$112,9,FALSE),0) -> 0 | Z52: =IFERROR(VLOOKUP($B52,'[1]DEN3.1'!$H$3:$S$112,10,FALSE),0) -> 0 | AA52: =IFERROR(VLOOKUP($B52,'[1]DEN3.1'!$H$3:$S$112,11,FALSE),0) -> 0 | AD52: =SUM(R52:AC52) -> 0
A53: 04201-ILLAPEL | B53: 105446-P.S.R. MATANCILLA | E53: =IFERROR(VLOOKUP($B53,'[1]NUM3.1'!$H$3:$S$112,2,FALSE),0) -> 0 | F53: =IFERROR(VLOOKUP($B53,'[1]NUM3.1'!$H$3:$S$112,3,FALSE),0) -> 0 | G53: =IFERROR(VLOOKUP($B53,'[1]NUM3.1'!$H$3:$S$112,4,FALSE),0) -> 0 | H53: =IFERROR(VLOOKUP($B53,'[1]NUM3.1'!$H$3:$S$112,5,FALSE),0) -> 0 | I53: =IFERROR(VLOOKUP($B53,'[1]NUM3.1'!$H$3:$S$112,6,FALSE),0) -> 0 | J53: =IFERROR(VLOOKUP($B53,'[1]NUM3.1'!$H$3:$S$112,7,FALSE),0) -> 0 | K53: =IFERROR(VLOOKUP($B53,'[1]NUM3.1'!$H$3:$S$112,8,FALSE),0) -> 0 | L53: =IFERROR(VLOOKUP($B53,'[1]NUM3.1'!$H$3:$S$112,9,FALSE),0) -> 0 | M53: =IFERROR(VLOOKUP($B53,'[1]NUM3.1'!$H$3:$S$112,10,FALSE),0) -> 0 | N53: =IFERROR(VLOOKUP($B53,'[1]NUM3.1'!$H$3:$S$112,11,FALSE),0) -> 0 | Q53: =SUM(E53:P53) -> 0 | R53: =IFERROR(VLOOKUP($B53,'[1]DEN3.1'!$H$3:$S$112,2,FALSE),0) -> 0 | S53: =IFERROR(VLOOKUP($B53,'[1]DEN3.1'!$H$3:$S$112,3,FALSE),0) -> 0 | T53: =IFERROR(VLOOKUP($B53,'[1]DEN3.1'!$H$3:$S$112,4,FALSE),0) -> 0 | U53: =IFERROR(VLOOKUP($B53,'[1]DEN3.1'!$H$3:$S$112,5,FALSE),0) -> 0 | V53: =IFERROR(VLOOKUP($B53,'[1]DEN3.1'!$H$3:$S$112,6,FALSE),0) -> 0 | W53: =IFERROR(VLOOKUP($B53,'[1]DEN3.1'!$H$3:$S$112,7,FALSE),0) -> 0 | X53: =IFERROR(VLOOKUP($B53,'[1]DEN3.1'!$H$3:$S$112,8,FALSE),0) -> 0 | Y53: =IFERROR(VLOOKUP($B53,'[1]DEN3.1'!$H$3:$S$112,9,FALSE),0) -> 0 | Z53: =IFERROR(VLOOKUP($B53,'[1]DEN3.1'!$H$3:$S$112,10,FALSE),0) -> 0 | AA53: =IFERROR(VLOOKUP($B53,'[1]DEN3.1'!$H$3:$S$112,11,FALSE),0) -> 0 | AD53: =SUM(R53:AC53) -> 0
A54: 04201-ILLAPEL | B54: 105447-P.S.R. PERALILLO | E54: =IFERROR(VLOOKUP($B54,'[1]NUM3.1'!$H$3:$S$112,2,FALSE),0) -> 0 | F54: =IFERROR(VLOOKUP($B54,'[1]NUM3.1'!$H$3:$S$112,3,FALSE),0) -> 0 | G54: =IFERROR(VLOOKUP($B54,'[1]NUM3.1'!$H$3:$S$112,4,FALSE),0) -> 0 | H54: =IFERROR(VLOOKUP($B54,'[1]NUM3.1'!$H$3:$S$112,5,FALSE),0) -> 0 | I54: =IFERROR(VLOOKUP($B54,'[1]NUM3.1'!$H$3:$S$112,6,FALSE),0) -> 0 | J54: =IFERROR(VLOOKUP($B54,'[1]NUM3.1'!$H$3:$S$112,7,FALSE),0) -> 0 | K54: =IFERROR(VLOOKUP($B54,'[1]NUM3.1'!$H$3:$S$112,8,FALSE),0) -> 0 | L54: =IFERROR(VLOOKUP($B54,'[1]NUM3.1'!$H$3:$S$112,9,FALSE),0) -> 0 | M54: =IFERROR(VLOOKUP($B54,'[1]NUM3.1'!$H$3:$S$112,10,FALSE),0) -> 0 | N54: =IFERROR(VLOOKUP($B54,'[1]NUM3.1'!$H$3:$S$112,11,FALSE),0) -> 0 | Q54: =SUM(E54:P54) -> 0 | R54: =IFERROR(VLOOKUP($B54,'[1]DEN3.1'!$H$3:$S$112,2,FALSE),0) -> 0 | S54: =IFERROR(VLOOKUP($B54,'[1]DEN3.1'!$H$3:$S$112,3,FALSE),0) -> 0 | T54: =IFERROR(VLOOKUP($B54,'[1]DEN3.1'!$H$3:$S$112,4,FALSE),0) -> 0 | U54: =IFERROR(VLOOKUP($B54,'[1]DEN3.1'!$H$3:$S$112,5,FALSE),0) -> 0 | V54: =IFERROR(VLOOKUP($B54,'[1]DEN3.1'!$H$3:$S$112,6,FALSE),0) -> 0 | W54: =IFERROR(VLOOKUP($B54,'[1]DEN3.1'!$H$3:$S$112,7,FALSE),0) -> 0 | X54: =IFERROR(VLOOKUP($B54,'[1]DEN3.1'!$H$3:$S$112,8,FALSE),0) -> 0 | Y54: =IFERROR(VLOOKUP($B54,'[1]DEN3.1'!$H$3:$S$112,9,FALSE),0) -> 0 | Z54: =IFERROR(VLOOKUP($B54,'[1]DEN3.1'!$H$3:$S$112,10,FALSE),0) -> 0 | AA54: =IFERROR(VLOOKUP($B54,'[1]DEN3.1'!$H$3:$S$112,11,FALSE),0) -> 0 | AD54: =SUM(R54:AC54) -> 0
A55: 04201-ILLAPEL | B55: 105448-P.S.R. SANTA VIRGINIA | E55: =IFERROR(VLOOKUP($B55,'[1]NUM3.1'!$H$3:$S$112,2,FALSE),0) -> 0 | F55: =IFERROR(VLOOKUP($B55,'[1]NUM3.1'!$H$3:$S$112,3,FALSE),0) -> 0 | G55: =IFERROR(VLOOKUP($B55,'[1]NUM3.1'!$H$3:$S$112,4,FALSE),0) -> 0 | H55: =IFERROR(VLOOKUP($B55,'[1]NUM3.1'!$H$3:$S$112,5,FALSE),0) -> 0 | I55: =IFERROR(VLOOKUP($B55,'[1]NUM3.1'!$H$3:$S$112,6,FALSE),0) -> 0 | J55: =IFERROR(VLOOKUP($B55,'[1]NUM3.1'!$H$3:$S$112,7,FALSE),0) -> 0 | K55: =IFERROR(VLOOKUP($B55,'[1]NUM3.1'!$H$3:$S$112,8,FALSE),0) -> 0 | L55: =IFERROR(VLOOKUP($B55,'[1]NUM3.1'!$H$3:$S$112,9,FALSE),0) -> 0 | M55: =IFERROR(VLOOKUP($B55,'[1]NUM3.1'!$H$3:$S$112,10,FALSE),0) -> 0 | N55: =IFERROR(VLOOKUP($B55,'[1]NUM3.1'!$H$3:$S$112,11,FALSE),0) -> 0 | Q55: =SUM(E55:P55) -> 0 | R55: =IFERROR(VLOOKUP($B55,'[1]DEN3.1'!$H$3:$S$112,2,FALSE),0) -> 0 | S55: =IFERROR(VLOOKUP($B55,'[1]DEN3.1'!$H$3:$S$112,3,FALSE),0) -> 0 | T55: =IFERROR(VLOOKUP($B55,'[1]DEN3.1'!$H$3:$S$112,4,FALSE),0) -> 0 | U55: =IFERROR(VLOOKUP($B55,'[1]DEN3.1'!$H$3:$S$112,5,FALSE),0) -> 0 | V55: =IFERROR(VLOOKUP($B55,'[1]DEN3.1'!$H$3:$S$112,6,FALSE),0) -> 0 | W55: =IFERROR(VLOOKUP($B55,'[1]DEN3.1'!$H$3:$S$112,7,FALSE),0) -> 0 | X55: =IFERROR(VLOOKUP($B55,'[1]DEN3.1'!$H$3:$S$112,8,FALSE),0) -> 0 | Y55: =IFERROR(VLOOKUP($B55,'[1]DEN3.1'!$H$3:$S$112,9,FALSE),0) -> 0 | Z55: =IFERROR(VLOOKUP($B55,'[1]DEN3.1'!$H$3:$S$112,10,FALSE),0) -> 0 | AA55: =IFERROR(VLOOKUP($B55,'[1]DEN3.1'!$H$3:$S$112,11,FALSE),0) -> 0 | AD55: =SUM(R55:AC55) -> 0
A56: 04201-ILLAPEL | B56: 105449-P.S.R. TUNGA NORTE | E56: =IFERROR(VLOOKUP($B56,'[1]NUM3.1'!$H$3:$S$112,2,FALSE),0) -> 0 | F56: =IFERROR(VLOOKUP($B56,'[1]NUM3.1'!$H$3:$S$112,3,FALSE),0) -> 0 | G56: =IFERROR(VLOOKUP($B56,'[1]NUM3.1'!$H$3:$S$112,4,FALSE),0) -> 0 | H56: =IFERROR(VLOOKUP($B56,'[1]NUM3.1'!$H$3:$S$112,5,FALSE),0) -> 0 | I56: =IFERROR(VLOOKUP($B56,'[1]NUM3.1'!$H$3:$S$112,6,FALSE),0) -> 0 | J56: =IFERROR(VLOOKUP($B56,'[1]NUM3.1'!$H$3:$S$112,7,FALSE),0) -> 0 | K56: =IFERROR(VLOOKUP($B56,'[1]NUM3.1'!$H$3:$S$112,8,FALSE),0) -> 0 | L56: =IFERROR(VLOOKUP($B56,'[1]NUM3.1'!$H$3:$S$112,9,FALSE),0) -> 0 | M56: =IFERROR(VLOOKUP($B56,'[1]NUM3.1'!$H$3:$S$112,10,FALSE),0) -> 0 | N56: =IFERROR(VLOOKUP($B56,'[1]NUM3.1'!$H$3:$S$112,11,FALSE),0) -> 0 | Q56: =SUM(E56:P56) -> 0 | R56: =IFERROR(VLOOKUP($B56,'[1]DEN3.1'!$H$3:$S$112,2,FALSE),0) -> 0 | S56: =IFERROR(VLOOKUP($B56,'[1]DEN3.1'!$H$3:$S$112,3,FALSE),0) -> 0 | T56: =IFERROR(VLOOKUP($B56,'[1]DEN3.1'!$H$3:$S$112,4,FALSE),0) -> 0 | U56: =IFERROR(VLOOKUP($B56,'[1]DEN3.1'!$H$3:$S$112,5,FALSE),0) -> 0 | V56: =IFERROR(VLOOKUP($B56,'[1]DEN3.1'!$H$3:$S$112,6,FALSE),0) -> 0 | W56: =IFERROR(VLOOKUP($B56,'[1]DEN3.1'!$H$3:$S$112,7,FALSE),0) -> 0 | X56: =IFERROR(VLOOKUP($B56,'[1]DEN3.1'!$H$3:$S$112,8,FALSE),0) -> 0 | Y56: =IFERROR(VLOOKUP($B56,'[1]DEN3.1'!$H$3:$S$112,9,FALSE),0) -> 0 | Z56: =IFERROR(VLOOKUP($B56,'[1]DEN3.1'!$H$3:$S$112,10,FALSE),0) -> 0 | AA56: =IFERROR(VLOOKUP($B56,'[1]DEN3.1'!$H$3:$S$112,11,FALSE),0) -> 0 | AD56: =SUM(R56:AC56) -> 0
A57: 04201-ILLAPEL | B57: 105485-P.S.R. PLAN DE HORNOS | E57: =IFERROR(VLOOKUP($B57,'[1]NUM3.1'!$H$3:$S$112,2,FALSE),0) -> 0 | F57: =IFERROR(VLOOKUP($B57,'[1]NUM3.1'!$H$3:$S$112,3,FALSE),0) -> 0 | G57: =IFERROR(VLOOKUP($B57,'[1]NUM3.1'!$H$3:$S$112,4,FALSE),0) -> 0 | H57: =IFERROR(VLOOKUP($B57,'[1]NUM3.1'!$H$3:$S$112,5,FALSE),0) -> 0 | I57: =IFERROR(VLOOKUP($B57,'[1]NUM3.1'!$H$3:$S$112,6,FALSE),0) -> 2 | J57: =IFERROR(VLOOKUP($B57,'[1]NUM3.1'!$H$3:$S$112,7,FALSE),0) -> 0 | K57: =IFERROR(VLOOKUP($B57,'[1]NUM3.1'!$H$3:$S$112,8,FALSE),0) -> 0 | L57: =IFERROR(VLOOKUP($B57,'[1]NUM3.1'!$H$3:$S$112,9,FALSE),0) -> 0 | M57: =IFERROR(VLOOKUP($B57,'[1]NUM3.1'!$H$3:$S$112,10,FALSE),0) -> 0 | N57: =IFERROR(VLOOKUP($B57,'[1]NUM3.1'!$H$3:$S$112,11,FALSE),0) -> 0 | Q57: =SUM(E57:P57) -> 2 | R57: =IFERROR(VLOOKUP($B57,'[1]DEN3.1'!$H$3:$S$112,2,FALSE),0) -> 0 | S57: =IFERROR(VLOOKUP($B57,'[1]DEN3.1'!$H$3:$S$112,3,FALSE),0) -> 0 | T57: =IFERROR(VLOOKUP($B57,'[1]DEN3.1'!$H$3:$S$112,4,FALSE),0) -> 0 | U57: =IFERROR(VLOOKUP($B57,'[1]DEN3.1'!$H$3:$S$112,5,FALSE),0) -> 0 | V57: =IFERROR(VLOOKUP($B57,'[1]DEN3.1'!$H$3:$S$112,6,FALSE),0) -> 2 | W57: =IFERROR(VLOOKUP($B57,'[1]DEN3.1'!$H$3:$S$112,7,FALSE),0) -> 0 | X57: =IFERROR(VLOOKUP($B57,'[1]DEN3.1'!$H$3:$S$112,8,FALSE),0) -> 0 | Y57: =IFERROR(VLOOKUP($B57,'[1]DEN3.1'!$H$3:$S$112,9,FALSE),0) -> 0 | Z57: =IFERROR(VLOOKUP($B57,'[1]DEN3.1'!$H$3:$S$112,10,FALSE),0) -> 0 | AA57: =IFERROR(VLOOKUP($B57,'[1]DEN3.1'!$H$3:$S$112,11,FALSE),0) -> 0 | AD57: =SUM(R57:AC57) -> 2
A58: 04201-ILLAPEL | B58: 105486-P.S.R. TUNGA SUR | E58: =IFERROR(VLOOKUP($B58,'[1]NUM3.1'!$H$3:$S$112,2,FALSE),0) -> 0 | F58: =IFERROR(VLOOKUP($B58,'[1]NUM3.1'!$H$3:$S$112,3,FALSE),0) -> 0 | G58: =IFERROR(VLOOKUP($B58,'[1]NUM3.1'!$H$3:$S$112,4,FALSE),0) -> 0 | H58: =IFERROR(VLOOKUP($B58,'[1]NUM3.1'!$H$3:$S$112,5,FALSE),0) -> 0 | I58: =IFERROR(VLOOKUP($B58,'[1]NUM3.1'!$H$3:$S$112,6,FALSE),0) -> 0 | J58: =IFERROR(VLOOKUP($B58,'[1]NUM3.1'!$H$3:$S$112,7,FALSE),0) -> 0 | K58: =IFERROR(VLOOKUP($B58,'[1]NUM3.1'!$H$3:$S$112,8,FALSE),0) -> 0 | L58: =IFERROR(VLOOKUP($B58,'[1]NUM3.1'!$H$3:$S$112,9,FALSE),0) -> 0 | M58: =IFERROR(VLOOKUP($B58,'[1]NUM3.1'!$H$3:$S$112,10,FALSE),0) -> 0 | N58: =IFERROR(VLOOKUP($B58,'[1]NUM3.1'!$H$3:$S$112,11,FALSE),0) -> 0 | Q58: =SUM(E58:P58) -> 0 | R58: =IFERROR(VLOOKUP($B58,'[1]DEN3.1'!$H$3:$S$112,2,FALSE),0) -> 0 | S58: =IFERROR(VLOOKUP($B58,'[1]DEN3.1'!$H$3:$S$112,3,FALSE),0) -> 0 | T58: =IFERROR(VLOOKUP($B58,'[1]DEN3.1'!$H$3:$S$112,4,FALSE),0) -> 0 | U58: =IFERROR(VLOOKUP($B58,'[1]DEN3.1'!$H$3:$S$112,5,FALSE),0) -> 0 | V58: =IFERROR(VLOOKUP($B58,'[1]DEN3.1'!$H$3:$S$112,6,FALSE),0) -> 0 | W58: =IFERROR(VLOOKUP($B58,'[1]DEN3.1'!$H$3:$S$112,7,FALSE),0) -> 0 | X58: =IFERROR(VLOOKUP($B58,'[1]DEN3.1'!$H$3:$S$112,8,FALSE),0) -> 0 | Y58: =IFERROR(VLOOKUP($B58,'[1]DEN3.1'!$H$3:$S$112,9,FALSE),0) -> 0 | Z58: =IFERROR(VLOOKUP($B58,'[1]DEN3.1'!$H$3:$S$112,10,FALSE),0) -> 0 | AA58: =IFERROR(VLOOKUP($B58,'[1]DEN3.1'!$H$3:$S$112,11,FALSE),0) -> 0 | AD58: =SUM(R58:AC58) -> 0
A59: 04201-ILLAPEL | B59: 105487-P.S.R. CAÑAS UNO | E59: =IFERROR(VLOOKUP($B59,'[1]NUM3.1'!$H$3:$S$112,2,FALSE),0) -> 0 | F59: =IFERROR(VLOOKUP($B59,'[1]NUM3.1'!$H$3:$S$112,3,FALSE),0) -> 0 | G59: =IFERROR(VLOOKUP($B59,'[1]NUM3.1'!$H$3:$S$112,4,FALSE),0) -> 0 | H59: =IFERROR(VLOOKUP($B59,'[1]NUM3.1'!$H$3:$S$112,5,FALSE),0) -> 0 | I59: =IFERROR(VLOOKUP($B59,'[1]NUM3.1'!$H$3:$S$112,6,FALSE),0) -> 0 | J59: =IFERROR(VLOOKUP($B59,'[1]NUM3.1'!$H$3:$S$112,7,FALSE),0) -> 0 | K59: =IFERROR(VLOOKUP($B59,'[1]NUM3.1'!$H$3:$S$112,8,FALSE),0) -> 0 | L59: =IFERROR(VLOOKUP($B59,'[1]NUM3.1'!$H$3:$S$112,9,FALSE),0) -> 0 | M59: =IFERROR(VLOOKUP($B59,'[1]NUM3.1'!$H$3:$S$112,10,FALSE),0) -> 0 | N59: =IFERROR(VLOOKUP($B59,'[1]NUM3.1'!$H$3:$S$112,11,FALSE),0) -> 0 | Q59: =SUM(E59:P59) -> 0 | R59: =IFERROR(VLOOKUP($B59,'[1]DEN3.1'!$H$3:$S$112,2,FALSE),0) -> 0 | S59: =IFERROR(VLOOKUP($B59,'[1]DEN3.1'!$H$3:$S$112,3,FALSE),0) -> 0 | T59: =IFERROR(VLOOKUP($B59,'[1]DEN3.1'!$H$3:$S$112,4,FALSE),0) -> 0 | U59: =IFERROR(VLOOKUP($B59,'[1]DEN3.1'!$H$3:$S$112,5,FALSE),0) -> 0 | V59: =IFERROR(VLOOKUP($B59,'[1]DEN3.1'!$H$3:$S$112,6,FALSE),0) -> 0 | W59: =IFERROR(VLOOKUP($B59,'[1]DEN3.1'!$H$3:$S$112,7,FALSE),0) -> 0 | X59: =IFERROR(VLOOKUP($B59,'[1]DEN3.1'!$H$3:$S$112,8,FALSE),0) -> 0 | Y59: =IFERROR(VLOOKUP($B59,'[1]DEN3.1'!$H$3:$S$112,9,FALSE),0) -> 0 | Z59: =IFERROR(VLOOKUP($B59,'[1]DEN3.1'!$H$3:$S$112,10,FALSE),0) -> 0 | AA59: =IFERROR(VLOOKUP($B59,'[1]DEN3.1'!$H$3:$S$112,11,FALSE),0) -> 0 | AD59: =SUM(R59:AC59) -> 0
A60: 04201-ILLAPEL | B60: 105496-P.S.R. PINTACURA SUR | E60: =IFERROR(VLOOKUP($B60,'[1]NUM3.1'!$H$3:$S$112,2,FALSE),0) -> 0 | F60: =IFERROR(VLOOKUP($B60,'[1]NUM3.1'!$H$3:$S$112,3,FALSE),0) -> 0 | G60: =IFERROR(VLOOKUP($B60,'[1]NUM3.1'!$H$3:$S$112,4,FALSE),0) -> 0 | H60: =IFERROR(VLOOKUP($B60,'[1]NUM3.1'!$H$3:$S$112,5,FALSE),0) -> 0 | I60: =IFERROR(VLOOKUP($B60,'[1]NUM3.1'!$H$3:$S$112,6,FALSE),0) -> 0 | J60: =IFERROR(VLOOKUP($B60,'[1]NUM3.1'!$H$3:$S$112,7,FALSE),0) -> 0 | K60: =IFERROR(VLOOKUP($B60,'[1]NUM3.1'!$H$3:$S$112,8,FALSE),0) -> 0 | L60: =IFERROR(VLOOKUP($B60,'[1]NUM3.1'!$H$3:$S$112,9,FALSE),0) -> 0 | M60: =IFERROR(VLOOKUP($B60,'[1]NUM3.1'!$H$3:$S$112,10,FALSE),0) -> 0 | N60: =IFERROR(VLOOKUP($B60,'[1]NUM3.1'!$H$3:$S$112,11,FALSE),0) -> 0 | Q60: =SUM(E60:P60) -> 0 | R60: =IFERROR(VLOOKUP($B60,'[1]DEN3.1'!$H$3:$S$112,2,FALSE),0) -> 0 | S60: =IFERROR(VLOOKUP($B60,'[1]DEN3.1'!$H$3:$S$112,3,FALSE),0) -> 0 | T60: =IFERROR(VLOOKUP($B60,'[1]DEN3.1'!$H$3:$S$112,4,FALSE),0) -> 0 | U60: =IFERROR(VLOOKUP($B60,'[1]DEN3.1'!$H$3:$S$112,5,FALSE),0) -> 0 | V60: =IFERROR(VLOOKUP($B60,'[1]DEN3.1'!$H$3:$S$112,6,FALSE),0) -> 0 | W60: =IFERROR(VLOOKUP($B60,'[1]DEN3.1'!$H$3:$S$112,7,FALSE),0) -> 0 | X60: =IFERROR(VLOOKUP($B60,'[1]DEN3.1'!$H$3:$S$112,8,FALSE),0) -> 0 | Y60: =IFERROR(VLOOKUP($B60,'[1]DEN3.1'!$H$3:$S$112,9,FALSE),0) -> 0 | Z60: =IFERROR(VLOOKUP($B60,'[1]DEN3.1'!$H$3:$S$112,10,FALSE),0) -> 0 | AA60: =IFERROR(VLOOKUP($B60,'[1]DEN3.1'!$H$3:$S$112,11,FALSE),0) -> 0 | AD60: =SUM(R60:AC60) -> 0
A61: 04201-ILLAPEL | B61: 105504-P.S.R. SOCAVON | E61: =IFERROR(VLOOKUP($B61,'[1]NUM3.1'!$H$3:$S$112,2,FALSE),0) -> 0 | F61: =IFERROR(VLOOKUP($B61,'[1]NUM3.1'!$H$3:$S$112,3,FALSE),0) -> 0 | G61: =IFERROR(VLOOKUP($B61,'[1]NUM3.1'!$H$3:$S$112,4,FALSE),0) -> 0 | H61: =IFERROR(VLOOKUP($B61,'[1]NUM3.1'!$H$3:$S$112,5,FALSE),0) -> 0 | I61: =IFERROR(VLOOKUP($B61,'[1]NUM3.1'!$H$3:$S$112,6,FALSE),0) -> 0 | J61: =IFERROR(VLOOKUP($B61,'[1]NUM3.1'!$H$3:$S$112,7,FALSE),0) -> 0 | K61: =IFERROR(VLOOKUP($B61,'[1]NUM3.1'!$H$3:$S$112,8,FALSE),0) -> 0 | L61: =IFERROR(VLOOKUP($B61,'[1]NUM3.1'!$H$3:$S$112,9,FALSE),0) -> 0 | M61: =IFERROR(VLOOKUP($B61,'[1]NUM3.1'!$H$3:$S$112,10,FALSE),0) -> 0 | N61: =IFERROR(VLOOKUP($B61,'[1]NUM3.1'!$H$3:$S$112,11,FALSE),0) -> 0 | Q61: =SUM(E61:P61) -> 0 | R61: =IFERROR(VLOOKUP($B61,'[1]DEN3.1'!$H$3:$S$112,2,FALSE),0) -> 0 | S61: =IFERROR(VLOOKUP($B61,'[1]DEN3.1'!$H$3:$S$112,3,FALSE),0) -> 0 | T61: =IFERROR(VLOOKUP($B61,'[1]DEN3.1'!$H$3:$S$112,4,FALSE),0) -> 0 | U61: =IFERROR(VLOOKUP($B61,'[1]DEN3.1'!$H$3:$S$112,5,FALSE),0) -> 0 | V61: =IFERROR(VLOOKUP($B61,'[1]DEN3.1'!$H$3:$S$112,6,FALSE),0) -> 0 | W61: =IFERROR(VLOOKUP($B61,'[1]DEN3.1'!$H$3:$S$112,7,FALSE),0) -> 0 | X61: =IFERROR(VLOOKUP($B61,'[1]DEN3.1'!$H$3:$S$112,8,FALSE),0) -> 0 | Y61: =IFERROR(VLOOKUP($B61,'[1]DEN3.1'!$H$3:$S$112,9,FALSE),0) -> 0 | Z61: =IFERROR(VLOOKUP($B61,'[1]DEN3.1'!$H$3:$S$112,10,FALSE),0) -> 0 | AA61: =IFERROR(VLOOKUP($B61,'[1]DEN3.1'!$H$3:$S$112,11,FALSE),0) -> 0 | AD61: =SUM(R61:AC61) -> 0
A62: TOTAL ILLAPEL | C62: =+D62/Metas!H88 -> 1.0196078 | D62: =+Q62/AD62 -> 1 | E62: =SUM(E49:E61) -> 3 | F62: =SUM(F49:F61) -> 2 | G62: =SUM(G49:G61) -> 0 | H62: =SUM(H49:H61) -> 0 | I62: =SUM(I49:I61) -> 2 | J62: =SUM(J49:J61) -> 6 | K62: =SUM(K49:K61) -> 0 | L62: =SUM(L49:L61) -> 3 | ... AD62: =SUM(AD49:AD61) -> 22
A63: 04202-CANELA | B63: 105309-CES. RURAL CANELA | E63: =IFERROR(VLOOKUP($B63,'[1]NUM3.1'!$H$3:$S$112,2,FALSE),0) -> 12 | F63: =IFERROR(VLOOKUP($B63,'[1]NUM3.1'!$H$3:$S$112,3,FALSE),0) -> 10 | G63: =IFERROR(VLOOKUP($B63,'[1]NUM3.1'!$H$3:$S$112,4,FALSE),0) -> 11 | H63: =IFERROR(VLOOKUP($B63,'[1]NUM3.1'!$H$3:$S$112,5,FALSE),0) -> 8 | I63: =IFERROR(VLOOKUP($B63,'[1]NUM3.1'!$H$3:$S$112,6,FALSE),0) -> 4 | J63: =IFERROR(VLOOKUP($B63,'[1]NUM3.1'!$H$3:$S$112,7,FALSE),0) -> 5 | K63: =IFERROR(VLOOKUP($B63,'[1]NUM3.1'!$H$3:$S$112,8,FALSE),0) -> 5 | L63: =IFERROR(VLOOKUP($B63,'[1]NUM3.1'!$H$3:$S$112,9,FALSE),0) -> 6 | M63: =IFERROR(VLOOKUP($B63,'[1]NUM3.1'!$H$3:$S$112,10,FALSE),0) -> 3 | N63: =IFERROR(VLOOKUP($B63,'[1]NUM3.1'!$H$3:$S$112,11,FALSE),0) -> 1 | Q63: =SUM(E63:P63) -> 65 | R63: =IFERROR(VLOOKUP($B63,'[1]DEN3.1'!$H$3:$S$112,2,FALSE),0) -> 12 | S63: =IFERROR(VLOOKUP($B63,'[1]DEN3.1'!$H$3:$S$112,3,FALSE),0) -> 10 | T63: =IFERROR(VLOOKUP($B63,'[1]DEN3.1'!$H$3:$S$112,4,FALSE),0) -> 11 | U63: =IFERROR(VLOOKUP($B63,'[1]DEN3.1'!$H$3:$S$112,5,FALSE),0) -> 8 | V63: =IFERROR(VLOOKUP($B63,'[1]DEN3.1'!$H$3:$S$112,6,FALSE),0) -> 4 | W63: =IFERROR(VLOOKUP($B63,'[1]DEN3.1'!$H$3:$S$112,7,FALSE),0) -> 5 | X63: =IFERROR(VLOOKUP($B63,'[1]DEN3.1'!$H$3:$S$112,8,FALSE),0) -> 5 | Y63: =IFERROR(VLOOKUP($B63,'[1]DEN3.1'!$H$3:$S$112,9,FALSE),0) -> 6 | Z63: =IFERROR(VLOOKUP($B63,'[1]DEN3.1'!$H$3:$S$112,10,FALSE),0) -> 3 | AA63: =IFERROR(VLOOKUP($B63,'[1]DEN3.1'!$H$3:$S$112,11,FALSE),0) -> 1 | AD63: =SUM(R63:AC63) -> 65
A64: 04202-CANELA | B64: 105450-P.S.R. MINCHA NORTE | E64: =IFERROR(VLOOKUP($B64,'[1]NUM3.1'!$H$3:$S$112,2,FALSE),0) -> 0 | F64: =IFERROR(VLOOKUP($B64,'[1]NUM3.1'!$H$3:$S$112,3,FALSE),0) -> 0 | G64: =IFERROR(VLOOKUP($B64,'[1]NUM3.1'!$H$3:$S$112,4,FALSE),0) -> 0 | H64: =IFERROR(VLOOKUP($B64,'[1]NUM3.1'!$H$3:$S$112,5,FALSE),0) -> 0 | I64: =IFERROR(VLOOKUP($B64,'[1]NUM3.1'!$H$3:$S$112,6,FALSE),0) -> 0 | J64: =IFERROR(VLOOKUP($B64,'[1]NUM3.1'!$H$3:$S$112,7,FALSE),0) -> 0 | K64: =IFERROR(VLOOKUP($B64,'[1]NUM3.1'!$H$3:$S$112,8,FALSE),0) -> 0 | L64: =IFERROR(VLOOKUP($B64,'[1]NUM3.1'!$H$3:$S$112,9,FALSE),0) -> 0 | M64: =IFERROR(VLOOKUP($B64,'[1]NUM3.1'!$H$3:$S$112,10,FALSE),0) -> 0 | N64: =IFERROR(VLOOKUP($B64,'[1]NUM3.1'!$H$3:$S$112,11,FALSE),0) -> 0 | Q64: =SUM(E64:P64) -> 0 | R64: =IFERROR(VLOOKUP($B64,'[1]DEN3.1'!$H$3:$S$112,2,FALSE),0) -> 0 | S64: =IFERROR(VLOOKUP($B64,'[1]DEN3.1'!$H$3:$S$112,3,FALSE),0) -> 0 | T64: =IFERROR(VLOOKUP($B64,'[1]DEN3.1'!$H$3:$S$112,4,FALSE),0) -> 0 | U64: =IFERROR(VLOOKUP($B64,'[1]DEN3.1'!$H$3:$S$112,5,FALSE),0) -> 0 | V64: =IFERROR(VLOOKUP($B64,'[1]DEN3.1'!$H$3:$S$112,6,FALSE),0) -> 0 | W64: =IFERROR(VLOOKUP($B64,'[1]DEN3.1'!$H$3:$S$112,7,FALSE),0) -> 0 | X64: =IFERROR(VLOOKUP($B64,'[1]DEN3.1'!$H$3:$S$112,8,FALSE),0) -> 0 | Y64: =IFERROR(VLOOKUP($B64,'[1]DEN3.1'!$H$3:$S$112,9,FALSE),0) -> 0 | Z64: =IFERROR(VLOOKUP($B64,'[1]DEN3.1'!$H$3:$S$112,10,FALSE),0) -> 0 | AA64: =IFERROR(VLOOKUP($B64,'[1]DEN3.1'!$H$3:$S$112,11,FALSE),0) -> 0 | AD64: =SUM(R64:AC64) -> 0
A65: 04202-CANELA | B65: 105451-P.S.R. AGUA FRIA | E65: =IFERROR(VLOOKUP($B65,'[1]NUM3.1'!$H$3:$S$112,2,FALSE),0) -> 0 | F65: =IFERROR(VLOOKUP($B65,'[1]NUM3.1'!$H$3:$S$112,3,FALSE),0) -> 0 | G65: =IFERROR(VLOOKUP($B65,'[1]NUM3.1'!$H$3:$S$112,4,FALSE),0) -> 0 | H65: =IFERROR(VLOOKUP($B65,'[1]NUM3.1'!$H$3:$S$112,5,FALSE),0) -> 0 | I65: =IFERROR(VLOOKUP($B65,'[1]NUM3.1'!$H$3:$S$112,6,FALSE),0) -> 0 | J65: =IFERROR(VLOOKUP($B65,'[1]NUM3.1'!$H$3:$S$112,7,FALSE),0) -> 0 | K65: =IFERROR(VLOOKUP($B65,'[1]NUM3.1'!$H$3:$S$112,8,FALSE),0) -> 0 | L65: =IFERROR(VLOOKUP($B65,'[1]NUM3.1'!$H$3:$S$112,9,FALSE),0) -> 0 | M65: =IFERROR(VLOOKUP($B65,'[1]NUM3.1'!$H$3:$S$112,10,FALSE),0) -> 0 | N65: =IFERROR(VLOOKUP($B65,'[1]NUM3.1'!$H$3:$S$112,11,FALSE),0) -> 0 | Q65: =SUM(E65:P65) -> 0 | R65: =IFERROR(VLOOKUP($B65,'[1]DEN3.1'!$H$3:$S$112,2,FALSE),0) -> 0 | S65: =IFERROR(VLOOKUP($B65,'[1]DEN3.1'!$H$3:$S$112,3,FALSE),0) -> 0 | T65: =IFERROR(VLOOKUP($B65,'[1]DEN3.1'!$H$3:$S$112,4,FALSE),0) -> 0 | U65: =IFERROR(VLOOKUP($B65,'[1]DEN3.1'!$H$3:$S$112,5,FALSE),0) -> 0 | V65: =IFERROR(VLOOKUP($B65,'[1]DEN3.1'!$H$3:$S$112,6,FALSE),0) -> 0 | W65: =IFERROR(VLOOKUP($B65,'[1]DEN3.1'!$H$3:$S$112,7,FALSE),0) -> 0 | X65: =IFERROR(VLOOKUP($B65,'[1]DEN3.1'!$H$3:$S$112,8,FALSE),0) -> 0 | Y65: =IFERROR(VLOOKUP($B65,'[1]DEN3.1'!$H$3:$S$112,9,FALSE),0) -> 0 | Z65: =IFERROR(VLOOKUP($B65,'[1]DEN3.1'!$H$3:$S$112,10,FALSE),0) -> 0 | AA65: =IFERROR(VLOOKUP($B65,'[1]DEN3.1'!$H$3:$S$112,11,FALSE),0) -> 0 | AD65: =SUM(R65:AC65) -> 0
A66: 04202-CANELA | B66: 105482-P.S.R. CANELA ALTA | E66: =IFERROR(VLOOKUP($B66,'[1]NUM3.1'!$H$3:$S$112,2,FALSE),0) -> 0 | F66: =IFERROR(VLOOKUP($B66,'[1]NUM3.1'!$H$3:$S$112,3,FALSE),0) -> 0 | G66: =IFERROR(VLOOKUP($B66,'[1]NUM3.1'!$H$3:$S$112,4,FALSE),0) -> 0 | H66: =IFERROR(VLOOKUP($B66,'[1]NUM3.1'!$H$3:$S$112,5,FALSE),0) -> 0 | I66: =IFERROR(VLOOKUP($B66,'[1]NUM3.1'!$H$3:$S$112,6,FALSE),0) -> 0 | J66: =IFERROR(VLOOKUP($B66,'[1]NUM3.1'!$H$3:$S$112,7,FALSE),0) -> 0 | K66: =IFERROR(VLOOKUP($B66,'[1]NUM3.1'!$H$3:$S$112,8,FALSE),0) -> 0 | L66: =IFERROR(VLOOKUP($B66,'[1]NUM3.1'!$H$3:$S$112,9,FALSE),0) -> 0 | M66: =IFERROR(VLOOKUP($B66,'[1]NUM3.1'!$H$3:$S$112,10,FALSE),0) -> 0 | N66: =IFERROR(VLOOKUP($B66,'[1]NUM3.1'!$H$3:$S$112,11,FALSE),0) -> 0 | Q66: =SUM(E66:P66) -> 0 | R66: =IFERROR(VLOOKUP($B66,'[1]DEN3.1'!$H$3:$S$112,2,FALSE),0) -> 0 | S66: =IFERROR(VLOOKUP($B66,'[1]DEN3.1'!$H$3:$S$112,3,FALSE),0) -> 0 | T66: =IFERROR(VLOOKUP($B66,'[1]DEN3.1'!$H$3:$S$112,4,FALSE),0) -> 0 | U66: =IFERROR(VLOOKUP($B66,'[1]DEN3.1'!$H$3:$S$112,5,FALSE),0) -> 0 | V66: =IFERROR(VLOOKUP($B66,'[1]DEN3.1'!$H$3:$S$112,6,FALSE),0) -> 0 | W66: =IFERROR(VLOOKUP($B66,'[1]DEN3.1'!$H$3:$S$112,7,FALSE),0) -> 0 | X66: =IFERROR(VLOOKUP($B66,'[1]DEN3.1'!$H$3:$S$112,8,FALSE),0) -> 0 | Y66: =IFERROR(VLOOKUP($B66,'[1]DEN3.1'!$H$3:$S$112,9,FALSE),0) -> 0 | Z66: =IFERROR(VLOOKUP($B66,'[1]DEN3.1'!$H$3:$S$112,10,FALSE),0) -> 0 | AA66: =IFERROR(VLOOKUP($B66,'[1]DEN3.1'!$H$3:$S$112,11,FALSE),0) -> 0 | AD66: =SUM(R66:AC66) -> 0
A67: 04202-CANELA | B67: 105483-P.S.R. LOS RULOS | E67: =IFERROR(VLOOKUP($B67,'[1]NUM3.1'!$H$3:$S$112,2,FALSE),0) -> 0 | F67: =IFERROR(VLOOKUP($B67,'[1]NUM3.1'!$H$3:$S$112,3,FALSE),0) -> 0 | G67: =IFERROR(VLOOKUP($B67,'[1]NUM3.1'!$H$3:$S$112,4,FALSE),0) -> 0 | H67: =IFERROR(VLOOKUP($B67,'[1]NUM3.1'!$H$3:$S$112,5,FALSE),0) -> 0 | I67: =IFERROR(VLOOKUP($B67,'[1]NUM3.1'!$H$3:$S$112,6,FALSE),0) -> 0 | J67: =IFERROR(VLOOKUP($B67,'[1]NUM3.1'!$H$3:$S$112,7,FALSE),0) -> 0 | K67: =IFERROR(VLOOKUP($B67,'[1]NUM3.1'!$H$3:$S$112,8,FALSE),0) -> 0 | L67: =IFERROR(VLOOKUP($B67,'[1]NUM3.1'!$H$3:$S$112,9,FALSE),0) -> 0 | M67: =IFERROR(VLOOKUP($B67,'[1]NUM3.1'!$H$3:$S$112,10,FALSE),0) -> 0 | N67: =IFERROR(VLOOKUP($B67,'[1]NUM3.1'!$H$3:$S$112,11,FALSE),0) -> 0 | Q67: =SUM(E67:P67) -> 0 | R67: =IFERROR(VLOOKUP($B67,'[1]DEN3.1'!$H$3:$S$112,2,FALSE),0) -> 0 | S67: =IFERROR(VLOOKUP($B67,'[1]DEN3.1'!$H$3:$S$112,3,FALSE),0) -> 0 | T67: =IFERROR(VLOOKUP($B67,'[1]DEN3.1'!$H$3:$S$112,4,FALSE),0) -> 0 | U67: =IFERROR(VLOOKUP($B67,'[1]DEN3.1'!$H$3:$S$112,5,FALSE),0) -> 0 | V67: =IFERROR(VLOOKUP($B67,'[1]DEN3.1'!$H$3:$S$112,6,FALSE),0) -> 0 | W67: =IFERROR(VLOOKUP($B67,'[1]DEN3.1'!$H$3:$S$112,7,FALSE),0) -> 0 | X67: =IFERROR(VLOOKUP($B67,'[1]DEN3.1'!$H$3:$S$112,8,FALSE),0) -> 0 | Y67: =IFERROR(VLOOKUP($B67,'[1]DEN3.1'!$H$3:$S$112,9,FALSE),0) -> 0 | Z67: =IFERROR(VLOOKUP($B67,'[1]DEN3.1'!$H$3:$S$112,10,FALSE),0) -> 0 | AA67: =IFERROR(VLOOKUP($B67,'[1]DEN3.1'!$H$3:$S$112,11,FALSE),0) -> 0 | AD67: =SUM(R67:AC67) -> 0
A68: 04202-CANELA | B68: 105484-P.S.R. HUENTELAUQUEN | E68: =IFERROR(VLOOKUP($B68,'[1]NUM3.1'!$H$3:$S$112,2,FALSE),0) -> 0 | F68: =IFERROR(VLOOKUP($B68,'[1]NUM3.1'!$H$3:$S$112,3,FALSE),0) -> 0 | G68: =IFERROR(VLOOKUP($B68,'[1]NUM3.1'!$H$3:$S$112,4,FALSE),0) -> 0 | H68: =IFERROR(VLOOKUP($B68,'[1]NUM3.1'!$H$3:$S$112,5,FALSE),0) -> 0 | I68: =IFERROR(VLOOKUP($B68,'[1]NUM3.1'!$H$3:$S$112,6,FALSE),0) -> 0 | J68: =IFERROR(VLOOKUP($B68,'[1]NUM3.1'!$H$3:$S$112,7,FALSE),0) -> 0 | K68: =IFERROR(VLOOKUP($B68,'[1]NUM3.1'!$H$3:$S$112,8,FALSE),0) -> 0 | L68: =IFERROR(VLOOKUP($B68,'[1]NUM3.1'!$H$3:$S$112,9,FALSE),0) -> 0 | M68: =IFERROR(VLOOKUP($B68,'[1]NUM3.1'!$H$3:$S$112,10,FALSE),0) -> 0 | N68: =IFERROR(VLOOKUP($B68,'[1]NUM3.1'!$H$3:$S$112,11,FALSE),0) -> 0 | Q68: =SUM(E68:P68) -> 0 | R68: =IFERROR(VLOOKUP($B68,'[1]DEN3.1'!$H$3:$S$112,2,FALSE),0) -> 0 | S68: =IFERROR(VLOOKUP($B68,'[1]DEN3.1'!$H$3:$S$112,3,FALSE),0) -> 0 | T68: =IFERROR(VLOOKUP($B68,'[1]DEN3.1'!$H$3:$S$112,4,FALSE),0) -> 0 | U68: =IFERROR(VLOOKUP($B68,'[1]DEN3.1'!$H$3:$S$112,5,FALSE),0) -> 0 | V68: =IFERROR(VLOOKUP($B68,'[1]DEN3.1'!$H$3:$S$112,6,FALSE),0) -> 0 | W68: =IFERROR(VLOOKUP($B68,'[1]DEN3.1'!$H$3:$S$112,7,FALSE),0) -> 0 | X68: =IFERROR(VLOOKUP($B68,'[1]DEN3.1'!$H$3:$S$112,8,FALSE),0) -> 0 | Y68: =IFERROR(VLOOKUP($B68,'[1]DEN3.1'!$H$3:$S$112,9,FALSE),0) -> 0 | Z68: =IFERROR(VLOOKUP($B68,'[1]DEN3.1'!$H$3:$S$112,10,FALSE),0) -> 0 | AA68: =IFERROR(VLOOKUP($B68,'[1]DEN3.1'!$H$3:$S$112,11,FALSE),0) -> 0 | AD68: =SUM(R68:AC68) -> 0
A69: 04202-CANELA | B69: 105488-P.S.R. ESPIRITU SANTO | E69: =IFERROR(VLOOKUP($B69,'[1]NUM3.1'!$H$3:$S$112,2,FALSE),0) -> 0 | F69: =IFERROR(VLOOKUP($B69,'[1]NUM3.1'!$H$3:$S$112,3,FALSE),0) -> 0 | G69: =IFERROR(VLOOKUP($B69,'[1]NUM3.1'!$H$3:$S$112,4,FALSE),0) -> 0 | H69: =IFERROR(VLOOKUP($B69,'[1]NUM3.1'!$H$3:$S$112,5,FALSE),0) -> 0 | I69: =IFERROR(VLOOKUP($B69,'[1]NUM3.1'!$H$3:$S$112,6,FALSE),0) -> 0 | J69: =IFERROR(VLOOKUP($B69,'[1]NUM3.1'!$H$3:$S$112,7,FALSE),0) -> 0 | K69: =IFERROR(VLOOKUP($B69,'[1]NUM3.1'!$H$3:$S$112,8,FALSE),0) -> 0 | L69: =IFERROR(VLOOKUP($B69,'[1]NUM3.1'!$H$3:$S$112,9,FALSE),0) -> 0 | M69: =IFERROR(VLOOKUP($B69,'[1]NUM3.1'!$H$3:$S$112,10,FALSE),0) -> 0 | N69: =IFERROR(VLOOKUP($B69,'[1]NUM3.1'!$H$3:$S$112,11,FALSE),0) -> 0 | Q69: =SUM(E69:P69) -> 0 | R69: =IFERROR(VLOOKUP($B69,'[1]DEN3.1'!$H$3:$S$112,2,FALSE),0) -> 0 | S69: =IFERROR(VLOOKUP($B69,'[1]DEN3.1'!$H$3:$S$112,3,FALSE),0) -> 0 | T69: =IFERROR(VLOOKUP($B69,'[1]DEN3.1'!$H$3:$S$112,4,FALSE),0) -> 0 | U69: =IFERROR(VLOOKUP($B69,'[1]DEN3.1'!$H$3:$S$112,5,FALSE),0) -> 0 | V69: =IFERROR(VLOOKUP($B69,'[1]DEN3.1'!$H$3:$S$112,6,FALSE),0) -> 0 | W69: =IFERROR(VLOOKUP($B69,'[1]DEN3.1'!$H$3:$S$112,7,FALSE),0) -> 0 | X69: =IFERROR(VLOOKUP($B69,'[1]DEN3.1'!$H$3:$S$112,8,FALSE),0) -> 0 | Y69: =IFERROR(VLOOKUP($B69,'[1]DEN3.1'!$H$3:$S$112,9,FALSE),0) -> 0 | Z69: =IFERROR(VLOOKUP($B69,'[1]DEN3.1'!$H$3:$S$112,10,FALSE),0) -> 0 | AA69: =IFERROR(VLOOKUP($B69,'[1]DEN3.1'!$H$3:$S$112,11,FALSE),0) -> 0 | AD69: =SUM(R69:AC69) -> 0
A70: 04202-CANELA | B70: 105493-P.S.R. MINCHA SUR | E70: =IFERROR(VLOOKUP($B70,'[1]NUM3.1'!$H$3:$S$112,2,FALSE),0) -> 0 | F70: =IFERROR(VLOOKUP($B70,'[1]NUM3.1'!$H$3:$S$112,3,FALSE),0) -> 0 | G70: =IFERROR(VLOOKUP($B70,'[1]NUM3.1'!$H$3:$S$112,4,FALSE),0) -> 0 | H70: =IFERROR(VLOOKUP($B70,'[1]NUM3.1'!$H$3:$S$112,5,FALSE),0) -> 0 | I70: =IFERROR(VLOOKUP($B70,'[1]NUM3.1'!$H$3:$S$112,6,FALSE),0) -> 0 | J70: =IFERROR(VLOOKUP($B70,'[1]NUM3.1'!$H$3:$S$112,7,FALSE),0) -> 0 | K70: =IFERROR(VLOOKUP($B70,'[1]NUM3.1'!$H$3:$S$112,8,FALSE),0) -> 0 | L70: =IFERROR(VLOOKUP($B70,'[1]NUM3.1'!$H$3:$S$112,9,FALSE),0) -> 0 | M70: =IFERROR(VLOOKUP($B70,'[1]NUM3.1'!$H$3:$S$112,10,FALSE),0) -> 0 | N70: =IFERROR(VLOOKUP($B70,'[1]NUM3.1'!$H$3:$S$112,11,FALSE),0) -> 0 | Q70: =SUM(E70:P70) -> 0 | R70: =IFERROR(VLOOKUP($B70,'[1]DEN3.1'!$H$3:$S$112,2,FALSE),0) -> 0 | S70: =IFERROR(VLOOKUP($B70,'[1]DEN3.1'!$H$3:$S$112,3,FALSE),0) -> 0 | T70: =IFERROR(VLOOKUP($B70,'[1]DEN3.1'!$H$3:$S$112,4,FALSE),0) -> 0 | U70: =IFERROR(VLOOKUP($B70,'[1]DEN3.1'!$H$3:$S$112,5,FALSE),0) -> 0 | V70: =IFERROR(VLOOKUP($B70,'[1]DEN3.1'!$H$3:$S$112,6,FALSE),0) -> 0 | W70: =IFERROR(VLOOKUP($B70,'[1]DEN3.1'!$H$3:$S$112,7,FALSE),0) -> 0 | X70: =IFERROR(VLOOKUP($B70,'[1]DEN3.1'!$H$3:$S$112,8,FALSE),0) -> 0 | Y70: =IFERROR(VLOOKUP($B70,'[1]DEN3.1'!$H$3:$S$112,9,FALSE),0) -> 0 | Z70: =IFERROR(VLOOKUP($B70,'[1]DEN3.1'!$H$3:$S$112,10,FALSE),0) -> 0 | AA70: =IFERROR(VLOOKUP($B70,'[1]DEN3.1'!$H$3:$S$112,11,FALSE),0) -> 0 | AD70: =SUM(R70:AC70) -> 0
A71: 04202-CANELA | B71: 105497-P.S.R. JABONERIA | E71: =IFERROR(VLOOKUP($B71,'[1]NUM3.1'!$H$3:$S$112,2,FALSE),0) -> 0 | F71: =IFERROR(VLOOKUP($B71,'[1]NUM3.1'!$H$3:$S$112,3,FALSE),0) -> 0 | G71: =IFERROR(VLOOKUP($B71,'[1]NUM3.1'!$H$3:$S$112,4,FALSE),0) -> 0 | H71: =IFERROR(VLOOKUP($B71,'[1]NUM3.1'!$H$3:$S$112,5,FALSE),0) -> 0 | I71: =IFERROR(VLOOKUP($B71,'[1]NUM3.1'!$H$3:$S$112,6,FALSE),0) -> 0 | J71: =IFERROR(VLOOKUP($B71,'[1]NUM3.1'!$H$3:$S$112,7,FALSE),0) -> 0 | K71: =IFERROR(VLOOKUP($B71,'[1]NUM3.1'!$H$3:$S$112,8,FALSE),0) -> 0 | L71: =IFERROR(VLOOKUP($B71,'[1]NUM3.1'!$H$3:$S$112,9,FALSE),0) -> 0 | M71: =IFERROR(VLOOKUP($B71,'[1]NUM3.1'!$H$3:$S$112,10,FALSE),0) -> 0 | N71: =IFERROR(VLOOKUP($B71,'[1]NUM3.1'!$H$3:$S$112,11,FALSE),0) -> 0 | Q71: =SUM(E71:P71) -> 0 | R71: =IFERROR(VLOOKUP($B71,'[1]DEN3.1'!$H$3:$S$112,2,FALSE),0) -> 0 | S71: =IFERROR(VLOOKUP($B71,'[1]DEN3.1'!$H$3:$S$112,3,FALSE),0) -> 0 | T71: =IFERROR(VLOOKUP($B71,'[1]DEN3.1'!$H$3:$S$112,4,FALSE),0) -> 0 | U71: =IFERROR(VLOOKUP($B71,'[1]DEN3.1'!$H$3:$S$112,5,FALSE),0) -> 0 | V71: =IFERROR(VLOOKUP($B71,'[1]DEN3.1'!$H$3:$S$112,6,FALSE),0) -> 0 | W71: =IFERROR(VLOOKUP($B71,'[1]DEN3.1'!$H$3:$S$112,7,FALSE),0) -> 0 | X71: =IFERROR(VLOOKUP($B71,'[1]DEN3.1'!$H$3:$S$112,8,FALSE),0) -> 0 | Y71: =IFERROR(VLOOKUP($B71,'[1]DEN3.1'!$H$3:$S$112,9,FALSE),0) -> 0 | Z71: =IFERROR(VLOOKUP($B71,'[1]DEN3.1'!$H$3:$S$112,10,FALSE),0) -> 0 | AA71: =IFERROR(VLOOKUP($B71,'[1]DEN3.1'!$H$3:$S$112,11,FALSE),0) -> 0 | AD71: =SUM(R71:AC71) -> 0
A72: 04202-CANELA | B72: 105498-P.S.R. QUEBRADA DE LINARES | E72: =IFERROR(VLOOKUP($B72,'[1]NUM3.1'!$H$3:$S$112,2,FALSE),0) -> 0 | F72: =IFERROR(VLOOKUP($B72,'[1]NUM3.1'!$H$3:$S$112,3,FALSE),0) -> 0 | G72: =IFERROR(VLOOKUP($B72,'[1]NUM3.1'!$H$3:$S$112,4,FALSE),0) -> 0 | H72: =IFERROR(VLOOKUP($B72,'[1]NUM3.1'!$H$3:$S$112,5,FALSE),0) -> 0 | I72: =IFERROR(VLOOKUP($B72,'[1]NUM3.1'!$H$3:$S$112,6,FALSE),0) -> 0 | J72: =IFERROR(VLOOKUP($B72,'[1]NUM3.1'!$H$3:$S$112,7,FALSE),0) -> 0 | K72: =IFERROR(VLOOKUP($B72,'[1]NUM3.1'!$H$3:$S$112,8,FALSE),0) -> 0 | L72: =IFERROR(VLOOKUP($B72,'[1]NUM3.1'!$H$3:$S$112,9,FALSE),0) -> 0 | M72: =IFERROR(VLOOKUP($B72,'[1]NUM3.1'!$H$3:$S$112,10,FALSE),0) -> 0 | N72: =IFERROR(VLOOKUP($B72,'[1]NUM3.1'!$H$3:$S$112,11,FALSE),0) -> 0 | Q72: =SUM(E72:P72) -> 0 | R72: =IFERROR(VLOOKUP($B72,'[1]DEN3.1'!$H$3:$S$112,2,FALSE),0) -> 0 | S72: =IFERROR(VLOOKUP($B72,'[1]DEN3.1'!$H$3:$S$112,3,FALSE),0) -> 0 | T72: =IFERROR(VLOOKUP($B72,'[1]DEN3.1'!$H$3:$S$112,4,FALSE),0) -> 0 | U72: =IFERROR(VLOOKUP($B72,'[1]DEN3.1'!$H$3:$S$112,5,FALSE),0) -> 0 | V72: =IFERROR(VLOOKUP($B72,'[1]DEN3.1'!$H$3:$S$112,6,FALSE),0) -> 0 | W72: =IFERROR(VLOOKUP($B72,'[1]DEN3.1'!$H$3:$S$112,7,FALSE),0) -> 0 | X72: =IFERROR(VLOOKUP($B72,'[1]DEN3.1'!$H$3:$S$112,8,FALSE),0) -> 0 | Y72: =IFERROR(VLOOKUP($B72,'[1]DEN3.1'!$H$3:$S$112,9,FALSE),0) -> 0 | Z72: =IFERROR(VLOOKUP($B72,'[1]DEN3.1'!$H$3:$S$112,10,FALSE),0) -> 0 | AA72: =IFERROR(VLOOKUP($B72,'[1]DEN3.1'!$H$3:$S$112,11,FALSE),0) -> 0 | AD72: =SUM(R72:AC72) -> 0
A73: TOTAL CANELA | C73: =+D73/Metas!H85 -> 1.0195228 | D73: =+Q73/AD73 -> 1 | E73: =SUM(E63:E72) -> 12 | F73: =SUM(F63:F72) -> 10 | G73: =SUM(G63:G72) -> 11 | H73: =SUM(H63:H72) -> 8 | I73: =SUM(I63:I72) -> 4 | J73: =SUM(J63:J72) -> 5 | K73: =SUM(K63:K72) -> 5 | L73: =SUM(L63:L72) -> 6 | ... AD73: =SUM(AD63:AD72) -> 65
A74: 04203-LOS VILOS | B74: 105478-P.S.R. CAIMANES | E74: =IFERROR(VLOOKUP($B74,'[1]NUM3.1'!$H$3:$S$112,2,FALSE),0) -> 0 | F74: =IFERROR(VLOOKUP($B74,'[1]NUM3.1'!$H$3:$S$112,3,FALSE),0) -> 0 | G74: =IFERROR(VLOOKUP($B74,'[1]NUM3.1'!$H$3:$S$112,4,FALSE),0) -> 0 | H74: =IFERROR(VLOOKUP($B74,'[1]NUM3.1'!$H$3:$S$112,5,FALSE),0) -> 2 | I74: =IFERROR(VLOOKUP($B74,'[1]NUM3.1'!$H$3:$S$112,6,FALSE),0) -> 1 | J74: =IFERROR(VLOOKUP($B74,'[1]NUM3.1'!$H$3:$S$112,7,FALSE),0) -> 0 | K74: =IFERROR(VLOOKUP($B74,'[1]NUM3.1'!$H$3:$S$112,8,FALSE),0) -> 0 | L74: =IFERROR(VLOOKUP($B74,'[1]NUM3.1'!$H$3:$S$112,9,FALSE),0) -> 1 | M74: =IFERROR(VLOOKUP($B74,'[1]NUM3.1'!$H$3:$S$112,10,FALSE),0) -> 0 | N74: =IFERROR(VLOOKUP($B74,'[1]NUM3.1'!$H$3:$S$112,11,FALSE),0) -> 10 | Q74: =SUM(E74:P74) -> 14 | R74: =IFERROR(VLOOKUP($B74,'[1]DEN3.1'!$H$3:$S$112,2,FALSE),0) -> 0 | S74: =IFERROR(VLOOKUP($B74,'[1]DEN3.1'!$H$3:$S$112,3,FALSE),0) -> 0 | T74: =IFERROR(VLOOKUP($B74,'[1]DEN3.1'!$H$3:$S$112,4,FALSE),0) -> 0 | U74: =IFERROR(VLOOKUP($B74,'[1]DEN3.1'!$H$3:$S$112,5,FALSE),0) -> 2 | V74: =IFERROR(VLOOKUP($B74,'[1]DEN3.1'!$H$3:$S$112,6,FALSE),0) -> 1 | W74: =IFERROR(VLOOKUP($B74,'[1]DEN3.1'!$H$3:$S$112,7,FALSE),0) -> 0 | X74: =IFERROR(VLOOKUP($B74,'[1]DEN3.1'!$H$3:$S$112,8,FALSE),0) -> 0 | Y74: =IFERROR(VLOOKUP($B74,'[1]DEN3.1'!$H$3:$S$112,9,FALSE),0) -> 1 | Z74: =IFERROR(VLOOKUP($B74,'[1]DEN3.1'!$H$3:$S$112,10,FALSE),0) -> 0 | AA74: =IFERROR(VLOOKUP($B74,'[1]DEN3.1'!$H$3:$S$112,11,FALSE),0) -> 10 | AD74: =SUM(R74:AC74) -> 14
A75: 04203-LOS VILOS | B75: 105479-P.S.R. GUANGUALI | E75: =IFERROR(VLOOKUP($B75,'[1]NUM3.1'!$H$3:$S$112,2,FALSE),0) -> 0 | F75: =IFERROR(VLOOKUP($B75,'[1]NUM3.1'!$H$3:$S$112,3,FALSE),0) -> 0 | G75: =IFERROR(VLOOKUP($B75,'[1]NUM3.1'!$H$3:$S$112,4,FALSE),0) -> 0 | H75: =IFERROR(VLOOKUP($B75,'[1]NUM3.1'!$H$3:$S$112,5,FALSE),0) -> 0 | I75: =IFERROR(VLOOKUP($B75,'[1]NUM3.1'!$H$3:$S$112,6,FALSE),0) -> 0 | J75: =IFERROR(VLOOKUP($B75,'[1]NUM3.1'!$H$3:$S$112,7,FALSE),0) -> 0 | K75: =IFERROR(VLOOKUP($B75,'[1]NUM3.1'!$H$3:$S$112,8,FALSE),0) -> 0 | L75: =IFERROR(VLOOKUP($B75,'[1]NUM3.1'!$H$3:$S$112,9,FALSE),0) -> 0 | M75: =IFERROR(VLOOKUP($B75,'[1]NUM3.1'!$H$3:$S$112,10,FALSE),0) -> 0 | N75: =IFERROR(VLOOKUP($B75,'[1]NUM3.1'!$H$3:$S$112,11,FALSE),0) -> 0 | Q75: =SUM(E75:P75) -> 0 | R75: =IFERROR(VLOOKUP($B75,'[1]DEN3.1'!$H$3:$S$112,2,FALSE),0) -> 0 | S75: =IFERROR(VLOOKUP($B75,'[1]DEN3.1'!$H$3:$S$112,3,FALSE),0) -> 0 | T75: =IFERROR(VLOOKUP($B75,'[1]DEN3.1'!$H$3:$S$112,4,FALSE),0) -> 0 | U75: =IFERROR(VLOOKUP($B75,'[1]DEN3.1'!$H$3:$S$112,5,FALSE),0) -> 0 | V75: =IFERROR(VLOOKUP($B75,'[1]DEN3.1'!$H$3:$S$112,6,FALSE),0) -> 0 | W75: =IFERROR(VLOOKUP($B75,'[1]DEN3.1'!$H$3:$S$112,7,FALSE),0) -> 0 | X75: =IFERROR(VLOOKUP($B75,'[1]DEN3.1'!$H$3:$S$112,8,FALSE),0) -> 0 | Y75: =IFERROR(VLOOKUP($B75,'[1]DEN3.1'!$H$3:$S$112,9,FALSE),0) -> 0 | Z75: =IFERROR(VLOOKUP($B75,'[1]DEN3.1'!$H$3:$S$112,10,FALSE),0) -> 0 | AA75: =IFERROR(VLOOKUP($B75,'[1]DEN3.1'!$H$3:$S$112,11,FALSE),0) -> 0 | AD75: =SUM(R75:AC75) -> 0
A76: 04203-LOS VILOS | B76: 105480-P.S.R. QUILIMARI | E76: =IFERROR(VLOOKUP($B76,'[1]NUM3.1'!$H$3:$S$112,2,FALSE),0) -> 0 | F76: =IFERROR(VLOOKUP($B76,'[1]NUM3.1'!$H$3:$S$112,3,FALSE),0) -> 0 | G76: =IFERROR(VLOOKUP($B76,'[1]NUM3.1'!$H$3:$S$112,4,FALSE),0) -> 0 | H76: =IFERROR(VLOOKUP($B76,'[1]NUM3.1'!$H$3:$S$112,5,FALSE),0) -> 6 | I76: =IFERROR(VLOOKUP($B76,'[1]NUM3.1'!$H$3:$S$112,6,FALSE),0) -> 0 | J76: =IFERROR(VLOOKUP($B76,'[1]NUM3.1'!$H$3:$S$112,7,FALSE),0) -> 1 | K76: =IFERROR(VLOOKUP($B76,'[1]NUM3.1'!$H$3:$S$112,8,FALSE),0) -> 0 | L76: =IFERROR(VLOOKUP($B76,'[1]NUM3.1'!$H$3:$S$112,9,FALSE),0) -> 0 | M76: =IFERROR(VLOOKUP($B76,'[1]NUM3.1'!$H$3:$S$112,10,FALSE),0) -> 1 | N76: =IFERROR(VLOOKUP($B76,'[1]NUM3.1'!$H$3:$S$112,11,FALSE),0) -> 0 | Q76: =SUM(E76:P76) -> 8 | R76: =IFERROR(VLOOKUP($B76,'[1]DEN3.1'!$H$3:$S$112,2,FALSE),0) -> 0 | S76: =IFERROR(VLOOKUP($B76,'[1]DEN3.1'!$H$3:$S$112,3,FALSE),0) -> 0 | T76: =IFERROR(VLOOKUP($B76,'[1]DEN3.1'!$H$3:$S$112,4,FALSE),0) -> 0 | U76: =IFERROR(VLOOKUP($B76,'[1]DEN3.1'!$H$3:$S$112,5,FALSE),0) -> 6 | V76: =IFERROR(VLOOKUP($B76,'[1]DEN3.1'!$H$3:$S$112,6,FALSE),0) -> 0 | W76: =IFERROR(VLOOKUP($B76,'[1]DEN3.1'!$H$3:$S$112,7,FALSE),0) -> 1 | X76: =IFERROR(VLOOKUP($B76,'[1]DEN3.1'!$H$3:$S$112,8,FALSE),0) -> 0 | Y76: =IFERROR(VLOOKUP($B76,'[1]DEN3.1'!$H$3:$S$112,9,FALSE),0) -> 0 | Z76: =IFERROR(VLOOKUP($B76,'[1]DEN3.1'!$H$3:$S$112,10,FALSE),0) -> 1 | AA76: =IFERROR(VLOOKUP($B76,'[1]DEN3.1'!$H$3:$S$112,11,FALSE),0) -> 0 | AD76: =SUM(R76:AC76) -> 8
A77: 04203-LOS VILOS | B77: 105481-P.S.R. TILAMA | E77: =IFERROR(VLOOKUP($B77,'[1]NUM3.1'!$H$3:$S$112,2,FALSE),0) -> 0 | F77: =IFERROR(VLOOKUP($B77,'[1]NUM3.1'!$H$3:$S$112,3,FALSE),0) -> 0 | G77: =IFERROR(VLOOKUP($B77,'[1]NUM3.1'!$H$3:$S$112,4,FALSE),0) -> 0 | H77: =IFERROR(VLOOKUP($B77,'[1]NUM3.1'!$H$3:$S$112,5,FALSE),0) -> 0 | I77: =IFERROR(VLOOKUP($B77,'[1]NUM3.1'!$H$3:$S$112,6,FALSE),0) -> 0 | J77: =IFERROR(VLOOKUP($B77,'[1]NUM3.1'!$H$3:$S$112,7,FALSE),0) -> 0 | K77: =IFERROR(VLOOKUP($B77,'[1]NUM3.1'!$H$3:$S$112,8,FALSE),0) -> 0 | L77: =IFERROR(VLOOKUP($B77,'[1]NUM3.1'!$H$3:$S$112,9,FALSE),0) -> 0 | M77: =IFERROR(VLOOKUP($B77,'[1]NUM3.1'!$H$3:$S$112,10,FALSE),0) -> 0 | N77: =IFERROR(VLOOKUP($B77,'[1]NUM3.1'!$H$3:$S$112,11,FALSE),0) -> 0 | Q77: =SUM(E77:P77) -> 0 | R77: =IFERROR(VLOOKUP($B77,'[1]DEN3.1'!$H$3:$S$112,2,FALSE),0) -> 0 | S77: =IFERROR(VLOOKUP($B77,'[1]DEN3.1'!$H$3:$S$112,3,FALSE),0) -> 0 | T77: =IFERROR(VLOOKUP($B77,'[1]DEN3.1'!$H$3:$S$112,4,FALSE),0) -> 0 | U77: =IFERROR(VLOOKUP($B77,'[1]DEN3.1'!$H$3:$S$112,5,FALSE),0) -> 0 | V77: =IFERROR(VLOOKUP($B77,'[1]DEN3.1'!$H$3:$S$112,6,FALSE),0) -> 0 | W77: =IFERROR(VLOOKUP($B77,'[1]DEN3.1'!$H$3:$S$112,7,FALSE),0) -> 0 | X77: =IFERROR(VLOOKUP($B77,'[1]DEN3.1'!$H$3:$S$112,8,FALSE),0) -> 0 | Y77: =IFERROR(VLOOKUP($B77,'[1]DEN3.1'!$H$3:$S$112,9,FALSE),0) -> 0 | Z77: =IFERROR(VLOOKUP($B77,'[1]DEN3.1'!$H$3:$S$112,10,FALSE),0) -> 0 | AA77: =IFERROR(VLOOKUP($B77,'[1]DEN3.1'!$H$3:$S$112,11,FALSE),0) -> 0 | AD77: =SUM(R77:AC77) -> 0
A78: 04203-LOS VILOS | B78: 105511-P.S.R. LOS CONDORES | E78: =IFERROR(VLOOKUP($B78,'[1]NUM3.1'!$H$3:$S$112,2,FALSE),0) -> 0 | F78: =IFERROR(VLOOKUP($B78,'[1]NUM3.1'!$H$3:$S$112,3,FALSE),0) -> 0 | G78: =IFERROR(VLOOKUP($B78,'[1]NUM3.1'!$H$3:$S$112,4,FALSE),0) -> 0 | H78: =IFERROR(VLOOKUP($B78,'[1]NUM3.1'!$H$3:$S$112,5,FALSE),0) -> 0 | I78: =IFERROR(VLOOKUP($B78,'[1]NUM3.1'!$H$3:$S$112,6,FALSE),0) -> 1 | J78: =IFERROR(VLOOKUP($B78,'[1]NUM3.1'!$H$3:$S$112,7,FALSE),0) -> 0 | K78: =IFERROR(VLOOKUP($B78,'[1]NUM3.1'!$H$3:$S$112,8,FALSE),0) -> 0 | L78: =IFERROR(VLOOKUP($B78,'[1]NUM3.1'!$H$3:$S$112,9,FALSE),0) -> 0 | M78: =IFERROR(VLOOKUP($B78,'[1]NUM3.1'!$H$3:$S$112,10,FALSE),0) -> 0 | N78: =IFERROR(VLOOKUP($B78,'[1]NUM3.1'!$H$3:$S$112,11,FALSE),0) -> 0 | Q78: =SUM(E78:P78) -> 1 | R78: =IFERROR(VLOOKUP($B78,'[1]DEN3.1'!$H$3:$S$112,2,FALSE),0) -> 0 | S78: =IFERROR(VLOOKUP($B78,'[1]DEN3.1'!$H$3:$S$112,3,FALSE),0) -> 0 | T78: =IFERROR(VLOOKUP($B78,'[1]DEN3.1'!$H$3:$S$112,4,FALSE),0) -> 0 | U78: =IFERROR(VLOOKUP($B78,'[1]DEN3.1'!$H$3:$S$112,5,FALSE),0) -> 0 | V78: =IFERROR(VLOOKUP($B78,'[1]DEN3.1'!$H$3:$S$112,6,FALSE),0) -> 1 | W78: =IFERROR(VLOOKUP($B78,'[1]DEN3.1'!$H$3:$S$112,7,FALSE),0) -> 0 | X78: =IFERROR(VLOOKUP($B78,'[1]DEN3.1'!$H$3:$S$112,8,FALSE),0) -> 0 | Y78: =IFERROR(VLOOKUP($B78,'[1]DEN3.1'!$H$3:$S$112,9,FALSE),0) -> 0 | Z78: =IFERROR(VLOOKUP($B78,'[1]DEN3.1'!$H$3:$S$112,10,FALSE),0) -> 0 | AA78: =IFERROR(VLOOKUP($B78,'[1]DEN3.1'!$H$3:$S$112,11,FALSE),0) -> 0 | AD78: =SUM(R78:AC78) -> 1
A79: TOTAL LOS VILOS | C79: =+D79/Metas!H90 -> 1.015625 | D79: =+Q79/AD79 -> 1 | E79: =SUM(E74:E78) -> 0 | F79: =SUM(F74:F78) -> 0 | G79: =SUM(G74:G78) -> 0 | H79: =SUM(H74:H78) -> 8 | I79: =SUM(I74:I78) -> 2 | J79: =SUM(J74:J78) -> 1 | K79: =SUM(K74:K78) -> 0 | L79: =SUM(L74:L78) -> 1 | ... AD79: =SUM(AD74:AD78) -> 23
A80: 04204-SALAMANCA | B80: 105452-P.S.R. CUNCUMEN | E80: =IFERROR(VLOOKUP($B80,'[1]NUM3.1'!$H$3:$S$112,2,FALSE),0) -> 0 | F80: =IFERROR(VLOOKUP($B80,'[1]NUM3.1'!$H$3:$S$112,3,FALSE),0) -> 0 | G80: =IFERROR(VLOOKUP($B80,'[1]NUM3.1'!$H$3:$S$112,4,FALSE),0) -> 0 | H80: =IFERROR(VLOOKUP($B80,'[1]NUM3.1'!$H$3:$S$112,5,FALSE),0) -> 0 | I80: =IFERROR(VLOOKUP($B80,'[1]NUM3.1'!$H$3:$S$112,6,FALSE),0) -> 0 | J80: =IFERROR(VLOOKUP($B80,'[1]NUM3.1'!$H$3:$S$112,7,FALSE),0) -> 0 | K80: =IFERROR(VLOOKUP($B80,'[1]NUM3.1'!$H$3:$S$112,8,FALSE),0) -> 0 | L80: =IFERROR(VLOOKUP($B80,'[1]NUM3.1'!$H$3:$S$112,9,FALSE),0) -> 0 | M80: =IFERROR(VLOOKUP($B80,'[1]NUM3.1'!$H$3:$S$112,10,FALSE),0) -> 0 | N80: =IFERROR(VLOOKUP($B80,'[1]NUM3.1'!$H$3:$S$112,11,FALSE),0) -> 0 | Q80: =SUM(E80:P80) -> 0 | R80: =IFERROR(VLOOKUP($B80,'[1]DEN3.1'!$H$3:$S$112,2,FALSE),0) -> 0 | S80: =IFERROR(VLOOKUP($B80,'[1]DEN3.1'!$H$3:$S$112,3,FALSE),0) -> 0 | T80: =IFERROR(VLOOKUP($B80,'[1]DEN3.1'!$H$3:$S$112,4,FALSE),0) -> 0 | U80: =IFERROR(VLOOKUP($B80,'[1]DEN3.1'!$H$3:$S$112,5,FALSE),0) -> 0 | V80: =IFERROR(VLOOKUP($B80,'[1]DEN3.1'!$H$3:$S$112,6,FALSE),0) -> 0 | W80: =IFERROR(VLOOKUP($B80,'[1]DEN3.1'!$H$3:$S$112,7,FALSE),0) -> 0 | X80: =IFERROR(VLOOKUP($B80,'[1]DEN3.1'!$H$3:$S$112,8,FALSE),0) -> 0 | Y80: =IFERROR(VLOOKUP($B80,'[1]DEN3.1'!$H$3:$S$112,9,FALSE),0) -> 0 | Z80: =IFERROR(VLOOKUP($B80,'[1]DEN3.1'!$H$3:$S$112,10,FALSE),0) -> 0 | AA80: =IFERROR(VLOOKUP($B80,'[1]DEN3.1'!$H$3:$S$112,11,FALSE),0) -> 0 | AD80: =SUM(R80:AC80) -> 0
A81: 04204-SALAMANCA | B81: 105453-P.S.R. TRANQUILLA | E81: =IFERROR(VLOOKUP($B81,'[1]NUM3.1'!$H$3:$S$112,2,FALSE),0) -> 0 | F81: =IFERROR(VLOOKUP($B81,'[1]NUM3.1'!$H$3:$S$112,3,FALSE),0) -> 0 | G81: =IFERROR(VLOOKUP($B81,'[1]NUM3.1'!$H$3:$S$112,4,FALSE),0) -> 0 | H81: =IFERROR(VLOOKUP($B81,'[1]NUM3.1'!$H$3:$S$112,5,FALSE),0) -> 0 | I81: =IFERROR(VLOOKUP($B81,'[1]NUM3.1'!$H$3:$S$112,6,FALSE),0) -> 0 | J81: =IFERROR(VLOOKUP($B81,'[1]NUM3.1'!$H$3:$S$112,7,FALSE),0) -> 0 | K81: =IFERROR(VLOOKUP($B81,'[1]NUM3.1'!$H$3:$S$112,8,FALSE),0) -> 0 | L81: =IFERROR(VLOOKUP($B81,'[1]NUM3.1'!$H$3:$S$112,9,FALSE),0) -> 0 | M81: =IFERROR(VLOOKUP($B81,'[1]NUM3.1'!$H$3:$S$112,10,FALSE),0) -> 0 | N81: =IFERROR(VLOOKUP($B81,'[1]NUM3.1'!$H$3:$S$112,11,FALSE),0) -> 0 | Q81: =SUM(E81:P81) -> 0 | R81: =IFERROR(VLOOKUP($B81,'[1]DEN3.1'!$H$3:$S$112,2,FALSE),0) -> 0 | S81: =IFERROR(VLOOKUP($B81,'[1]DEN3.1'!$H$3:$S$112,3,FALSE),0) -> 0 | T81: =IFERROR(VLOOKUP($B81,'[1]DEN3.1'!$H$3:$S$112,4,FALSE),0) -> 0 | U81: =IFERROR(VLOOKUP($B81,'[1]DEN3.1'!$H$3:$S$112,5,FALSE),0) -> 0 | V81: =IFERROR(VLOOKUP($B81,'[1]DEN3.1'!$H$3:$S$112,6,FALSE),0) -> 0 | W81: =IFERROR(VLOOKUP($B81,'[1]DEN3.1'!$H$3:$S$112,7,FALSE),0) -> 0 | X81: =IFERROR(VLOOKUP($B81,'[1]DEN3.1'!$H$3:$S$112,8,FALSE),0) -> 0 | Y81: =IFERROR(VLOOKUP($B81,'[1]DEN3.1'!$H$3:$S$112,9,FALSE),0) -> 0 | Z81: =IFERROR(VLOOKUP($B81,'[1]DEN3.1'!$H$3:$S$112,10,FALSE),0) -> 0 | AA81: =IFERROR(VLOOKUP($B81,'[1]DEN3.1'!$H$3:$S$112,11,FALSE),0) -> 0 | AD81: =SUM(R81:AC81) -> 0
A82: 04204-SALAMANCA | B82: 105454-P.S.R. CUNLAGUA | E82: =IFERROR(VLOOKUP($B82,'[1]NUM3.1'!$H$3:$S$112,2,FALSE),0) -> 0 | F82: =IFERROR(VLOOKUP($B82,'[1]NUM3.1'!$H$3:$S$112,3,FALSE),0) -> 0 | G82: =IFERROR(VLOOKUP($B82,'[1]NUM3.1'!$H$3:$S$112,4,FALSE),0) -> 0 | H82: =IFERROR(VLOOKUP($B82,'[1]NUM3.1'!$H$3:$S$112,5,FALSE),0) -> 0 | I82: =IFERROR(VLOOKUP($B82,'[1]NUM3.1'!$H$3:$S$112,6,FALSE),0) -> 0 | J82: =IFERROR(VLOOKUP($B82,'[1]NUM3.1'!$H$3:$S$112,7,FALSE),0) -> 0 | K82: =IFERROR(VLOOKUP($B82,'[1]NUM3.1'!$H$3:$S$112,8,FALSE),0) -> 0 | L82: =IFERROR(VLOOKUP($B82,'[1]NUM3.1'!$H$3:$S$112,9,FALSE),0) -> 0 | M82: =IFERROR(VLOOKUP($B82,'[1]NUM3.1'!$H$3:$S$112,10,FALSE),0) -> 0 | N82: =IFERROR(VLOOKUP($B82,'[1]NUM3.1'!$H$3:$S$112,11,FALSE),0) -> 0 | Q82: =SUM(E82:P82) -> 0 | R82: =IFERROR(VLOOKUP($B82,'[1]DEN3.1'!$H$3:$S$112,2,FALSE),0) -> 0 | S82: =IFERROR(VLOOKUP($B82,'[1]DEN3.1'!$H$3:$S$112,3,FALSE),0) -> 0 | T82: =IFERROR(VLOOKUP($B82,'[1]DEN3.1'!$H$3:$S$112,4,FALSE),0) -> 0 | U82: =IFERROR(VLOOKUP($B82,'[1]DEN3.1'!$H$3:$S$112,5,FALSE),0) -> 0 | V82: =IFERROR(VLOOKUP($B82,'[1]DEN3.1'!$H$3:$S$112,6,FALSE),0) -> 0 | W82: =IFERROR(VLOOKUP($B82,'[1]DEN3.1'!$H$3:$S$112,7,FALSE),0) -> 0 | X82: =IFERROR(VLOOKUP($B82,'[1]DEN3.1'!$H$3:$S$112,8,FALSE),0) -> 0 | Y82: =IFERROR(VLOOKUP($B82,'[1]DEN3.1'!$H$3:$S$112,9,FALSE),0) -> 0 | Z82: =IFERROR(VLOOKUP($B82,'[1]DEN3.1'!$H$3:$S$112,10,FALSE),0) -> 0 | AA82: =IFERROR(VLOOKUP($B82,'[1]DEN3.1'!$H$3:$S$112,11,FALSE),0) -> 0 | AD82: =SUM(R82:AC82) -> 0
A83: 04204-SALAMANCA | B83: 105455-P.S.R. CHILLEPIN | E83: =IFERROR(VLOOKUP($B83,'[1]NUM3.1'!$H$3:$S$112,2,FALSE),0) -> 0 | F83: =IFERROR(VLOOKUP($B83,'[1]NUM3.1'!$H$3:$S$112,3,FALSE),0) -> 0 | G83: =IFERROR(VLOOKUP($B83,'[1]NUM3.1'!$H$3:$S$112,4,FALSE),0) -> 0 | H83: =IFERROR(VLOOKUP($B83,'[1]NUM3.1'!$H$3:$S$112,5,FALSE),0) -> 0 | I83: =IFERROR(VLOOKUP($B83,'[1]NUM3.1'!$H$3:$S$112,6,FALSE),0) -> 0 | J83: =IFERROR(VLOOKUP($B83,'[1]NUM3.1'!$H$3:$S$112,7,FALSE),0) -> 0 | K83: =IFERROR(VLOOKUP($B83,'[1]NUM3.1'!$H$3:$S$112,8,FALSE),0) -> 0 | L83: =IFERROR(VLOOKUP($B83,'[1]NUM3.1'!$H$3:$S$112,9,FALSE),0) -> 0 | M83: =IFERROR(VLOOKUP($B83,'[1]NUM3.1'!$H$3:$S$112,10,FALSE),0) -> 0 | N83: =IFERROR(VLOOKUP($B83,'[1]NUM3.1'!$H$3:$S$112,11,FALSE),0) -> 0 | Q83: =SUM(E83:P83) -> 0 | R83: =IFERROR(VLOOKUP($B83,'[1]DEN3.1'!$H$3:$S$112,2,FALSE),0) -> 0 | S83: =IFERROR(VLOOKUP($B83,'[1]DEN3.1'!$H$3:$S$112,3,FALSE),0) -> 0 | T83: =IFERROR(VLOOKUP($B83,'[1]DEN3.1'!$H$3:$S$112,4,FALSE),0) -> 0 | U83: =IFERROR(VLOOKUP($B83,'[1]DEN3.1'!$H$3:$S$112,5,FALSE),0) -> 0 | V83: =IFERROR(VLOOKUP($B83,'[1]DEN3.1'!$H$3:$S$112,6,FALSE),0) -> 0 | W83: =IFERROR(VLOOKUP($B83,'[1]DEN3.1'!$H$3:$S$112,7,FALSE),0) -> 0 | X83: =IFERROR(VLOOKUP($B83,'[1]DEN3.1'!$H$3:$S$112,8,FALSE),0) -> 0 | Y83: =IFERROR(VLOOKUP($B83,'[1]DEN3.1'!$H$3:$S$112,9,FALSE),0) -> 0 | Z83: =IFERROR(VLOOKUP($B83,'[1]DEN3.1'!$H$3:$S$112,10,FALSE),0) -> 0 | AA83: =IFERROR(VLOOKUP($B83,'[1]DEN3.1'!$H$3:$S$112,11,FALSE),0) -> 0 | AD83: =SUM(R83:AC83) -> 0
A84: 04204-SALAMANCA | B84: 105456-P.S.R. LLIMPO | E84: =IFERROR(VLOOKUP($B84,'[1]NUM3.1'!$H$3:$S$112,2,FALSE),0) -> 0 | F84: =IFERROR(VLOOKUP($B84,'[1]NUM3.1'!$H$3:$S$112,3,FALSE),0) -> 0 | G84: =IFERROR(VLOOKUP($B84,'[1]NUM3.1'!$H$3:$S$112,4,FALSE),0) -> 0 | H84: =IFERROR(VLOOKUP($B84,'[1]NUM3.1'!$H$3:$S$112,5,FALSE),0) -> 0 | I84: =IFERROR(VLOOKUP($B84,'[1]NUM3.1'!$H$3:$S$112,6,FALSE),0) -> 0 | J84: =IFERROR(VLOOKUP($B84,'[1]NUM3.1'!$H$3:$S$112,7,FALSE),0) -> 0 | K84: =IFERROR(VLOOKUP($B84,'[1]NUM3.1'!$H$3:$S$112,8,FALSE),0) -> 0 | L84: =IFERROR(VLOOKUP($B84,'[1]NUM3.1'!$H$3:$S$112,9,FALSE),0) -> 0 | M84: =IFERROR(VLOOKUP($B84,'[1]NUM3.1'!$H$3:$S$112,10,FALSE),0) -> 0 | N84: =IFERROR(VLOOKUP($B84,'[1]NUM3.1'!$H$3:$S$112,11,FALSE),0) -> 0 | Q84: =SUM(E84:P84) -> 0 | R84: =IFERROR(VLOOKUP($B84,'[1]DEN3.1'!$H$3:$S$112,2,FALSE),0) -> 0 | S84: =IFERROR(VLOOKUP($B84,'[1]DEN3.1'!$H$3:$S$112,3,FALSE),0) -> 0 | T84: =IFERROR(VLOOKUP($B84,'[1]DEN3.1'!$H$3:$S$112,4,FALSE),0) -> 0 | U84: =IFERROR(VLOOKUP($B84,'[1]DEN3.1'!$H$3:$S$112,5,FALSE),0) -> 0 | V84: =IFERROR(VLOOKUP($B84,'[1]DEN3.1'!$H$3:$S$112,6,FALSE),0) -> 0 | W84: =IFERROR(VLOOKUP($B84,'[1]DEN3.1'!$H$3:$S$112,7,FALSE),0) -> 0 | X84: =IFERROR(VLOOKUP($B84,'[1]DEN3.1'!$H$3:$S$112,8,FALSE),0) -> 0 | Y84: =IFERROR(VLOOKUP($B84,'[1]DEN3.1'!$H$3:$S$112,9,FALSE),0) -> 0 | Z84: =IFERROR(VLOOKUP($B84,'[1]DEN3.1'!$H$3:$S$112,10,FALSE),0) -> 0 | AA84: =IFERROR(VLOOKUP($B84,'[1]DEN3.1'!$H$3:$S$112,11,FALSE),0) -> 0 | AD84: =SUM(R84:AC84) -> 0
A85: 04204-SALAMANCA | B85: 105457-P.S.R. SAN AGUSTIN | E85: =IFERROR(VLOOKUP($B85,'[1]NUM3.1'!$H$3:$S$112,2,FALSE),0) -> 0 | F85: =IFERROR(VLOOKUP($B85,'[1]NUM3.1'!$H$3:$S$112,3,FALSE),0) -> 0 | G85: =IFERROR(VLOOKUP($B85,'[1]NUM3.1'!$H$3:$S$112,4,FALSE),0) -> 0 | H85: =IFERROR(VLOOKUP($B85,'[1]NUM3.1'!$H$3:$S$112,5,FALSE),0) -> 0 | I85: =IFERROR(VLOOKUP($B85,'[1]NUM3.1'!$H$3:$S$112,6,FALSE),0) -> 0 | J85: =IFERROR(VLOOKUP($B85,'[1]NUM3.1'!$H$3:$S$112,7,FALSE),0) -> 0 | K85: =IFERROR(VLOOKUP($B85,'[1]NUM3.1'!$H$3:$S$112,8,FALSE),0) -> 0 | L85: =IFERROR(VLOOKUP($B85,'[1]NUM3.1'!$H$3:$S$112,9,FALSE),0) -> 0 | M85: =IFERROR(VLOOKUP($B85,'[1]NUM3.1'!$H$3:$S$112,10,FALSE),0) -> 0 | N85: =IFERROR(VLOOKUP($B85,'[1]NUM3.1'!$H$3:$S$112,11,FALSE),0) -> 0 | Q85: =SUM(E85:P85) -> 0 | R85: =IFERROR(VLOOKUP($B85,'[1]DEN3.1'!$H$3:$S$112,2,FALSE),0) -> 0 | S85: =IFERROR(VLOOKUP($B85,'[1]DEN3.1'!$H$3:$S$112,3,FALSE),0) -> 0 | T85: =IFERROR(VLOOKUP($B85,'[1]DEN3.1'!$H$3:$S$112,4,FALSE),0) -> 0 | U85: =IFERROR(VLOOKUP($B85,'[1]DEN3.1'!$H$3:$S$112,5,FALSE),0) -> 0 | V85: =IFERROR(VLOOKUP($B85,'[1]DEN3.1'!$H$3:$S$112,6,FALSE),0) -> 0 | W85: =IFERROR(VLOOKUP($B85,'[1]DEN3.1'!$H$3:$S$112,7,FALSE),0) -> 0 | X85: =IFERROR(VLOOKUP($B85,'[1]DEN3.1'!$H$3:$S$112,8,FALSE),0) -> 0 | Y85: =IFERROR(VLOOKUP($B85,'[1]DEN3.1'!$H$3:$S$112,9,FALSE),0) -> 0 | Z85: =IFERROR(VLOOKUP($B85,'[1]DEN3.1'!$H$3:$S$112,10,FALSE),0) -> 0 | AA85: =IFERROR(VLOOKUP($B85,'[1]DEN3.1'!$H$3:$S$112,11,FALSE),0) -> 0 | AD85: =SUM(R85:AC85) -> 0
A86: 04204-SALAMANCA | B86: 105458-P.S.R. TAHUINCO | E86: =IFERROR(VLOOKUP($B86,'[1]NUM3.1'!$H$3:$S$112,2,FALSE),0) -> 0 | F86: =IFERROR(VLOOKUP($B86,'[1]NUM3.1'!$H$3:$S$112,3,FALSE),0) -> 0 | G86: =IFERROR(VLOOKUP($B86,'[1]NUM3.1'!$H$3:$S$112,4,FALSE),0) -> 0 | H86: =IFERROR(VLOOKUP($B86,'[1]NUM3.1'!$H$3:$S$112,5,FALSE),0) -> 0 | I86: =IFERROR(VLOOKUP($B86,'[1]NUM3.1'!$H$3:$S$112,6,FALSE),0) -> 0 | J86: =IFERROR(VLOOKUP($B86,'[1]NUM3.1'!$H$3:$S$112,7,FALSE),0) -> 0 | K86: =IFERROR(VLOOKUP($B86,'[1]NUM3.1'!$H$3:$S$112,8,FALSE),0) -> 0 | L86: =IFERROR(VLOOKUP($B86,'[1]NUM3.1'!$H$3:$S$112,9,FALSE),0) -> 1 | M86: =IFERROR(VLOOKUP($B86,'[1]NUM3.1'!$H$3:$S$112,10,FALSE),0) -> 0 | N86: =IFERROR(VLOOKUP($B86,'[1]NUM3.1'!$H$3:$S$112,11,FALSE),0) -> 0 | Q86: =SUM(E86:P86) -> 1 | R86: =IFERROR(VLOOKUP($B86,'[1]DEN3.1'!$H$3:$S$112,2,FALSE),0) -> 0 | S86: =IFERROR(VLOOKUP($B86,'[1]DEN3.1'!$H$3:$S$112,3,FALSE),0) -> 0 | T86: =IFERROR(VLOOKUP($B86,'[1]DEN3.1'!$H$3:$S$112,4,FALSE),0) -> 0 | U86: =IFERROR(VLOOKUP($B86,'[1]DEN3.1'!$H$3:$S$112,5,FALSE),0) -> 0 | V86: =IFERROR(VLOOKUP($B86,'[1]DEN3.1'!$H$3:$S$112,6,FALSE),0) -> 0 | W86: =IFERROR(VLOOKUP($B86,'[1]DEN3.1'!$H$3:$S$112,7,FALSE),0) -> 0 | X86: =IFERROR(VLOOKUP($B86,'[1]DEN3.1'!$H$3:$S$112,8,FALSE),0) -> 0 | Y86: =IFERROR(VLOOKUP($B86,'[1]DEN3.1'!$H$3:$S$112,9,FALSE),0) -> 1 | Z86: =IFERROR(VLOOKUP($B86,'[1]DEN3.1'!$H$3:$S$112,10,FALSE),0) -> 0 | AA86: =IFERROR(VLOOKUP($B86,'[1]DEN3.1'!$H$3:$S$112,11,FALSE),0) -> 0 | AD86: =SUM(R86:AC86) -> 1
A87: 04204-SALAMANCA | B87: 105491-P.S.R. QUELEN BAJO | E87: =IFERROR(VLOOKUP($B87,'[1]NUM3.1'!$H$3:$S$112,2,FALSE),0) -> 0 | F87: =IFERROR(VLOOKUP($B87,'[1]NUM3.1'!$H$3:$S$112,3,FALSE),0) -> 0 | G87: =IFERROR(VLOOKUP($B87,'[1]NUM3.1'!$H$3:$S$112,4,FALSE),0) -> 0 | H87: =IFERROR(VLOOKUP($B87,'[1]NUM3.1'!$H$3:$S$112,5,FALSE),0) -> 0 | I87: =IFERROR(VLOOKUP($B87,'[1]NUM3.1'!$H$3:$S$112,6,FALSE),0) -> 0 | J87: =IFERROR(VLOOKUP($B87,'[1]NUM3.1'!$H$3:$S$112,7,FALSE),0) -> 0 | K87: =IFERROR(VLOOKUP($B87,'[1]NUM3.1'!$H$3:$S$112,8,FALSE),0) -> 1 | L87: =IFERROR(VLOOKUP($B87,'[1]NUM3.1'!$H$3:$S$112,9,FALSE),0) -> 0 | M87: =IFERROR(VLOOKUP($B87,'[1]NUM3.1'!$H$3:$S$112,10,FALSE),0) -> 0 | N87: =IFERROR(VLOOKUP($B87,'[1]NUM3.1'!$H$3:$S$112,11,FALSE),0) -> 0 | Q87: =SUM(E87:P87) -> 1 | R87: =IFERROR(VLOOKUP($B87,'[1]DEN3.1'!$H$3:$S$112,2,FALSE),0) -> 0 | S87: =IFERROR(VLOOKUP($B87,'[1]DEN3.1'!$H$3:$S$112,3,FALSE),0) -> 0 | T87: =IFERROR(VLOOKUP($B87,'[1]DEN3.1'!$H$3:$S$112,4,FALSE),0) -> 0 | U87: =IFERROR(VLOOKUP($B87,'[1]DEN3.1'!$H$3:$S$112,5,FALSE),0) -> 0 | V87: =IFERROR(VLOOKUP($B87,'[1]DEN3.1'!$H$3:$S$112,6,FALSE),0) -> 0 | W87: =IFERROR(VLOOKUP($B87,'[1]DEN3.1'!$H$3:$S$112,7,FALSE),0) -> 0 | X87: =IFERROR(VLOOKUP($B87,'[1]DEN3.1'!$H$3:$S$112,8,FALSE),0) -> 1 | Y87: =IFERROR(VLOOKUP($B87,'[1]DEN3.1'!$H$3:$S$112,9,FALSE),0) -> 0 | Z87: =IFERROR(VLOOKUP($B87,'[1]DEN3.1'!$H$3:$S$112,10,FALSE),0) -> 0 | AA87: =IFERROR(VLOOKUP($B87,'[1]DEN3.1'!$H$3:$S$112,11,FALSE),0) -> 0 | AD87: =SUM(R87:AC87) -> 1
A88: 04204-SALAMANCA | B88: 105492-P.S.R. CAMISA | E88: =IFERROR(VLOOKUP($B88,'[1]NUM3.1'!$H$3:$S$112,2,FALSE),0) -> 0 | F88: =IFERROR(VLOOKUP($B88,'[1]NUM3.1'!$H$3:$S$112,3,FALSE),0) -> 0 | G88: =IFERROR(VLOOKUP($B88,'[1]NUM3.1'!$H$3:$S$112,4,FALSE),0) -> 0 | H88: =IFERROR(VLOOKUP($B88,'[1]NUM3.1'!$H$3:$S$112,5,FALSE),0) -> 0 | I88: =IFERROR(VLOOKUP($B88,'[1]NUM3.1'!$H$3:$S$112,6,FALSE),0) -> 0 | J88: =IFERROR(VLOOKUP($B88,'[1]NUM3.1'!$H$3:$S$112,7,FALSE),0) -> 0 | K88: =IFERROR(VLOOKUP($B88,'[1]NUM3.1'!$H$3:$S$112,8,FALSE),0) -> 0 | L88: =IFERROR(VLOOKUP($B88,'[1]NUM3.1'!$H$3:$S$112,9,FALSE),0) -> 1 | M88: =IFERROR(VLOOKUP($B88,'[1]NUM3.1'!$H$3:$S$112,10,FALSE),0) -> 0 | N88: =IFERROR(VLOOKUP($B88,'[1]NUM3.1'!$H$3:$S$112,11,FALSE),0) -> 0 | Q88: =SUM(E88:P88) -> 1 | R88: =IFERROR(VLOOKUP($B88,'[1]DEN3.1'!$H$3:$S$112,2,FALSE),0) -> 0 | S88: =IFERROR(VLOOKUP($B88,'[1]DEN3.1'!$H$3:$S$112,3,FALSE),0) -> 0 | T88: =IFERROR(VLOOKUP($B88,'[1]DEN3.1'!$H$3:$S$112,4,FALSE),0) -> 0 | U88: =IFERROR(VLOOKUP($B88,'[1]DEN3.1'!$H$3:$S$112,5,FALSE),0) -> 0 | V88: =IFERROR(VLOOKUP($B88,'[1]DEN3.1'!$H$3:$S$112,6,FALSE),0) -> 0 | W88: =IFERROR(VLOOKUP($B88,'[1]DEN3.1'!$H$3:$S$112,7,FALSE),0) -> 0 | X88: =IFERROR(VLOOKUP($B88,'[1]DEN3.1'!$H$3:$S$112,8,FALSE),0) -> 0 | Y88: =IFERROR(VLOOKUP($B88,'[1]DEN3.1'!$H$3:$S$112,9,FALSE),0) -> 1 | Z88: =IFERROR(VLOOKUP($B88,'[1]DEN3.1'!$H$3:$S$112,10,FALSE),0) -> 0 | AA88: =IFERROR(VLOOKUP($B88,'[1]DEN3.1'!$H$3:$S$112,11,FALSE),0) -> 0 | AD88: =SUM(R88:AC88) -> 1
A89: 04204-SALAMANCA | B89: 105501-P.S.R. ARBOLEDA GRANDE | E89: =IFERROR(VLOOKUP($B89,'[1]NUM3.1'!$H$3:$S$112,2,FALSE),0) -> 0 | F89: =IFERROR(VLOOKUP($B89,'[1]NUM3.1'!$H$3:$S$112,3,FALSE),0) -> 0 | G89: =IFERROR(VLOOKUP($B89,'[1]NUM3.1'!$H$3:$S$112,4,FALSE),0) -> 0 | H89: =IFERROR(VLOOKUP($B89,'[1]NUM3.1'!$H$3:$S$112,5,FALSE),0) -> 0 | I89: =IFERROR(VLOOKUP($B89,'[1]NUM3.1'!$H$3:$S$112,6,FALSE),0) -> 0 | J89: =IFERROR(VLOOKUP($B89,'[1]NUM3.1'!$H$3:$S$112,7,FALSE),0) -> 0 | K89: =IFERROR(VLOOKUP($B89,'[1]NUM3.1'!$H$3:$S$112,8,FALSE),0) -> 0 | L89: =IFERROR(VLOOKUP($B89,'[1]NUM3.1'!$H$3:$S$112,9,FALSE),0) -> 0 | M89: =IFERROR(VLOOKUP($B89,'[1]NUM3.1'!$H$3:$S$112,10,FALSE),0) -> 0 | N89: =IFERROR(VLOOKUP($B89,'[1]NUM3.1'!$H$3:$S$112,11,FALSE),0) -> 0 | Q89: =SUM(E89:P89) -> 0 | R89: =IFERROR(VLOOKUP($B89,'[1]DEN3.1'!$H$3:$S$112,2,FALSE),0) -> 0 | S89: =IFERROR(VLOOKUP($B89,'[1]DEN3.1'!$H$3:$S$112,3,FALSE),0) -> 0 | T89: =IFERROR(VLOOKUP($B89,'[1]DEN3.1'!$H$3:$S$112,4,FALSE),0) -> 0 | U89: =IFERROR(VLOOKUP($B89,'[1]DEN3.1'!$H$3:$S$112,5,FALSE),0) -> 0 | V89: =IFERROR(VLOOKUP($B89,'[1]DEN3.1'!$H$3:$S$112,6,FALSE),0) -> 0 | W89: =IFERROR(VLOOKUP($B89,'[1]DEN3.1'!$H$3:$S$112,7,FALSE),0) -> 0 | X89: =IFERROR(VLOOKUP($B89,'[1]DEN3.1'!$H$3:$S$112,8,FALSE),0) -> 0 | Y89: =IFERROR(VLOOKUP($B89,'[1]DEN3.1'!$H$3:$S$112,9,FALSE),0) -> 0 | Z89: =IFERROR(VLOOKUP($B89,'[1]DEN3.1'!$H$3:$S$112,10,FALSE),0) -> 0 | AA89: =IFERROR(VLOOKUP($B89,'[1]DEN3.1'!$H$3:$S$112,11,FALSE),0) -> 0 | AD89: =SUM(R89:AC89) -> 0
A90: TOTAL SALAMANCA | C90: =+D90/Metas!H95 -> 1.0204082 | D90: =+Q90/AD90 -> 1 | E90: =SUM(E80:E89) -> 0 | F90: =SUM(F80:F89) -> 0 | G90: =SUM(G80:G89) -> 0 | H90: =SUM(H80:H89) -> 0 | I90: =SUM(I80:I89) -> 0 | J90: =SUM(J80:J89) -> 0 | K90: =SUM(K80:K89) -> 1 | L90: =SUM(L80:L89) -> 2 | ... AD90: =SUM(AD80:AD89) -> 3
A91: 04301-OVALLE | B91: 105315-CES. RURAL C. DE TAMAYA | E91: =IFERROR(VLOOKUP($B91,'[1]NUM3.1'!$H$3:$S$112,2,FALSE),0) -> 0 | F91: =IFERROR(VLOOKUP($B91,'[1]NUM3.1'!$H$3:$S$112,3,FALSE),0) -> 1 | G91: =IFERROR(VLOOKUP($B91,'[1]NUM3.1'!$H$3:$S$112,4,FALSE),0) -> 0 | H91: =IFERROR(VLOOKUP($B91,'[1]NUM3.1'!$H$3:$S$112,5,FALSE),0) -> 0 | I91: =IFERROR(VLOOKUP($B91,'[1]NUM3.1'!$H$3:$S$112,6,FALSE),0) -> 0 | J91: =IFERROR(VLOOKUP($B91,'[1]NUM3.1'!$H$3:$S$112,7,FALSE),0) -> 2 | K91: =IFERROR(VLOOKUP($B91,'[1]NUM3.1'!$H$3:$S$112,8,FALSE),0) -> 1 | L91: =IFERROR(VLOOKUP($B91,'[1]NUM3.1'!$H$3:$S$112,9,FALSE),0) -> 0 | M91: =IFERROR(VLOOKUP($B91,'[1]NUM3.1'!$H$3:$S$112,10,FALSE),0) -> 0 | N91: =IFERROR(VLOOKUP($B91,'[1]NUM3.1'!$H$3:$S$112,11,FALSE),0) -> 2 | Q91: =SUM(E91:P91) -> 6 | R91: =IFERROR(VLOOKUP($B91,'[1]DEN3.1'!$H$3:$S$112,2,FALSE),0) -> 0 | S91: =IFERROR(VLOOKUP($B91,'[1]DEN3.1'!$H$3:$S$112,3,FALSE),0) -> 1 | T91: =IFERROR(VLOOKUP($B91,'[1]DEN3.1'!$H$3:$S$112,4,FALSE),0) -> 0 | U91: =IFERROR(VLOOKUP($B91,'[1]DEN3.1'!$H$3:$S$112,5,FALSE),0) -> 0 | V91: =IFERROR(VLOOKUP($B91,'[1]DEN3.1'!$H$3:$S$112,6,FALSE),0) -> 0 | W91: =IFERROR(VLOOKUP($B91,'[1]DEN3.1'!$H$3:$S$112,7,FALSE),0) -> 2 | X91: =IFERROR(VLOOKUP($B91,'[1]DEN3.1'!$H$3:$S$112,8,FALSE),0) -> 1 | Y91: =IFERROR(VLOOKUP($B91,'[1]DEN3.1'!$H$3:$S$112,9,FALSE),0) -> 0 | Z91: =IFERROR(VLOOKUP($B91,'[1]DEN3.1'!$H$3:$S$112,10,FALSE),0) -> 0 | AA91: =IFERROR(VLOOKUP($B91,'[1]DEN3.1'!$H$3:$S$112,11,FALSE),0) -> 2 | AD91: =SUM(R91:AC91) -> 6
A92: 04301-OVALLE | B92: 105317-CES. JORGE JORDAN D. | E92: =IFERROR(VLOOKUP($B92,'[1]NUM3.1'!$H$3:$S$112,2,FALSE),0) -> 12 | F92: =IFERROR(VLOOKUP($B92,'[1]NUM3.1'!$H$3:$S$112,3,FALSE),0) -> 13 | G92: =IFERROR(VLOOKUP($B92,'[1]NUM3.1'!$H$3:$S$112,4,FALSE),0) -> 6 | H92: =IFERROR(VLOOKUP($B92,'[1]NUM3.1'!$H$3:$S$112,5,FALSE),0) -> 3 | I92: =IFERROR(VLOOKUP($B92,'[1]NUM3.1'!$H$3:$S$112,6,FALSE),0) -> 8 | J92: =IFERROR(VLOOKUP($B92,'[1]NUM3.1'!$H$3:$S$112,7,FALSE),0) -> 7 | K92: =IFERROR(VLOOKUP($B92,'[1]NUM3.1'!$H$3:$S$112,8,FALSE),0) -> 9 | L92: =IFERROR(VLOOKUP($B92,'[1]NUM3.1'!$H$3:$S$112,9,FALSE),0) -> 8 | M92: =IFERROR(VLOOKUP($B92,'[1]NUM3.1'!$H$3:$S$112,10,FALSE),0) -> 5 | N92: =IFERROR(VLOOKUP($B92,'[1]NUM3.1'!$H$3:$S$112,11,FALSE),0) -> 10 | Q92: =SUM(E92:P92) -> 81 | R92: =IFERROR(VLOOKUP($B92,'[1]DEN3.1'!$H$3:$S$112,2,FALSE),0) -> 12 | S92: =IFERROR(VLOOKUP($B92,'[1]DEN3.1'!$H$3:$S$112,3,FALSE),0) -> 13 | T92: =IFERROR(VLOOKUP($B92,'[1]DEN3.1'!$H$3:$S$112,4,FALSE),0) -> 6 | U92: =IFERROR(VLOOKUP($B92,'[1]DEN3.1'!$H$3:$S$112,5,FALSE),0) -> 3 | V92: =IFERROR(VLOOKUP($B92,'[1]DEN3.1'!$H$3:$S$112,6,FALSE),0) -> 8 | W92: =IFERROR(VLOOKUP($B92,'[1]DEN3.1'!$H$3:$S$112,7,FALSE),0) -> 7 | X92: =IFERROR(VLOOKUP($B92,'[1]DEN3.1'!$H$3:$S$112,8,FALSE),0) -> 9 | Y92: =IFERROR(VLOOKUP($B92,'[1]DEN3.1'!$H$3:$S$112,9,FALSE),0) -> 8 | Z92: =IFERROR(VLOOKUP($B92,'[1]DEN3.1'!$H$3:$S$112,10,FALSE),0) -> 5 | AA92: =IFERROR(VLOOKUP($B92,'[1]DEN3.1'!$H$3:$S$112,11,FALSE),0) -> 10 | AD92: =SUM(R92:AC92) -> 81
A93: 04301-OVALLE | B93: 105322-CES. MARCOS MACUADA | E93: =IFERROR(VLOOKUP($B93,'[1]NUM3.1'!$H$3:$S$112,2,FALSE),0) -> 7 | F93: =IFERROR(VLOOKUP($B93,'[1]NUM3.1'!$H$3:$S$112,3,FALSE),0) -> 8 | G93: =IFERROR(VLOOKUP($B93,'[1]NUM3.1'!$H$3:$S$112,4,FALSE),0) -> 7 | H93: =IFERROR(VLOOKUP($B93,'[1]NUM3.1'!$H$3:$S$112,5,FALSE),0) -> 4 | I93: =IFERROR(VLOOKUP($B93,'[1]NUM3.1'!$H$3:$S$112,6,FALSE),0) -> 9 | J93: =IFERROR(VLOOKUP($B93,'[1]NUM3.1'!$H$3:$S$112,7,FALSE),0) -> 4 | K93: =IFERROR(VLOOKUP($B93,'[1]NUM3.1'!$H$3:$S$112,8,FALSE),0) -> 6 | L93: =IFERROR(VLOOKUP($B93,'[1]NUM3.1'!$H$3:$S$112,9,FALSE),0) -> 9 | M93: =IFERROR(VLOOKUP($B93,'[1]NUM3.1'!$H$3:$S$112,10,FALSE),0) -> 6 | N93: =IFERROR(VLOOKUP($B93,'[1]NUM3.1'!$H$3:$S$112,11,FALSE),0) -> 12 | Q93: =SUM(E93:P93) -> 72 | R93: =IFERROR(VLOOKUP($B93,'[1]DEN3.1'!$H$3:$S$112,2,FALSE),0) -> 7 | S93: =IFERROR(VLOOKUP($B93,'[1]DEN3.1'!$H$3:$S$112,3,FALSE),0) -> 8 | T93: =IFERROR(VLOOKUP($B93,'[1]DEN3.1'!$H$3:$S$112,4,FALSE),0) -> 7 | U93: =IFERROR(VLOOKUP($B93,'[1]DEN3.1'!$H$3:$S$112,5,FALSE),0) -> 4 | V93: =IFERROR(VLOOKUP($B93,'[1]DEN3.1'!$H$3:$S$112,6,FALSE),0) -> 9 | W93: =IFERROR(VLOOKUP($B93,'[1]DEN3.1'!$H$3:$S$112,7,FALSE),0) -> 4 | X93: =IFERROR(VLOOKUP($B93,'[1]DEN3.1'!$H$3:$S$112,8,FALSE),0) -> 6 | Y93: =IFERROR(VLOOKUP($B93,'[1]DEN3.1'!$H$3:$S$112,9,FALSE),0) -> 9 | Z93: =IFERROR(VLOOKUP($B93,'[1]DEN3.1'!$H$3:$S$112,10,FALSE),0) -> 6 | AA93: =IFERROR(VLOOKUP($B93,'[1]DEN3.1'!$H$3:$S$112,11,FALSE),0) -> 12 | AD93: =SUM(R93:AC93) -> 72
A94: 04301-OVALLE | B94: 105324-CES. SOTAQUI | E94: =IFERROR(VLOOKUP($B94,'[1]NUM3.1'!$H$3:$S$112,2,FALSE),0) -> 0 | F94: =IFERROR(VLOOKUP($B94,'[1]NUM3.1'!$H$3:$S$112,3,FALSE),0) -> 0 | G94: =IFERROR(VLOOKUP($B94,'[1]NUM3.1'!$H$3:$S$112,4,FALSE),0) -> 0 | H94: =IFERROR(VLOOKUP($B94,'[1]NUM3.1'!$H$3:$S$112,5,FALSE),0) -> 2 | I94: =IFERROR(VLOOKUP($B94,'[1]NUM3.1'!$H$3:$S$112,6,FALSE),0) -> 2 | J94: =IFERROR(VLOOKUP($B94,'[1]NUM3.1'!$H$3:$S$112,7,FALSE),0) -> 1 | K94: =IFERROR(VLOOKUP($B94,'[1]NUM3.1'!$H$3:$S$112,8,FALSE),0) -> 2 | L94: =IFERROR(VLOOKUP($B94,'[1]NUM3.1'!$H$3:$S$112,9,FALSE),0) -> 2 | M94: =IFERROR(VLOOKUP($B94,'[1]NUM3.1'!$H$3:$S$112,10,FALSE),0) -> 1 | N94: =IFERROR(VLOOKUP($B94,'[1]NUM3.1'!$H$3:$S$112,11,FALSE),0) -> 1 | Q94: =SUM(E94:P94) -> 11 | R94: =IFERROR(VLOOKUP($B94,'[1]DEN3.1'!$H$3:$S$112,2,FALSE),0) -> 0 | S94: =IFERROR(VLOOKUP($B94,'[1]DEN3.1'!$H$3:$S$112,3,FALSE),0) -> 0 | T94: =IFERROR(VLOOKUP($B94,'[1]DEN3.1'!$H$3:$S$112,4,FALSE),0) -> 0 | U94: =IFERROR(VLOOKUP($B94,'[1]DEN3.1'!$H$3:$S$112,5,FALSE),0) -> 2 | V94: =IFERROR(VLOOKUP($B94,'[1]DEN3.1'!$H$3:$S$112,6,FALSE),0) -> 2 | W94: =IFERROR(VLOOKUP($B94,'[1]DEN3.1'!$H$3:$S$112,7,FALSE),0) -> 1 | X94: =IFERROR(VLOOKUP($B94,'[1]DEN3.1'!$H$3:$S$112,8,FALSE),0) -> 2 | Y94: =IFERROR(VLOOKUP($B94,'[1]DEN3.1'!$H$3:$S$112,9,FALSE),0) -> 2 | Z94: =IFERROR(VLOOKUP($B94,'[1]DEN3.1'!$H$3:$S$112,10,FALSE),0) -> 1 | AA94: =IFERROR(VLOOKUP($B94,'[1]DEN3.1'!$H$3:$S$112,11,FALSE),0) -> 1 | AD94: =SUM(R94:AC94) -> 11
A95: 04301-OVALLE | B95: 105415-P.S.R. BARRAZA | E95: =IFERROR(VLOOKUP($B95,'[1]NUM3.1'!$H$3:$S$112,2,FALSE),0) -> 0 | F95: =IFERROR(VLOOKUP($B95,'[1]NUM3.1'!$H$3:$S$112,3,FALSE),0) -> 0 | G95: =IFERROR(VLOOKUP($B95,'[1]NUM3.1'!$H$3:$S$112,4,FALSE),0) -> 0 | H95: =IFERROR(VLOOKUP($B95,'[1]NUM3.1'!$H$3:$S$112,5,FALSE),0) -> 0 | I95: =IFERROR(VLOOKUP($B95,'[1]NUM3.1'!$H$3:$S$112,6,FALSE),0) -> 0 | J95: =IFERROR(VLOOKUP($B95,'[1]NUM3.1'!$H$3:$S$112,7,FALSE),0) -> 0 | K95: =IFERROR(VLOOKUP($B95,'[1]NUM3.1'!$H$3:$S$112,8,FALSE),0) -> 0 | L95: =IFERROR(VLOOKUP($B95,'[1]NUM3.1'!$H$3:$S$112,9,FALSE),0) -> 0 | M95: =IFERROR(VLOOKUP($B95,'[1]NUM3.1'!$H$3:$S$112,10,FALSE),0) -> 0 | N95: =IFERROR(VLOOKUP($B95,'[1]NUM3.1'!$H$3:$S$112,11,FALSE),0) -> 0 | Q95: =SUM(E95:P95) -> 0 | R95: =IFERROR(VLOOKUP($B95,'[1]DEN3.1'!$H$3:$S$112,2,FALSE),0) -> 0 | S95: =IFERROR(VLOOKUP($B95,'[1]DEN3.1'!$H$3:$S$112,3,FALSE),0) -> 0 | T95: =IFERROR(VLOOKUP($B95,'[1]DEN3.1'!$H$3:$S$112,4,FALSE),0) -> 0 | U95: =IFERROR(VLOOKUP($B95,'[1]DEN3.1'!$H$3:$S$112,5,FALSE),0) -> 0 | V95: =IFERROR(VLOOKUP($B95,'[1]DEN3.1'!$H$3:$S$112,6,FALSE),0) -> 0 | W95: =IFERROR(VLOOKUP($B95,'[1]DEN3.1'!$H$3:$S$112,7,FALSE),0) -> 0 | X95: =IFERROR(VLOOKUP($B95,'[1]DEN3.1'!$H$3:$S$112,8,FALSE),0) -> 0 | Y95: =IFERROR(VLOOKUP($B95,'[1]DEN3.1'!$H$3:$S$112,9,FALSE),0) -> 0 | Z95: =IFERROR(VLOOKUP($B95,'[1]DEN3.1'!$H$3:$S$112,10,FALSE),0) -> 0 | AA95: =IFERROR(VLOOKUP($B95,'[1]DEN3.1'!$H$3:$S$112,11,FALSE),0) -> 0 | AD95: =SUM(R95:AC95) -> 0
A96: 04301-OVALLE | B96: 105416-P.S.R. CAMARICO | E96: =IFERROR(VLOOKUP($B96,'[1]NUM3.1'!$H$3:$S$112,2,FALSE),0) -> 0 | F96: =IFERROR(VLOOKUP($B96,'[1]NUM3.1'!$H$3:$S$112,3,FALSE),0) -> 0 | G96: =IFERROR(VLOOKUP($B96,'[1]NUM3.1'!$H$3:$S$112,4,FALSE),0) -> 0 | H96: =IFERROR(VLOOKUP($B96,'[1]NUM3.1'!$H$3:$S$112,5,FALSE),0) -> 0 | I96: =IFERROR(VLOOKUP($B96,'[1]NUM3.1'!$H$3:$S$112,6,FALSE),0) -> 0 | J96: =IFERROR(VLOOKUP($B96,'[1]NUM3.1'!$H$3:$S$112,7,FALSE),0) -> 0 | K96: =IFERROR(VLOOKUP($B96,'[1]NUM3.1'!$H$3:$S$112,8,FALSE),0) -> 0 | L96: =IFERROR(VLOOKUP($B96,'[1]NUM3.1'!$H$3:$S$112,9,FALSE),0) -> 0 | M96: =IFERROR(VLOOKUP($B96,'[1]NUM3.1'!$H$3:$S$112,10,FALSE),0) -> 0 | N96: =IFERROR(VLOOKUP($B96,'[1]NUM3.1'!$H$3:$S$112,11,FALSE),0) -> 0 | Q96: =SUM(E96:P96) -> 0 | R96: =IFERROR(VLOOKUP($B96,'[1]DEN3.1'!$H$3:$S$112,2,FALSE),0) -> 0 | S96: =IFERROR(VLOOKUP($B96,'[1]DEN3.1'!$H$3:$S$112,3,FALSE),0) -> 0 | T96: =IFERROR(VLOOKUP($B96,'[1]DEN3.1'!$H$3:$S$112,4,FALSE),0) -> 0 | U96: =IFERROR(VLOOKUP($B96,'[1]DEN3.1'!$H$3:$S$112,5,FALSE),0) -> 0 | V96: =IFERROR(VLOOKUP($B96,'[1]DEN3.1'!$H$3:$S$112,6,FALSE),0) -> 0 | W96: =IFERROR(VLOOKUP($B96,'[1]DEN3.1'!$H$3:$S$112,7,FALSE),0) -> 0 | X96: =IFERROR(VLOOKUP($B96,'[1]DEN3.1'!$H$3:$S$112,8,FALSE),0) -> 0 | Y96: =IFERROR(VLOOKUP($B96,'[1]DEN3.1'!$H$3:$S$112,9,FALSE),0) -> 0 | Z96: =IFERROR(VLOOKUP($B96,'[1]DEN3.1'!$H$3:$S$112,10,FALSE),0) -> 0 | AA96: =IFERROR(VLOOKUP($B96,'[1]DEN3.1'!$H$3:$S$112,11,FALSE),0) -> 0 | AD96: =SUM(R96:AC96) -> 0
A97: 04301-OVALLE | B97: 105417-P.S.R. ALCONES BAJOS | E97: =IFERROR(VLOOKUP($B97,'[1]NUM3.1'!$H$3:$S$112,2,FALSE),0) -> 0 | F97: =IFERROR(VLOOKUP($B97,'[1]NUM3.1'!$H$3:$S$112,3,FALSE),0) -> 0 | G97: =IFERROR(VLOOKUP($B97,'[1]NUM3.1'!$H$3:$S$112,4,FALSE),0) -> 0 | H97: =IFERROR(VLOOKUP($B97,'[1]NUM3.1'!$H$3:$S$112,5,FALSE),0) -> 0 | I97: =IFERROR(VLOOKUP($B97,'[1]NUM3.1'!$H$3:$S$112,6,FALSE),0) -> 0 | J97: =IFERROR(VLOOKUP($B97,'[1]NUM3.1'!$H$3:$S$112,7,FALSE),0) -> 0 | K97: =IFERROR(VLOOKUP($B97,'[1]NUM3.1'!$H$3:$S$112,8,FALSE),0) -> 0 | L97: =IFERROR(VLOOKUP($B97,'[1]NUM3.1'!$H$3:$S$112,9,FALSE),0) -> 0 | M97: =IFERROR(VLOOKUP($B97,'[1]NUM3.1'!$H$3:$S$112,10,FALSE),0) -> 0 | N97: =IFERROR(VLOOKUP($B97,'[1]NUM3.1'!$H$3:$S$112,11,FALSE),0) -> 0 | Q97: =SUM(E97:P97) -> 0 | R97: =IFERROR(VLOOKUP($B97,'[1]DEN3.1'!$H$3:$S$112,2,FALSE),0) -> 0 | S97: =IFERROR(VLOOKUP($B97,'[1]DEN3.1'!$H$3:$S$112,3,FALSE),0) -> 0 | T97: =IFERROR(VLOOKUP($B97,'[1]DEN3.1'!$H$3:$S$112,4,FALSE),0) -> 0 | U97: =IFERROR(VLOOKUP($B97,'[1]DEN3.1'!$H$3:$S$112,5,FALSE),0) -> 0 | V97: =IFERROR(VLOOKUP($B97,'[1]DEN3.1'!$H$3:$S$112,6,FALSE),0) -> 0 | W97: =IFERROR(VLOOKUP($B97,'[1]DEN3.1'!$H$3:$S$112,7,FALSE),0) -> 0 | X97: =IFERROR(VLOOKUP($B97,'[1]DEN3.1'!$H$3:$S$112,8,FALSE),0) -> 0 | Y97: =IFERROR(VLOOKUP($B97,'[1]DEN3.1'!$H$3:$S$112,9,FALSE),0) -> 0 | Z97: =IFERROR(VLOOKUP($B97,'[1]DEN3.1'!$H$3:$S$112,10,FALSE),0) -> 0 | AA97: =IFERROR(VLOOKUP($B97,'[1]DEN3.1'!$H$3:$S$112,11,FALSE),0) -> 0 | AD97: =SUM(R97:AC97) -> 0
A98: 04301-OVALLE | B98: 105419-P.S.R. LAS SOSSAS | E98: =IFERROR(VLOOKUP($B98,'[1]NUM3.1'!$H$3:$S$112,2,FALSE),0) -> 0 | F98: =IFERROR(VLOOKUP($B98,'[1]NUM3.1'!$H$3:$S$112,3,FALSE),0) -> 0 | G98: =IFERROR(VLOOKUP($B98,'[1]NUM3.1'!$H$3:$S$112,4,FALSE),0) -> 0 | H98: =IFERROR(VLOOKUP($B98,'[1]NUM3.1'!$H$3:$S$112,5,FALSE),0) -> 0 | I98: =IFERROR(VLOOKUP($B98,'[1]NUM3.1'!$H$3:$S$112,6,FALSE),0) -> 0 | J98: =IFERROR(VLOOKUP($B98,'[1]NUM3.1'!$H$3:$S$112,7,FALSE),0) -> 0 | K98: =IFERROR(VLOOKUP($B98,'[1]NUM3.1'!$H$3:$S$112,8,FALSE),0) -> 0 | L98: =IFERROR(VLOOKUP($B98,'[1]NUM3.1'!$H$3:$S$112,9,FALSE),0) -> 0 | M98: =IFERROR(VLOOKUP($B98,'[1]NUM3.1'!$H$3:$S$112,10,FALSE),0) -> 0 | N98: =IFERROR(VLOOKUP($B98,'[1]NUM3.1'!$H$3:$S$112,11,FALSE),0) -> 0 | Q98: =SUM(E98:P98) -> 0 | R98: =IFERROR(VLOOKUP($B98,'[1]DEN3.1'!$H$3:$S$112,2,FALSE),0) -> 0 | S98: =IFERROR(VLOOKUP($B98,'[1]DEN3.1'!$H$3:$S$112,3,FALSE),0) -> 0 | T98: =IFERROR(VLOOKUP($B98,'[1]DEN3.1'!$H$3:$S$112,4,FALSE),0) -> 0 | U98: =IFERROR(VLOOKUP($B98,'[1]DEN3.1'!$H$3:$S$112,5,FALSE),0) -> 0 | V98: =IFERROR(VLOOKUP($B98,'[1]DEN3.1'!$H$3:$S$112,6,FALSE),0) -> 0 | W98: =IFERROR(VLOOKUP($B98,'[1]DEN3.1'!$H$3:$S$112,7,FALSE),0) -> 0 | X98: =IFERROR(VLOOKUP($B98,'[1]DEN3.1'!$H$3:$S$112,8,FALSE),0) -> 0 | Y98: =IFERROR(VLOOKUP($B98,'[1]DEN3.1'!$H$3:$S$112,9,FALSE),0) -> 0 | Z98: =IFERROR(VLOOKUP($B98,'[1]DEN3.1'!$H$3:$S$112,10,FALSE),0) -> 0 | AA98: =IFERROR(VLOOKUP($B98,'[1]DEN3.1'!$H$3:$S$112,11,FALSE),0) -> 0 | AD98: =SUM(R98:AC98) -> 0
A99: 04301-OVALLE | B99: 105420-P.S.R. LIMARI | E99: =IFERROR(VLOOKUP($B99,'[1]NUM3.1'!$H$3:$S$112,2,FALSE),0) -> 0 | F99: =IFERROR(VLOOKUP($B99,'[1]NUM3.1'!$H$3:$S$112,3,FALSE),0) -> 0 | G99: =IFERROR(VLOOKUP($B99,'[1]NUM3.1'!$H$3:$S$112,4,FALSE),0) -> 0 | H99: =IFERROR(VLOOKUP($B99,'[1]NUM3.1'!$H$3:$S$112,5,FALSE),0) -> 0 | I99: =IFERROR(VLOOKUP($B99,'[1]NUM3.1'!$H$3:$S$112,6,FALSE),0) -> 0 | J99: =IFERROR(VLOOKUP($B99,'[1]NUM3.1'!$H$3:$S$112,7,FALSE),0) -> 0 | K99: =IFERROR(VLOOKUP($B99,'[1]NUM3.1'!$H$3:$S$112,8,FALSE),0) -> 0 | L99: =IFERROR(VLOOKUP($B99,'[1]NUM3.1'!$H$3:$S$112,9,FALSE),0) -> 0 | M99: =IFERROR(VLOOKUP($B99,'[1]NUM3.1'!$H$3:$S$112,10,FALSE),0) -> 0 | N99: =IFERROR(VLOOKUP($B99,'[1]NUM3.1'!$H$3:$S$112,11,FALSE),0) -> 0 | Q99: =SUM(E99:P99) -> 0 | R99: =IFERROR(VLOOKUP($B99,'[1]DEN3.1'!$H$3:$S$112,2,FALSE),0) -> 0 | S99: =IFERROR(VLOOKUP($B99,'[1]DEN3.1'!$H$3:$S$112,3,FALSE),0) -> 0 | T99: =IFERROR(VLOOKUP($B99,'[1]DEN3.1'!$H$3:$S$112,4,FALSE),0) -> 0 | U99: =IFERROR(VLOOKUP($B99,'[1]DEN3.1'!$H$3:$S$112,5,FALSE),0) -> 0 | V99: =IFERROR(VLOOKUP($B99,'[1]DEN3.1'!$H$3:$S$112,6,FALSE),0) -> 0 | W99: =IFERROR(VLOOKUP($B99,'[1]DEN3.1'!$H$3:$S$112,7,FALSE),0) -> 0 | X99: =IFERROR(VLOOKUP($B99,'[1]DEN3.1'!$H$3:$S$112,8,FALSE),0) -> 0 | Y99: =IFERROR(VLOOKUP($B99,'[1]DEN3.1'!$H$3:$S$112,9,FALSE),0) -> 0 | Z99: =IFERROR(VLOOKUP($B99,'[1]DEN3.1'!$H$3:$S$112,10,FALSE),0) -> 0 | AA99: =IFERROR(VLOOKUP($B99,'[1]DEN3.1'!$H$3:$S$112,11,FALSE),0) -> 0 | AD99: =SUM(R99:AC99) -> 0
A100: 04301-OVALLE | B100: 105422-P.S.R. HORNILLOS | E100: =IFERROR(VLOOKUP($B100,'[1]NUM3.1'!$H$3:$S$112,2,FALSE),0) -> 0 | F100: =IFERROR(VLOOKUP($B100,'[1]NUM3.1'!$H$3:$S$112,3,FALSE),0) -> 0 | G100: =IFERROR(VLOOKUP($B100,'[1]NUM3.1'!$H$3:$S$112,4,FALSE),0) -> 0 | H100: =IFERROR(VLOOKUP($B100,'[1]NUM3.1'!$H$3:$S$112,5,FALSE),0) -> 0 | I100: =IFERROR(VLOOKUP($B100,'[1]NUM3.1'!$H$3:$S$112,6,FALSE),0) -> 0 | J100: =IFERROR(VLOOKUP($B100,'[1]NUM3.1'!$H$3:$S$112,7,FALSE),0) -> 0 | K100: =IFERROR(VLOOKUP($B100,'[1]NUM3.1'!$H$3:$S$112,8,FALSE),0) -> 0 | L100: =IFERROR(VLOOKUP($B100,'[1]NUM3.1'!$H$3:$S$112,9,FALSE),0) -> 0 | M100: =IFERROR(VLOOKUP($B100,'[1]NUM3.1'!$H$3:$S$112,10,FALSE),0) -> 0 | N100: =IFERROR(VLOOKUP($B100,'[1]NUM3.1'!$H$3:$S$112,11,FALSE),0) -> 0 | Q100: =SUM(E100:P100) -> 0 | R100: =IFERROR(VLOOKUP($B100,'[1]DEN3.1'!$H$3:$S$112,2,FALSE),0) -> 0 | S100: =IFERROR(VLOOKUP($B100,'[1]DEN3.1'!$H$3:$S$112,3,FALSE),0) -> 0 | T100: =IFERROR(VLOOKUP($B100,'[1]DEN3.1'!$H$3:$S$112,4,FALSE),0) -> 0 | U100: =IFERROR(VLOOKUP($B100,'[1]DEN3.1'!$H$3:$S$112,5,FALSE),0) -> 0 | V100: =IFERROR(VLOOKUP($B100,'[1]DEN3.1'!$H$3:$S$112,6,FALSE),0) -> 0 | W100: =IFERROR(VLOOKUP($B100,'[1]DEN3.1'!$H$3:$S$112,7,FALSE),0) -> 0 | X100: =IFERROR(VLOOKUP($B100,'[1]DEN3.1'!$H$3:$S$112,8,FALSE),0) -> 0 | Y100: =IFERROR(VLOOKUP($B100,'[1]DEN3.1'!$H$3:$S$112,9,FALSE),0) -> 0 | Z100: =IFERROR(VLOOKUP($B100,'[1]DEN3.1'!$H$3:$S$112,10,FALSE),0) -> 0 | AA100: =IFERROR(VLOOKUP($B100,'[1]DEN3.1'!$H$3:$S$112,11,FALSE),0) -> 0 | AD100: =SUM(R100:AC100) -> 0
A101: 04301-OVALLE | B101: 105437-P.S.R. CHALINGA | E101: =IFERROR(VLOOKUP($B101,'[1]NUM3.1'!$H$3:$S$112,2,FALSE),0) -> 0 | F101: =IFERROR(VLOOKUP($B101,'[1]NUM3.1'!$H$3:$S$112,3,FALSE),0) -> 0 | G101: =IFERROR(VLOOKUP($B101,'[1]NUM3.1'!$H$3:$S$112,4,FALSE),0) -> 0 | H101: =IFERROR(VLOOKUP($B101,'[1]NUM3.1'!$H$3:$S$112,5,FALSE),0) -> 0 | I101: =IFERROR(VLOOKUP($B101,'[1]NUM3.1'!$H$3:$S$112,6,FALSE),0) -> 0 | J101: =IFERROR(VLOOKUP($B101,'[1]NUM3.1'!$H$3:$S$112,7,FALSE),0) -> 0 | K101: =IFERROR(VLOOKUP($B101,'[1]NUM3.1'!$H$3:$S$112,8,FALSE),0) -> 0 | L101: =IFERROR(VLOOKUP($B101,'[1]NUM3.1'!$H$3:$S$112,9,FALSE),0) -> 0 | M101: =IFERROR(VLOOKUP($B101,'[1]NUM3.1'!$H$3:$S$112,10,FALSE),0) -> 0 | N101: =IFERROR(VLOOKUP($B101,'[1]NUM3.1'!$H$3:$S$112,11,FALSE),0) -> 0 | Q101: =SUM(E101:P101) -> 0 | R101: =IFERROR(VLOOKUP($B101,'[1]DEN3.1'!$H$3:$S$112,2,FALSE),0) -> 0 | S101: =IFERROR(VLOOKUP($B101,'[1]DEN3.1'!$H$3:$S$112,3,FALSE),0) -> 0 | T101: =IFERROR(VLOOKUP($B101,'[1]DEN3.1'!$H$3:$S$112,4,FALSE),0) -> 0 | U101: =IFERROR(VLOOKUP($B101,'[1]DEN3.1'!$H$3:$S$112,5,FALSE),0) -> 0 | V101: =IFERROR(VLOOKUP($B101,'[1]DEN3.1'!$H$3:$S$112,6,FALSE),0) -> 0 | W101: =IFERROR(VLOOKUP($B101,'[1]DEN3.1'!$H$3:$S$112,7,FALSE),0) -> 0 | X101: =IFERROR(VLOOKUP($B101,'[1]DEN3.1'!$H$3:$S$112,8,FALSE),0) -> 0 | Y101: =IFERROR(VLOOKUP($B101,'[1]DEN3.1'!$H$3:$S$112,9,FALSE),0) -> 0 | Z101: =IFERROR(VLOOKUP($B101,'[1]DEN3.1'!$H$3:$S$112,10,FALSE),0) -> 0 | AA101: =IFERROR(VLOOKUP($B101,'[1]DEN3.1'!$H$3:$S$112,11,FALSE),0) -> 0 | AD101: =SUM(R101:AC101) -> 0
A102: 04301-OVALLE | B102: 105439-P.S.R. CERRO BLANCO | E102: =IFERROR(VLOOKUP($B102,'[1]NUM3.1'!$H$3:$S$112,2,FALSE),0) -> 0 | F102: =IFERROR(VLOOKUP($B102,'[1]NUM3.1'!$H$3:$S$112,3,FALSE),0) -> 0 | G102: =IFERROR(VLOOKUP($B102,'[1]NUM3.1'!$H$3:$S$112,4,FALSE),0) -> 0 | H102: =IFERROR(VLOOKUP($B102,'[1]NUM3.1'!$H$3:$S$112,5,FALSE),0) -> 0 | I102: =IFERROR(VLOOKUP($B102,'[1]NUM3.1'!$H$3:$S$112,6,FALSE),0) -> 0 | J102: =IFERROR(VLOOKUP($B102,'[1]NUM3.1'!$H$3:$S$112,7,FALSE),0) -> 0 | K102: =IFERROR(VLOOKUP($B102,'[1]NUM3.1'!$H$3:$S$112,8,FALSE),0) -> 0 | L102: =IFERROR(VLOOKUP($B102,'[1]NUM3.1'!$H$3:$S$112,9,FALSE),0) -> 0 | M102: =IFERROR(VLOOKUP($B102,'[1]NUM3.1'!$H$3:$S$112,10,FALSE),0) -> 0 | N102: =IFERROR(VLOOKUP($B102,'[1]NUM3.1'!$H$3:$S$112,11,FALSE),0) -> 0 | Q102: =SUM(E102:P102) -> 0 | R102: =IFERROR(VLOOKUP($B102,'[1]DEN3.1'!$H$3:$S$112,2,FALSE),0) -> 0 | S102: =IFERROR(VLOOKUP($B102,'[1]DEN3.1'!$H$3:$S$112,3,FALSE),0) -> 0 | T102: =IFERROR(VLOOKUP($B102,'[1]DEN3.1'!$H$3:$S$112,4,FALSE),0) -> 0 | U102: =IFERROR(VLOOKUP($B102,'[1]DEN3.1'!$H$3:$S$112,5,FALSE),0) -> 0 | V102: =IFERROR(VLOOKUP($B102,'[1]DEN3.1'!$H$3:$S$112,6,FALSE),0) -> 0 | W102: =IFERROR(VLOOKUP($B102,'[1]DEN3.1'!$H$3:$S$112,7,FALSE),0) -> 0 | X102: =IFERROR(VLOOKUP($B102,'[1]DEN3.1'!$H$3:$S$112,8,FALSE),0) -> 0 | Y102: =IFERROR(VLOOKUP($B102,'[1]DEN3.1'!$H$3:$S$112,9,FALSE),0) -> 0 | Z102: =IFERROR(VLOOKUP($B102,'[1]DEN3.1'!$H$3:$S$112,10,FALSE),0) -> 0 | AA102: =IFERROR(VLOOKUP($B102,'[1]DEN3.1'!$H$3:$S$112,11,FALSE),0) -> 0 | AD102: =SUM(R102:AC102) -> 0
... A108: 04301-OVALLE | B108: 200367-CECOF COLONIA LIMARÍ | E108: =IFERROR(VLOOKUP($B108,'[1]NUM3.1'!$H$3:$S$112,2,FALSE),0) -> 0 | F108: =IFERROR(VLOOKUP($B108,'[1]NUM3.1'!$H$3:$S$112,3,FALSE),0) -> 0 | G108: =IFERROR(VLOOKUP($B108,'[1]NUM3.1'!$H$3:$S$112,4,FALSE),0) -> 0 | H108: =IFERROR(VLOOKUP($B108,'[1]NUM3.1'!$H$3:$S$112,5,FALSE),0) -> 0 | I108: =IFERROR(VLOOKUP($B108,'[1]NUM3.1'!$H$3:$S$112,6,FALSE),0) -> 0 | J108: =IFERROR(VLOOKUP($B108,'[1]NUM3.1'!$H$3:$S$112,7,FALSE),0) -> 0 | K108: =IFERROR(VLOOKUP($B108,'[1]NUM3.1'!$H$3:$S$112,8,FALSE),0) -> 0 | L108: =IFERROR(VLOOKUP($B108,'[1]NUM3.1'!$H$3:$S$112,9,FALSE),0) -> 0 | M108: =IFERROR(VLOOKUP($B108,'[1]NUM3.1'!$H$3:$S$112,10,FALSE),0) -> 0 | N108: =IFERROR(VLOOKUP($B108,'[1]NUM3.1'!$H$3:$S$112,11,FALSE),0) -> 1 | Q108: =SUM(E108:P108) -> 1 | R108: =IFERROR(VLOOKUP($B108,'[1]DEN3.1'!$H$3:$S$112,2,FALSE),0) -> 0 | S108: =IFERROR(VLOOKUP($B108,'[1]DEN3.1'!$H$3:$S$112,3,FALSE),0) -> 0 | T108: =IFERROR(VLOOKUP($B108,'[1]DEN3.1'!$H$3:$S$112,4,FALSE),0) -> 0 | U108: =IFERROR(VLOOKUP($B108,'[1]DEN3.1'!$H$3:$S$112,5,FALSE),0) -> 0 | V108: =IFERROR(VLOOKUP($B108,'[1]DEN3.1'!$H$3:$S$112,6,FALSE),0) -> 0 | W108: =IFERROR(VLOOKUP($B108,'[1]DEN3.1'!$H$3:$S$112,7,FALSE),0) -> 0 | X108: =IFERROR(VLOOKUP($B108,'[1]DEN3.1'!$H$3:$S$112,8,FALSE),0) -> 0 | Y108: =IFERROR(VLOOKUP($B108,'[1]DEN3.1'!$H$3:$S$112,9,FALSE),0) -> 0 | Z108: =IFERROR(VLOOKUP($B108,'[1]DEN3.1'!$H$3:$S$112,10,FALSE),0) -> 0 | AA108: =IFERROR(VLOOKUP($B108,'[1]DEN3.1'!$H$3:$S$112,11,FALSE),0) -> 1 | AD108: =SUM(R108:AC108) -> 1
A109: TOTAL OVALLE | C109: =+D109/Metas!H92 -> 1.0198675 | D109: =+Q109/AD109 -> 1 | E109: =SUM(E91:E108) -> 19 | F109: =SUM(F91:F108) -> 24 | G109: =SUM(G91:G108) -> 16 | H109: =SUM(H91:H108) -> 13 | I109: =SUM(I91:I108) -> 20 | J109: =SUM(J91:J108) -> 18 | K109: =SUM(K91:K108) -> 21 | L109: =SUM(L91:L108) -> 20 | ... AD109: =SUM(AD91:AD108) -> 191
A110: 04302-COMBARBALÁ | B110: 105433-P.S.R. SAN LORENZO | E110: =IFERROR(VLOOKUP($B110,'[1]NUM3.1'!$H$3:$S$112,2,FALSE),0) -> 0 | F110: =IFERROR(VLOOKUP($B110,'[1]NUM3.1'!$H$3:$S$112,3,FALSE),0) -> 0 | G110: =IFERROR(VLOOKUP($B110,'[1]NUM3.1'!$H$3:$S$112,4,FALSE),0) -> 0 | H110: =IFERROR(VLOOKUP($B110,'[1]NUM3.1'!$H$3:$S$112,5,FALSE),0) -> 0 | I110: =IFERROR(VLOOKUP($B110,'[1]NUM3.1'!$H$3:$S$112,6,FALSE),0) -> 0 | J110: =IFERROR(VLOOKUP($B110,'[1]NUM3.1'!$H$3:$S$112,7,FALSE),0) -> 0 | K110: =IFERROR(VLOOKUP($B110,'[1]NUM3.1'!$H$3:$S$112,8,FALSE),0) -> 0 | L110: =IFERROR(VLOOKUP($B110,'[1]NUM3.1'!$H$3:$S$112,9,FALSE),0) -> 0 | M110: =IFERROR(VLOOKUP($B110,'[1]NUM3.1'!$H$3:$S$112,10,FALSE),0) -> 0 | N110: =IFERROR(VLOOKUP($B110,'[1]NUM3.1'!$H$3:$S$112,11,FALSE),0) -> 0 | Q110: =SUM(E110:P110) -> 0 | R110: =IFERROR(VLOOKUP($B110,'[1]DEN3.1'!$H$3:$S$112,2,FALSE),0) -> 0 | S110: =IFERROR(VLOOKUP($B110,'[1]DEN3.1'!$H$3:$S$112,3,FALSE),0) -> 0 | T110: =IFERROR(VLOOKUP($B110,'[1]DEN3.1'!$H$3:$S$112,4,FALSE),0) -> 0 | U110: =IFERROR(VLOOKUP($B110,'[1]DEN3.1'!$H$3:$S$112,5,FALSE),0) -> 0 | V110: =IFERROR(VLOOKUP($B110,'[1]DEN3.1'!$H$3:$S$112,6,FALSE),0) -> 0 | W110: =IFERROR(VLOOKUP($B110,'[1]DEN3.1'!$H$3:$S$112,7,FALSE),0) -> 0 | X110: =IFERROR(VLOOKUP($B110,'[1]DEN3.1'!$H$3:$S$112,8,FALSE),0) -> 0 | Y110: =IFERROR(VLOOKUP($B110,'[1]DEN3.1'!$H$3:$S$112,9,FALSE),0) -> 0 | Z110: =IFERROR(VLOOKUP($B110,'[1]DEN3.1'!$H$3:$S$112,10,FALSE),0) -> 0 | AA110: =IFERROR(VLOOKUP($B110,'[1]DEN3.1'!$H$3:$S$112,11,FALSE),0) -> 0 | AD110: =SUM(R110:AC110) -> 0
A111: 04302-COMBARBALÁ | B111: 105434-P.S.R. SAN MARCOS | E111: =IFERROR(VLOOKUP($B111,'[1]NUM3.1'!$H$3:$S$112,2,FALSE),0) -> 0 | F111: =IFERROR(VLOOKUP($B111,'[1]NUM3.1'!$H$3:$S$112,3,FALSE),0) -> 0 | G111: =IFERROR(VLOOKUP($B111,'[1]NUM3.1'!$H$3:$S$112,4,FALSE),0) -> 0 | H111: =IFERROR(VLOOKUP($B111,'[1]NUM3.1'!$H$3:$S$112,5,FALSE),0) -> 1 | I111: =IFERROR(VLOOKUP($B111,'[1]NUM3.1'!$H$3:$S$112,6,FALSE),0) -> 0 | J111: =IFERROR(VLOOKUP($B111,'[1]NUM3.1'!$H$3:$S$112,7,FALSE),0) -> 0 | K111: =IFERROR(VLOOKUP($B111,'[1]NUM3.1'!$H$3:$S$112,8,FALSE),0) -> 0 | L111: =IFERROR(VLOOKUP($B111,'[1]NUM3.1'!$H$3:$S$112,9,FALSE),0) -> 0 | M111: =IFERROR(VLOOKUP($B111,'[1]NUM3.1'!$H$3:$S$112,10,FALSE),0) -> 0 | N111: =IFERROR(VLOOKUP($B111,'[1]NUM3.1'!$H$3:$S$112,11,FALSE),0) -> 0 | Q111: =SUM(E111:P111) -> 1 | R111: =IFERROR(VLOOKUP($B111,'[1]DEN3.1'!$H$3:$S$112,2,FALSE),0) -> 0 | S111: =IFERROR(VLOOKUP($B111,'[1]DEN3.1'!$H$3:$S$112,3,FALSE),0) -> 0 | T111: =IFERROR(VLOOKUP($B111,'[1]DEN3.1'!$H$3:$S$112,4,FALSE),0) -> 0 | U111: =IFERROR(VLOOKUP($B111,'[1]DEN3.1'!$H$3:$S$112,5,FALSE),0) -> 1 | V111: =IFERROR(VLOOKUP($B111,'[1]DEN3.1'!$H$3:$S$112,6,FALSE),0) -> 0 | W111: =IFERROR(VLOOKUP($B111,'[1]DEN3.1'!$H$3:$S$112,7,FALSE),0) -> 0 | X111: =IFERROR(VLOOKUP($B111,'[1]DEN3.1'!$H$3:$S$112,8,FALSE),0) -> 0 | Y111: =IFERROR(VLOOKUP($B111,'[1]DEN3.1'!$H$3:$S$112,9,FALSE),0) -> 0 | Z111: =IFERROR(VLOOKUP($B111,'[1]DEN3.1'!$H$3:$S$112,10,FALSE),0) -> 0 | AA111: =IFERROR(VLOOKUP($B111,'[1]DEN3.1'!$H$3:$S$112,11,FALSE),0) -> 0 | AD111: =SUM(R111:AC111) -> 1
A112: 04302-COMBARBALÁ | B112: 105441-P.S.R. MANQUEHUA | E112: =IFERROR(VLOOKUP($B112,'[1]NUM3.1'!$H$3:$S$112,2,FALSE),0) -> 0 | F112: =IFERROR(VLOOKUP($B112,'[1]NUM3.1'!$H$3:$S$112,3,FALSE),0) -> 0 | G112: =IFERROR(VLOOKUP($B112,'[1]NUM3.1'!$H$3:$S$112,4,FALSE),0) -> 0 | H112: =IFERROR(VLOOKUP($B112,'[1]NUM3.1'!$H$3:$S$112,5,FALSE),0) -> 0 | I112: =IFERROR(VLOOKUP($B112,'[1]NUM3.1'!$H$3:$S$112,6,FALSE),0) -> 0 | J112: =IFERROR(VLOOKUP($B112,'[1]NUM3.1'!$H$3:$S$112,7,FALSE),0) -> 1 | K112: =IFERROR(VLOOKUP($B112,'[1]NUM3.1'!$H$3:$S$112,8,FALSE),0) -> 0 | L112: =IFERROR(VLOOKUP($B112,'[1]NUM3.1'!$H$3:$S$112,9,FALSE),0) -> 0 | M112: =IFERROR(VLOOKUP($B112,'[1]NUM3.1'!$H$3:$S$112,10,FALSE),0) -> 0 | N112: =IFERROR(VLOOKUP($B112,'[1]NUM3.1'!$H$3:$S$112,11,FALSE),0) -> 0 | Q112: =SUM(E112:P112) -> 1 | R112: =IFERROR(VLOOKUP($B112,'[1]DEN3.1'!$H$3:$S$112,2,FALSE),0) -> 0 | S112: =IFERROR(VLOOKUP($B112,'[1]DEN3.1'!$H$3:$S$112,3,FALSE),0) -> 0 | T112: =IFERROR(VLOOKUP($B112,'[1]DEN3.1'!$H$3:$S$112,4,FALSE),0) -> 0 | U112: =IFERROR(VLOOKUP($B112,'[1]DEN3.1'!$H$3:$S$112,5,FALSE),0) -> 0 | V112: =IFERROR(VLOOKUP($B112,'[1]DEN3.1'!$H$3:$S$112,6,FALSE),0) -> 0 | W112: =IFERROR(VLOOKUP($B112,'[1]DEN3.1'!$H$3:$S$112,7,FALSE),0) -> 1 | X112: =IFERROR(VLOOKUP($B112,'[1]DEN3.1'!$H$3:$S$112,8,FALSE),0) -> 0 | Y112: =IFERROR(VLOOKUP($B112,'[1]DEN3.1'!$H$3:$S$112,9,FALSE),0) -> 0 | Z112: =IFERROR(VLOOKUP($B112,'[1]DEN3.1'!$H$3:$S$112,10,FALSE),0) -> 0 | AA112: =IFERROR(VLOOKUP($B112,'[1]DEN3.1'!$H$3:$S$112,11,FALSE),0) -> 0 | AD112: =SUM(R112:AC112) -> 1
...

Sheet META 5 
A1: COMUNA | B1: ESTABLECIMIENTO | C1: CUMPLIMIENTO | D1: Indicador | E1: META 5: TASA DE CONSULTAS DE MORBILIDAD Y CONTROLES MEDICOS POR HABITANTE/AÑO
E2: NUMERADOR | R2: DENOMINADOR
E10: Nº de consultas de morbilidad y controles médicos realizadas | R10: Población Inscrita
D11: Resultado | E11: ENERO | F11: FEBRERO | G11: MARZO | H11: ABRIL | I11: MAYO | J11: JUNIO | K11: JULIO | L11: AGOSTO | M11: SEPBRE | N11: OCTBRE | O11: NOVBRE | P11: DICBRE | Q11: TOTAL
A12: 04101-LA SERENA | B12: 105300-CES. CARDENAL CARO | E12: =VLOOKUP($B12,[1]NUM5!$H$3:$S$180,2,FALSE) -> 1710 | F12: =VLOOKUP($B12,[1]NUM5!$H$3:$S$180,3,FALSE) -> 1894 | G12: =VLOOKUP($B12,[1]NUM5!$H$3:$S$180,4,FALSE) -> 2132 | H12: =VLOOKUP($B12,[1]NUM5!$H$3:$S$180,5,FALSE) -> 1931 | I12: =VLOOKUP($B12,[1]NUM5!$H$3:$S$180,6,FALSE) -> 1696 | J12: =VLOOKUP($B12,[1]NUM5!$H$3:$S$180,7,FALSE) -> 1679 | K12: =VLOOKUP($B12,[1]NUM5!$H$3:$S$180,8,FALSE) -> 1682 | L12: =VLOOKUP($B12,[1]NUM5!$H$3:$S$180,9,FALSE) -> 1587 | M12: =VLOOKUP($B12,[1]NUM5!$H$3:$S$180,10,FALSE) -> 1851 | N12: =VLOOKUP($B12,[1]NUM5!$H$3:$S$180,11,FALSE) -> 1605 | Q12: =SUM(E12:P12) -> 17767
A13: 04101-LA SERENA | B13: 105301-CES. LAS COMPAÑIAS | E13: =VLOOKUP($B13,[1]NUM5!$H$3:$S$180,2,FALSE) -> 1864 | F13: =VLOOKUP($B13,[1]NUM5!$H$3:$S$180,3,FALSE) -> 1858 | G13: =VLOOKUP($B13,[1]NUM5!$H$3:$S$180,4,FALSE) -> 1546 | H13: =VLOOKUP($B13,[1]NUM5!$H$3:$S$180,5,FALSE) -> 1451 | I13: =VLOOKUP($B13,[1]NUM5!$H$3:$S$180,6,FALSE) -> 1724 | J13: =VLOOKUP($B13,[1]NUM5!$H$3:$S$180,7,FALSE) -> 1596 | K13: =VLOOKUP($B13,[1]NUM5!$H$3:$S$180,8,FALSE) -> 1953 | L13: =VLOOKUP($B13,[1]NUM5!$H$3:$S$180,9,FALSE) -> 2398 | M13: =VLOOKUP($B13,[1]NUM5!$H$3:$S$180,10,FALSE) -> 1812 | N13: =VLOOKUP($B13,[1]NUM5!$H$3:$S$180,11,FALSE) -> 2233 | Q13: =SUM(E13:P13) -> 18435
A14: 04101-LA SERENA | B14: 105302-CES. PEDRO AGUIRRE C. | E14: =VLOOKUP($B14,[1]NUM5!$H$3:$S$180,2,FALSE) -> 1873 | F14: =VLOOKUP($B14,[1]NUM5!$H$3:$S$180,3,FALSE) -> 2128 | G14: =VLOOKUP($B14,[1]NUM5!$H$3:$S$180,4,FALSE) -> 2688 | H14: =VLOOKUP($B14,[1]NUM5!$H$3:$S$180,5,FALSE) -> 2041 | I14: =VLOOKUP($B14,[1]NUM5!$H$3:$S$180,6,FALSE) -> 2227 | J14: =VLOOKUP($B14,[1]NUM5!$H$3:$S$180,7,FALSE) -> 1983 | K14: =VLOOKUP($B14,[1]NUM5!$H$3:$S$180,8,FALSE) -> 2283 | L14: =VLOOKUP($B14,[1]NUM5!$H$3:$S$180,9,FALSE) -> 2206 | M14: =VLOOKUP($B14,[1]NUM5!$H$3:$S$180,10,FALSE) -> 1619 | N14: =VLOOKUP($B14,[1]NUM5!$H$3:$S$180,11,FALSE) -> 1770 | Q14: =SUM(E14:P14) -> 20818
A15: 04101-LA SERENA | B15: 105313-CES. SCHAFFHAUSER | E15: =VLOOKUP($B15,[1]NUM5!$H$3:$S$180,2,FALSE) -> 1783 | F15: =VLOOKUP($B15,[1]NUM5!$H$3:$S$180,3,FALSE) -> 1635 | G15: =VLOOKUP($B15,[1]NUM5!$H$3:$S$180,4,FALSE) -> 1759 | H15: =VLOOKUP($B15,[1]NUM5!$H$3:$S$180,5,FALSE) -> 2228 | I15: =VLOOKUP($B15,[1]NUM5!$H$3:$S$180,6,FALSE) -> 2441 | J15: =VLOOKUP($B15,[1]NUM5!$H$3:$S$180,7,FALSE) -> 2090 | K15: =VLOOKUP($B15,[1]NUM5!$H$3:$S$180,8,FALSE) -> 1906 | L15: =VLOOKUP($B15,[1]NUM5!$H$3:$S$180,9,FALSE) -> 2132 | M15: =VLOOKUP($B15,[1]NUM5!$H$3:$S$180,10,FALSE) -> 1746 | N15: =VLOOKUP($B15,[1]NUM5!$H$3:$S$180,11,FALSE) -> 2124 | Q15: =SUM(E15:P15) -> 19844
A16: 04101-LA SERENA | B16: 105319-CES. CARDENAL R.S.H. | E16: =VLOOKUP($B16,[1]NUM5!$H$3:$S$180,2,FALSE) -> 2012 | F16: =VLOOKUP($B16,[1]NUM5!$H$3:$S$180,3,FALSE) -> 2276 | G16: =VLOOKUP($B16,[1]NUM5!$H$3:$S$180,4,FALSE) -> 2657 | H16: =VLOOKUP($B16,[1]NUM5!$H$3:$S$180,5,FALSE) -> 1905 | I16: =VLOOKUP($B16,[1]NUM5!$H$3:$S$180,6,FALSE) -> 3371 | J16: =VLOOKUP($B16,[1]NUM5!$H$3:$S$180,7,FALSE) -> 3501 | K16: =VLOOKUP($B16,[1]NUM5!$H$3:$S$180,8,FALSE) -> 2758 | L16: =VLOOKUP($B16,[1]NUM5!$H$3:$S$180,9,FALSE) -> 2748 | M16: =VLOOKUP($B16,[1]NUM5!$H$3:$S$180,10,FALSE) -> 2138 | N16: =VLOOKUP($B16,[1]NUM5!$H$3:$S$180,11,FALSE) -> 2934 | Q16: =SUM(E16:P16) -> 26300
A17: 04101-LA SERENA | B17: 105325-CESFAM JUAN PABLO II | E17: =VLOOKUP($B17,[1]NUM5!$H$3:$S$180,2,FALSE) -> 1556 | F17: =VLOOKUP($B17,[1]NUM5!$H$3:$S$180,3,FALSE) -> 1284 | G17: =VLOOKUP($B17,[1]NUM5!$H$3:$S$180,4,FALSE) -> 1561 | H17: =VLOOKUP($B17,[1]NUM5!$H$3:$S$180,5,FALSE) -> 1066 | I17: =VLOOKUP($B17,[1]NUM5!$H$3:$S$180,6,FALSE) -> 1705 | J17: =VLOOKUP($B17,[1]NUM5!$H$3:$S$180,7,FALSE) -> 1585 | K17: =VLOOKUP($B17,[1]NUM5!$H$3:$S$180,8,FALSE) -> 1767 | L17: =VLOOKUP($B17,[1]NUM5!$H$3:$S$180,9,FALSE) -> 1648 | M17: =VLOOKUP($B17,[1]NUM5!$H$3:$S$180,10,FALSE) -> 1340 | N17: =VLOOKUP($B17,[1]NUM5!$H$3:$S$180,11,FALSE) -> 1476 | Q17: =SUM(E17:P17) -> 14988
A18: 04101-LA SERENA | B18: 105400-P.S.R. ALGARROBITO | E18: =VLOOKUP($B18,[1]NUM5!$H$3:$S$180,2,FALSE) -> 218 | F18: =VLOOKUP($B18,[1]NUM5!$H$3:$S$180,3,FALSE) -> 270 | G18: =VLOOKUP($B18,[1]NUM5!$H$3:$S$180,4,FALSE) -> 415 | H18: =VLOOKUP($B18,[1]NUM5!$H$3:$S$180,5,FALSE) -> 231 | I18: =VLOOKUP($B18,[1]NUM5!$H$3:$S$180,6,FALSE) -> 287 | J18: =VLOOKUP($B18,[1]NUM5!$H$3:$S$180,7,FALSE) -> 296 | K18: =VLOOKUP($B18,[1]NUM5!$H$3:$S$180,8,FALSE) -> 373 | L18: =VLOOKUP($B18,[1]NUM5!$H$3:$S$180,9,FALSE) -> 324 | M18: =VLOOKUP($B18,[1]NUM5!$H$3:$S$180,10,FALSE) -> 226 | N18: =VLOOKUP($B18,[1]NUM5!$H$3:$S$180,11,FALSE) -> 225 | Q18: =SUM(E18:P18) -> 2865
A19: 04101-LA SERENA | B19: 105401-P.S.R. LAS ROJAS | E19: =VLOOKUP($B19,[1]NUM5!$H$3:$S$180,2,FALSE) -> 27 | F19: =VLOOKUP($B19,[1]NUM5!$H$3:$S$180,3,FALSE) -> 48 | G19: =VLOOKUP($B19,[1]NUM5!$H$3:$S$180,4,FALSE) -> 61 | H19: =VLOOKUP($B19,[1]NUM5!$H$3:$S$180,5,FALSE) -> 29 | I19: =VLOOKUP($B19,[1]NUM5!$H$3:$S$180,6,FALSE) -> 42 | J19: =VLOOKUP($B19,[1]NUM5!$H$3:$S$180,7,FALSE) -> 48 | K19: =VLOOKUP($B19,[1]NUM5!$H$3:$S$180,8,FALSE) -> 50 | L19: =VLOOKUP($B19,[1]NUM5!$H$3:$S$180,9,FALSE) -> 45 | M19: =VLOOKUP($B19,[1]NUM5!$H$3:$S$180,10,FALSE) -> 25 | N19: =VLOOKUP($B19,[1]NUM5!$H$3:$S$180,11,FALSE) -> 32 | Q19: =SUM(E19:P19) -> 407
A20: 04101-LA SERENA | B20: 105402-P.S.R. EL ROMERO | E20: =VLOOKUP($B20,[1]NUM5!$H$3:$S$180,2,FALSE) -> 43 | F20: =VLOOKUP($B20,[1]NUM5!$H$3:$S$180,3,FALSE) -> 30 | G20: =VLOOKUP($B20,[1]NUM5!$H$3:$S$180,4,FALSE) -> 37 | H20: =VLOOKUP($B20,[1]NUM5!$H$3:$S$180,5,FALSE) -> 35 | I20: =VLOOKUP($B20,[1]NUM5!$H$3:$S$180,6,FALSE) -> 40 | J20: =VLOOKUP($B20,[1]NUM5!$H$3:$S$180,7,FALSE) -> 45 | K20: =VLOOKUP($B20,[1]NUM5!$H$3:$S$180,8,FALSE) -> 26 | L20: =VLOOKUP($B20,[1]NUM5!$H$3:$S$180,9,FALSE) -> 56 | M20: =VLOOKUP($B20,[1]NUM5!$H$3:$S$180,10,FALSE) -> 36 | N20: =VLOOKUP($B20,[1]NUM5!$H$3:$S$180,11,FALSE) -> 36 | Q20: =SUM(E20:P20) -> 384
A21: 04101-LA SERENA | B21: 105499-P.S.R. LAMBERT | E21: =VLOOKUP($B21,[1]NUM5!$H$3:$S$180,2,FALSE) -> 34 | F21: =VLOOKUP($B21,[1]NUM5!$H$3:$S$180,3,FALSE) -> 43 | G21: =VLOOKUP($B21,[1]NUM5!$H$3:$S$180,4,FALSE) -> 70 | H21: =VLOOKUP($B21,[1]NUM5!$H$3:$S$180,5,FALSE) -> 49 | I21: =VLOOKUP($B21,[1]NUM5!$H$3:$S$180,6,FALSE) -> 19 | J21: =VLOOKUP($B21,[1]NUM5!$H$3:$S$180,7,FALSE) -> 45 | K21: =VLOOKUP($B21,[1]NUM5!$H$3:$S$180,8,FALSE) -> 48 | L21: =VLOOKUP($B21,[1]NUM5!$H$3:$S$180,9,FALSE) -> 39 | M21: =VLOOKUP($B21,[1]NUM5!$H$3:$S$180,10,FALSE) -> 11 | N21: =VLOOKUP($B21,[1]NUM5!$H$3:$S$180,11,FALSE) -> 34 | Q21: =SUM(E21:P21) -> 392
A22: 04101-LA SERENA | B22: 105700-CECOF VILLA EL INDIO | E22: =VLOOKUP($B22,[1]NUM5!$H$3:$S$180,2,FALSE) -> 470 | F22: =VLOOKUP($B22,[1]NUM5!$H$3:$S$180,3,FALSE) -> 447 | G22: =VLOOKUP($B22,[1]NUM5!$H$3:$S$180,4,FALSE) -> 459 | H22: =VLOOKUP($B22,[1]NUM5!$H$3:$S$180,5,FALSE) -> 331 | I22: =VLOOKUP($B22,[1]NUM5!$H$3:$S$180,6,FALSE) -> 308 | J22: =VLOOKUP($B22,[1]NUM5!$H$3:$S$180,7,FALSE) -> 377 | K22: =VLOOKUP($B22,[1]NUM5!$H$3:$S$180,8,FALSE) -> 311 | L22: =VLOOKUP($B22,[1]NUM5!$H$3:$S$180,9,FALSE) -> 213 | M22: =VLOOKUP($B22,[1]NUM5!$H$3:$S$180,10,FALSE) -> 210 | N22: =VLOOKUP($B22,[1]NUM5!$H$3:$S$180,11,FALSE) -> 187 | Q22: =SUM(E22:P22) -> 3313
A23: 04101-LA SERENA | B23: 105701-CECOF VILLA ALEMANIA | E23: =VLOOKUP($B23,[1]NUM5!$H$3:$S$180,2,FALSE) -> 119 | F23: =VLOOKUP($B23,[1]NUM5!$H$3:$S$180,3,FALSE) -> 52 | G23: =VLOOKUP($B23,[1]NUM5!$H$3:$S$180,4,FALSE) -> 153 | H23: =VLOOKUP($B23,[1]NUM5!$H$3:$S$180,5,FALSE) -> 93 | I23: =VLOOKUP($B23,[1]NUM5!$H$3:$S$180,6,FALSE) -> 159 | J23: =VLOOKUP($B23,[1]NUM5!$H$3:$S$180,7,FALSE) -> 95 | K23: =VLOOKUP($B23,[1]NUM5!$H$3:$S$180,8,FALSE) -> 93 | L23: =VLOOKUP($B23,[1]NUM5!$H$3:$S$180,9,FALSE) -> 35 | M23: =VLOOKUP($B23,[1]NUM5!$H$3:$S$180,10,FALSE) -> 90 | N23: =VLOOKUP($B23,[1]NUM5!$H$3:$S$180,11,FALSE) -> 60 | Q23: =SUM(E23:P23) -> 949
A24: 04101-LA SERENA | B24: 105702-CECOF VILLA LAMBERT | E24: =VLOOKUP($B24,[1]NUM5!$H$3:$S$180,2,FALSE) -> 285 | F24: =VLOOKUP($B24,[1]NUM5!$H$3:$S$180,3,FALSE) -> 210 | G24: =VLOOKUP($B24,[1]NUM5!$H$3:$S$180,4,FALSE) -> 333 | H24: =VLOOKUP($B24,[1]NUM5!$H$3:$S$180,5,FALSE) -> 197 | I24: =VLOOKUP($B24,[1]NUM5!$H$3:$S$180,6,FALSE) -> 172 | J24: =VLOOKUP($B24,[1]NUM5!$H$3:$S$180,7,FALSE) -> 195 | K24: =VLOOKUP($B24,[1]NUM5!$H$3:$S$180,8,FALSE) -> 192 | L24: =VLOOKUP($B24,[1]NUM5!$H$3:$S$180,9,FALSE) -> 141 | M24: =VLOOKUP($B24,[1]NUM5!$H$3:$S$180,10,FALSE) -> 154 | N24: =VLOOKUP($B24,[1]NUM5!$H$3:$S$180,11,FALSE) -> 142 | Q24: =SUM(E24:P24) -> 2021
A25: TOTAL LA SERENA | C25: =+D25/Metas!I89 -> 1.1153116 | D25: =+Q25/R25 -> 0.66918926 | E25: =SUM(E12:E24) -> 11994 | F25: =SUM(F12:F24) -> 12175 | G25: =SUM(G12:G24) -> 13871 | H25: =SUM(H12:H24) -> 11587 | I25: =SUM(I12:I24) -> 14191 | J25: =SUM(J12:J24) -> 13535 | K25: =SUM(K12:K24) -> 13442 | L25: =SUM(L12:L24) -> 13572 | ... Q25: =SUM(Q12:Q24) -> 128483 | R25: 191998
A26: 04102-COQUIMBO | B26: 105303-CES. SAN JUAN | E26: =VLOOKUP($B26,[1]NUM5!$H$3:$S$180,2,FALSE) -> 2231 | F26: =VLOOKUP($B26,[1]NUM5!$H$3:$S$180,3,FALSE) -> 2159 | G26: =VLOOKUP($B26,[1]NUM5!$H$3:$S$180,4,FALSE) -> 2916 | H26: =VLOOKUP($B26,[1]NUM5!$H$3:$S$180,5,FALSE) -> 2246 | I26: =VLOOKUP($B26,[1]NUM5!$H$3:$S$180,6,FALSE) -> 2967 | J26: =VLOOKUP($B26,[1]NUM5!$H$3:$S$180,7,FALSE) -> 2872 | K26: =VLOOKUP($B26,[1]NUM5!$H$3:$S$180,8,FALSE) -> 2845 | L26: =VLOOKUP($B26,[1]NUM5!$H$3:$S$180,9,FALSE) -> 2749 | M26: =VLOOKUP($B26,[1]NUM5!$H$3:$S$180,10,FALSE) -> 2504 | N26: =VLOOKUP($B26,[1]NUM5!$H$3:$S$180,11,FALSE) -> 2134 | Q26: =SUM(E26:P26) -> 25623
A27: 04102-COQUIMBO | B27: 105304-CES. SANTA CECILIA | E27: =VLOOKUP($B27,[1]NUM5!$H$3:$S$180,2,FALSE) -> 3402 | F27: =VLOOKUP($B27,[1]NUM5!$H$3:$S$180,3,FALSE) -> 2581 | G27: =VLOOKUP($B27,[1]NUM5!$H$3:$S$180,4,FALSE) -> 2755 | H27: =VLOOKUP($B27,[1]NUM5!$H$3:$S$180,5,FALSE) -> 2531 | I27: =VLOOKUP($B27,[1]NUM5!$H$3:$S$180,6,FALSE) -> 3319 | J27: =VLOOKUP($B27,[1]NUM5!$H$3:$S$180,7,FALSE) -> 3148 | K27: =VLOOKUP($B27,[1]NUM5!$H$3:$S$180,8,FALSE) -> 3412 | L27: =VLOOKUP($B27,[1]NUM5!$H$3:$S$180,9,FALSE) -> 3398 | M27: =VLOOKUP($B27,[1]NUM5!$H$3:$S$180,10,FALSE) -> 2738 | N27: =VLOOKUP($B27,[1]NUM5!$H$3:$S$180,11,FALSE) -> 3177 | Q27: =SUM(E27:P27) -> 30461
A28: 04102-COQUIMBO | B28: 105305-CES. TIERRAS BLANCAS | E28: =VLOOKUP($B28,[1]NUM5!$H$3:$S$180,2,FALSE) -> 4261 | F28: =VLOOKUP($B28,[1]NUM5!$H$3:$S$180,3,FALSE) -> 3637 | G28: =VLOOKUP($B28,[1]NUM5!$H$3:$S$180,4,FALSE) -> 4783 | H28: =VLOOKUP($B28,[1]NUM5!$H$3:$S$180,5,FALSE) -> 4830 | I28: =VLOOKUP($B28,[1]NUM5!$H$3:$S$180,6,FALSE) -> 4261 | J28: =VLOOKUP($B28,[1]NUM5!$H$3:$S$180,7,FALSE) -> 3861 | K28: =VLOOKUP($B28,[1]NUM5!$H$3:$S$180,8,FALSE) -> 3901 | L28: =VLOOKUP($B28,[1]NUM5!$H$3:$S$180,9,FALSE) -> 3532 | M28: =VLOOKUP($B28,[1]NUM5!$H$3:$S$180,10,FALSE) -> 3085 | N28: =VLOOKUP($B28,[1]NUM5!$H$3:$S$180,11,FALSE) -> 3496 | Q28: =SUM(E28:P28) -> 39647
A29: 04102-COQUIMBO | B29: 105321-CES. RURAL TONGOY | E29: =VLOOKUP($B29,[1]NUM5!$H$3:$S$180,2,FALSE) -> 680 | F29: =VLOOKUP($B29,[1]NUM5!$H$3:$S$180,3,FALSE) -> 646 | G29: =VLOOKUP($B29,[1]NUM5!$H$3:$S$180,4,FALSE) -> 870 | H29: =VLOOKUP($B29,[1]NUM5!$H$3:$S$180,5,FALSE) -> 613 | I29: =VLOOKUP($B29,[1]NUM5!$H$3:$S$180,6,FALSE) -> 729 | J29: =VLOOKUP($B29,[1]NUM5!$H$3:$S$180,7,FALSE) -> 847 | K29: =VLOOKUP($B29,[1]NUM5!$H$3:$S$180,8,FALSE) -> 767 | L29: =VLOOKUP($B29,[1]NUM5!$H$3:$S$180,9,FALSE) -> 713 | M29: =VLOOKUP($B29,[1]NUM5!$H$3:$S$180,10,FALSE) -> 649 | N29: =VLOOKUP($B29,[1]NUM5!$H$3:$S$180,11,FALSE) -> 778 | Q29: =SUM(E29:P29) -> 7292
A30: 04102-COQUIMBO | B30: 105323-CES. DR. SERGIO AGUILAR | E30: =VLOOKUP($B30,[1]NUM5!$H$3:$S$180,2,FALSE) -> 3297 | F30: =VLOOKUP($B30,[1]NUM5!$H$3:$S$180,3,FALSE) -> 3021 | G30: =VLOOKUP($B30,[1]NUM5!$H$3:$S$180,4,FALSE) -> 3082 | H30: =VLOOKUP($B30,[1]NUM5!$H$3:$S$180,5,FALSE) -> 2307 | I30: =VLOOKUP($B30,[1]NUM5!$H$3:$S$180,6,FALSE) -> 3303 | J30: =VLOOKUP($B30,[1]NUM5!$H$3:$S$180,7,FALSE) -> 3608 | K30: =VLOOKUP($B30,[1]NUM5!$H$3:$S$180,8,FALSE) -> 3345 | L30: =VLOOKUP($B30,[1]NUM5!$H$3:$S$180,9,FALSE) -> 3352 | M30: =VLOOKUP($B30,[1]NUM5!$H$3:$S$180,10,FALSE) -> 2593 | N30: =VLOOKUP($B30,[1]NUM5!$H$3:$S$180,11,FALSE) -> 3055 | Q30: =SUM(E30:P30) -> 30963
A31: 04102-COQUIMBO | B31: 105404-P.S.R. EL TANGUE | E31: =VLOOKUP($B31,[1]NUM5!$H$3:$S$180,2,FALSE) -> 14 | F31: =VLOOKUP($B31,[1]NUM5!$H$3:$S$180,3,FALSE) -> 12 | G31: =VLOOKUP($B31,[1]NUM5!$H$3:$S$180,4,FALSE) -> 20 | H31: =VLOOKUP($B31,[1]NUM5!$H$3:$S$180,5,FALSE) -> 0 | I31: =VLOOKUP($B31,[1]NUM5!$H$3:$S$180,6,FALSE) -> 17 | J31: =VLOOKUP($B31,[1]NUM5!$H$3:$S$180,7,FALSE) -> 15 | K31: =VLOOKUP($B31,[1]NUM5!$H$3:$S$180,8,FALSE) -> 4 | L31: =VLOOKUP($B31,[1]NUM5!$H$3:$S$180,9,FALSE) -> 0 | M31: =VLOOKUP($B31,[1]NUM5!$H$3:$S$180,10,FALSE) -> 15 | N31: =VLOOKUP($B31,[1]NUM5!$H$3:$S$180,11,FALSE) -> 13 | Q31: =SUM(E31:P31) -> 110
A32: 04102-COQUIMBO | B32: 105405-P.S.R. GUANAQUEROS | E32: =VLOOKUP($B32,[1]NUM5!$H$3:$S$180,2,FALSE) -> 271 | F32: =VLOOKUP($B32,[1]NUM5!$H$3:$S$180,3,FALSE) -> 203 | G32: =VLOOKUP($B32,[1]NUM5!$H$3:$S$180,4,FALSE) -> 239 | H32: =VLOOKUP($B32,[1]NUM5!$H$3:$S$180,5,FALSE) -> 187 | I32: =VLOOKUP($B32,[1]NUM5!$H$3:$S$180,6,FALSE) -> 199 | J32: =VLOOKUP($B32,[1]NUM5!$H$3:$S$180,7,FALSE) -> 233 | K32: =VLOOKUP($B32,[1]NUM5!$H$3:$S$180,8,FALSE) -> 171 | L32: =VLOOKUP($B32,[1]NUM5!$H$3:$S$180,9,FALSE) -> 197 | M32: =VLOOKUP($B32,[1]NUM5!$H$3:$S$180,10,FALSE) -> 175 | N32: =VLOOKUP($B32,[1]NUM5!$H$3:$S$180,11,FALSE) -> 274 | Q32: =SUM(E32:P32) -> 2149
A33: 04102-COQUIMBO | B33: 105406-P.S.R. PAN DE AZUCAR | E33: =VLOOKUP($B33,[1]NUM5!$H$3:$S$180,2,FALSE) -> 680 | F33: =VLOOKUP($B33,[1]NUM5!$H$3:$S$180,3,FALSE) -> 592 | G33: =VLOOKUP($B33,[1]NUM5!$H$3:$S$180,4,FALSE) -> 661 | H33: =VLOOKUP($B33,[1]NUM5!$H$3:$S$180,5,FALSE) -> 517 | I33: =VLOOKUP($B33,[1]NUM5!$H$3:$S$180,6,FALSE) -> 1086 | J33: =VLOOKUP($B33,[1]NUM5!$H$3:$S$180,7,FALSE) -> 925 | K33: =VLOOKUP($B33,[1]NUM5!$H$3:$S$180,8,FALSE) -> 1057 | L33: =VLOOKUP($B33,[1]NUM5!$H$3:$S$180,9,FALSE) -> 1213 | M33: =VLOOKUP($B33,[1]NUM5!$H$3:$S$180,10,FALSE) -> 777 | N33: =VLOOKUP($B33,[1]NUM5!$H$3:$S$180,11,FALSE) -> 847 | Q33: =SUM(E33:P33) -> 8355
A34: 04102-COQUIMBO | B34: 105407-P.S.R. TAMBILLOS | E34: =VLOOKUP($B34,[1]NUM5!$H$3:$S$180,2,FALSE) -> 48 | F34: =VLOOKUP($B34,[1]NUM5!$H$3:$S$180,3,FALSE) -> 48 | G34: =VLOOKUP($B34,[1]NUM5!$H$3:$S$180,4,FALSE) -> 53 | H34: =VLOOKUP($B34,[1]NUM5!$H$3:$S$180,5,FALSE) -> 55 | I34: =VLOOKUP($B34,[1]NUM5!$H$3:$S$180,6,FALSE) -> 62 | J34: =VLOOKUP($B34,[1]NUM5!$H$3:$S$180,7,FALSE) -> 61 | K34: =VLOOKUP($B34,[1]NUM5!$H$3:$S$180,8,FALSE) -> 67 | L34: =VLOOKUP($B34,[1]NUM5!$H$3:$S$180,9,FALSE) -> 72 | M34: =VLOOKUP($B34,[1]NUM5!$H$3:$S$180,10,FALSE) -> 48 | N34: =VLOOKUP($B34,[1]NUM5!$H$3:$S$180,11,FALSE) -> 47 | Q34: =SUM(E34:P34) -> 561
A35: 04102-COQUIMBO | B35: 105705-CECOF EL ALBA | E35: =VLOOKUP($B35,[1]NUM5!$H$3:$S$180,2,FALSE) -> 356 | F35: =VLOOKUP($B35,[1]NUM5!$H$3:$S$180,3,FALSE) -> 376 | G35: =VLOOKUP($B35,[1]NUM5!$H$3:$S$180,4,FALSE) -> 445 | H35: =VLOOKUP($B35,[1]NUM5!$H$3:$S$180,5,FALSE) -> 299 | I35: =VLOOKUP($B35,[1]NUM5!$H$3:$S$180,6,FALSE) -> 357 | J35: =VLOOKUP($B35,[1]NUM5!$H$3:$S$180,7,FALSE) -> 260 | K35: =VLOOKUP($B35,[1]NUM5!$H$3:$S$180,8,FALSE) -> 447 | L35: =VLOOKUP($B35,[1]NUM5!$H$3:$S$180,9,FALSE) -> 456 | M35: =VLOOKUP($B35,[1]NUM5!$H$3:$S$180,10,FALSE) -> 1954 | N35: =VLOOKUP($B35,[1]NUM5!$H$3:$S$180,11,FALSE) -> 310 | Q35: =SUM(E35:P35) -> 5260
A36: 04102-COQUIMBO | B36: 200273-CECOF PUNTA MIRA | E36: =VLOOKUP($B36,[1]NUM5!$H$3:$S$180,2,FALSE) -> 369 | F36: =VLOOKUP($B36,[1]NUM5!$H$3:$S$180,3,FALSE) -> 237 | G36: =VLOOKUP($B36,[1]NUM5!$H$3:$S$180,4,FALSE) -> 538 | H36: =VLOOKUP($B36,[1]NUM5!$H$3:$S$180,5,FALSE) -> 412 | I36: =VLOOKUP($B36,[1]NUM5!$H$3:$S$180,6,FALSE) -> 707 | J36: =VLOOKUP($B36,[1]NUM5!$H$3:$S$180,7,FALSE) -> 608 | K36: =VLOOKUP($B36,[1]NUM5!$H$3:$S$180,8,FALSE) -> 453 | L36: =VLOOKUP($B36,[1]NUM5!$H$3:$S$180,9,FALSE) -> 637 | M36: =VLOOKUP($B36,[1]NUM5!$H$3:$S$180,10,FALSE) -> 547 | N36: =VLOOKUP($B36,[1]NUM5!$H$3:$S$180,11,FALSE) -> 507 | Q36: =SUM(E36:P36) -> 5015
A37: TOTAL COQUIMBO | C37: =+D37/Metas!I87 -> 1.0487523 | D37: =+Q37/R37 -> 0.83900185 | E37: =SUM(E26:E36) -> 15609 | F37: =SUM(F26:F36) -> 13512 | G37: =SUM(G26:G36) -> 16362 | H37: =SUM(H26:H36) -> 13997 | I37: =SUM(I26:I36) -> 17007 | J37: =SUM(J26:J36) -> 16438 | K37: =SUM(K26:K36) -> 16469 | L37: =SUM(L26:L36) -> 16319 | ... Q37: =SUM(Q26:Q36) -> 155436 | R37: 185263
A38: 04106-VICUÑA | B38: 105467-P.S.R. DIAGUITAS | E38: =VLOOKUP($B38,[1]NUM5!$H$3:$S$180,2,FALSE) -> 121 | F38: =VLOOKUP($B38,[1]NUM5!$H$3:$S$180,3,FALSE) -> 89 | G38: =VLOOKUP($B38,[1]NUM5!$H$3:$S$180,4,FALSE) -> 83 | H38: =VLOOKUP($B38,[1]NUM5!$H$3:$S$180,5,FALSE) -> 146 | I38: =VLOOKUP($B38,[1]NUM5!$H$3:$S$180,6,FALSE) -> 293 | J38: =VLOOKUP($B38,[1]NUM5!$H$3:$S$180,7,FALSE) -> 70 | K38: =VLOOKUP($B38,[1]NUM5!$H$3:$S$180,8,FALSE) -> 147 | L38: =VLOOKUP($B38,[1]NUM5!$H$3:$S$180,9,FALSE) -> 103 | M38: =VLOOKUP($B38,[1]NUM5!$H$3:$S$180,10,FALSE) -> 132 | N38: =VLOOKUP($B38,[1]NUM5!$H$3:$S$180,11,FALSE) -> 214 | Q38: =SUM(E38:P38) -> 1398
A39: 04106-VICUÑA | B39: 105468-P.S.R. EL MOLLE | E39: =VLOOKUP($B39,[1]NUM5!$H$3:$S$180,2,FALSE) -> 55 | F39: =VLOOKUP($B39,[1]NUM5!$H$3:$S$180,3,FALSE) -> 48 | G39: =VLOOKUP($B39,[1]NUM5!$H$3:$S$180,4,FALSE) -> 67 | H39: =VLOOKUP($B39,[1]NUM5!$H$3:$S$180,5,FALSE) -> 46 | I39: =VLOOKUP($B39,[1]NUM5!$H$3:$S$180,6,FALSE) -> 54 | J39: =VLOOKUP($B39,[1]NUM5!$H$3:$S$180,7,FALSE) -> 52 | K39: =VLOOKUP($B39,[1]NUM5!$H$3:$S$180,8,FALSE) -> 60 | L39: =VLOOKUP($B39,[1]NUM5!$H$3:$S$180,9,FALSE) -> 72 | M39: =VLOOKUP($B39,[1]NUM5!$H$3:$S$180,10,FALSE) -> 37 | N39: =VLOOKUP($B39,[1]NUM5!$H$3:$S$180,11,FALSE) -> 28 | Q39: =SUM(E39:P39) -> 519
A40: 04106-VICUÑA | B40: 105469-P.S.R. EL TAMBO | E40: =VLOOKUP($B40,[1]NUM5!$H$3:$S$180,2,FALSE) -> 96 | F40: =VLOOKUP($B40,[1]NUM5!$H$3:$S$180,3,FALSE) -> 69 | G40: =VLOOKUP($B40,[1]NUM5!$H$3:$S$180,4,FALSE) -> 100 | H40: =VLOOKUP($B40,[1]NUM5!$H$3:$S$180,5,FALSE) -> 65 | I40: =VLOOKUP($B40,[1]NUM5!$H$3:$S$180,6,FALSE) -> 66 | J40: =VLOOKUP($B40,[1]NUM5!$H$3:$S$180,7,FALSE) -> 81 | K40: =VLOOKUP($B40,[1]NUM5!$H$3:$S$180,8,FALSE) -> 169 | L40: =VLOOKUP($B40,[1]NUM5!$H$3:$S$180,9,FALSE) -> 137 | M40: =VLOOKUP($B40,[1]NUM5!$H$3:$S$180,10,FALSE) -> 115 | N40: =VLOOKUP($B40,[1]NUM5!$H$3:$S$180,11,FALSE) -> 124 | Q40: =SUM(E40:P40) -> 1022
A41: 04106-VICUÑA | B41: 105470-P.S.R. HUANTA | E41: =VLOOKUP($B41,[1]NUM5!$H$3:$S$180,2,FALSE) -> 7 | F41: =VLOOKUP($B41,[1]NUM5!$H$3:$S$180,3,FALSE) -> 14 | G41: =VLOOKUP($B41,[1]NUM5!$H$3:$S$180,4,FALSE) -> 13 | H41: =VLOOKUP($B41,[1]NUM5!$H$3:$S$180,5,FALSE) -> 13 | I41: =VLOOKUP($B41,[1]NUM5!$H$3:$S$180,6,FALSE) -> 30 | J41: =VLOOKUP($B41,[1]NUM5!$H$3:$S$180,7,FALSE) -> 9 | K41: =VLOOKUP($B41,[1]NUM5!$H$3:$S$180,8,FALSE) -> 5 | L41: =VLOOKUP($B41,[1]NUM5!$H$3:$S$180,9,FALSE) -> 15 | M41: =VLOOKUP($B41,[1]NUM5!$H$3:$S$180,10,FALSE) -> 27 | N41: =VLOOKUP($B41,[1]NUM5!$H$3:$S$180,11,FALSE) -> 17 | Q41: =SUM(E41:P41) -> 150
A42: 04106-VICUÑA | B42: 105471-P.S.R. PERALILLO | E42: =VLOOKUP($B42,[1]NUM5!$H$3:$S$180,2,FALSE) -> 98 | F42: =VLOOKUP($B42,[1]NUM5!$H$3:$S$180,3,FALSE) -> 178 | G42: =VLOOKUP($B42,[1]NUM5!$H$3:$S$180,4,FALSE) -> 73 | H42: =VLOOKUP($B42,[1]NUM5!$H$3:$S$180,5,FALSE) -> 97 | I42: =VLOOKUP($B42,[1]NUM5!$H$3:$S$180,6,FALSE) -> 140 | J42: =VLOOKUP($B42,[1]NUM5!$H$3:$S$180,7,FALSE) -> 46 | K42: =VLOOKUP($B42,[1]NUM5!$H$3:$S$180,8,FALSE) -> 109 | L42: =VLOOKUP($B42,[1]NUM5!$H$3:$S$180,9,FALSE) -> 129 | M42: =VLOOKUP($B42,[1]NUM5!$H$3:$S$180,10,FALSE) -> 109 | N42: =VLOOKUP($B42,[1]NUM5!$H$3:$S$180,11,FALSE) -> 119 | Q42: =SUM(E42:P42) -> 1098
A43: 04106-VICUÑA | B43: 105472-P.S.R. RIVADAVIA | E43: =VLOOKUP($B43,[1]NUM5!$H$3:$S$180,2,FALSE) -> 76 | F43: =VLOOKUP($B43,[1]NUM5!$H$3:$S$180,3,FALSE) -> 55 | G43: =VLOOKUP($B43,[1]NUM5!$H$3:$S$180,4,FALSE) -> 82 | H43: =VLOOKUP($B43,[1]NUM5!$H$3:$S$180,5,FALSE) -> 138 | I43: =VLOOKUP($B43,[1]NUM5!$H$3:$S$180,6,FALSE) -> 146 | J43: =VLOOKUP($B43,[1]NUM5!$H$3:$S$180,7,FALSE) -> 34 | K43: =VLOOKUP($B43,[1]NUM5!$H$3:$S$180,8,FALSE) -> 97 | L43: =VLOOKUP($B43,[1]NUM5!$H$3:$S$180,9,FALSE) -> 59 | M43: =VLOOKUP($B43,[1]NUM5!$H$3:$S$180,10,FALSE) -> 97 | N43: =VLOOKUP($B43,[1]NUM5!$H$3:$S$180,11,FALSE) -> 113 | Q43: =SUM(E43:P43) -> 897
A44: 04106-VICUÑA | B44: 105473-P.S.R. TALCUNA | E44: =VLOOKUP($B44,[1]NUM5!$H$3:$S$180,2,FALSE) -> 76 | F44: =VLOOKUP($B44,[1]NUM5!$H$3:$S$180,3,FALSE) -> 99 | G44: =VLOOKUP($B44,[1]NUM5!$H$3:$S$180,4,FALSE) -> 67 | H44: =VLOOKUP($B44,[1]NUM5!$H$3:$S$180,5,FALSE) -> 80 | I44: =VLOOKUP($B44,[1]NUM5!$H$3:$S$180,6,FALSE) -> 87 | J44: =VLOOKUP($B44,[1]NUM5!$H$3:$S$180,7,FALSE) -> 63 | K44: =VLOOKUP($B44,[1]NUM5!$H$3:$S$180,8,FALSE) -> 134 | L44: =VLOOKUP($B44,[1]NUM5!$H$3:$S$180,9,FALSE) -> 127 | M44: =VLOOKUP($B44,[1]NUM5!$H$3:$S$180,10,FALSE) -> 82 | N44: =VLOOKUP($B44,[1]NUM5!$H$3:$S$180,11,FALSE) -> 100 | Q44: =SUM(E44:P44) -> 915
A45: 04106-VICUÑA | B45: 105474-P.S.R. CHAPILCA | E45: =VLOOKUP($B45,[1]NUM5!$H$3:$S$180,2,FALSE) -> 21 | F45: =VLOOKUP($B45,[1]NUM5!$H$3:$S$180,3,FALSE) -> 28 | G45: =VLOOKUP($B45,[1]NUM5!$H$3:$S$180,4,FALSE) -> 20 | H45: =VLOOKUP($B45,[1]NUM5!$H$3:$S$180,5,FALSE) -> 14 | I45: =VLOOKUP($B45,[1]NUM5!$H$3:$S$180,6,FALSE) -> 37 | J45: =VLOOKUP($B45,[1]NUM5!$H$3:$S$180,7,FALSE) -> 17 | K45: =VLOOKUP($B45,[1]NUM5!$H$3:$S$180,8,FALSE) -> 34 | L45: =VLOOKUP($B45,[1]NUM5!$H$3:$S$180,9,FALSE) -> 35 | M45: =VLOOKUP($B45,[1]NUM5!$H$3:$S$180,10,FALSE) -> 13 | N45: =VLOOKUP($B45,[1]NUM5!$H$3:$S$180,11,FALSE) -> 42 | Q45: =SUM(E45:P45) -> 261
A46: 04106-VICUÑA | B46: 105502-P.S.R. CALINGASTA | E46: =VLOOKUP($B46,[1]NUM5!$H$3:$S$180,2,FALSE) -> 189 | F46: =VLOOKUP($B46,[1]NUM5!$H$3:$S$180,3,FALSE) -> 155 | G46: =VLOOKUP($B46,[1]NUM5!$H$3:$S$180,4,FALSE) -> 98 | H46: =VLOOKUP($B46,[1]NUM5!$H$3:$S$180,5,FALSE) -> 237 | I46: =VLOOKUP($B46,[1]NUM5!$H$3:$S$180,6,FALSE) -> 160 | J46: =VLOOKUP($B46,[1]NUM5!$H$3:$S$180,7,FALSE) -> 165 | K46: =VLOOKUP($B46,[1]NUM5!$H$3:$S$180,8,FALSE) -> 210 | L46: =VLOOKUP($B46,[1]NUM5!$H$3:$S$180,9,FALSE) -> 247 | M46: =VLOOKUP($B46,[1]NUM5!$H$3:$S$180,10,FALSE) -> 140 | N46: =VLOOKUP($B46,[1]NUM5!$H$3:$S$180,11,FALSE) -> 264 | Q46: =SUM(E46:P46) -> 1865
A47: 04106-VICUÑA | B47: 105509-P.S.R. GUALLIGUAICA | E47: =VLOOKUP($B47,[1]NUM5!$H$3:$S$180,2,FALSE) -> 38 | F47: =VLOOKUP($B47,[1]NUM5!$H$3:$S$180,3,FALSE) -> 41 | G47: =VLOOKUP($B47,[1]NUM5!$H$3:$S$180,4,FALSE) -> 22 | H47: =VLOOKUP($B47,[1]NUM5!$H$3:$S$180,5,FALSE) -> 33 | I47: =VLOOKUP($B47,[1]NUM5!$H$3:$S$180,6,FALSE) -> 26 | J47: =VLOOKUP($B47,[1]NUM5!$H$3:$S$180,7,FALSE) -> 0 | K47: =VLOOKUP($B47,[1]NUM5!$H$3:$S$180,8,FALSE) -> 74 | L47: =VLOOKUP($B47,[1]NUM5!$H$3:$S$180,9,FALSE) -> 29 | M47: =VLOOKUP($B47,[1]NUM5!$H$3:$S$180,10,FALSE) -> 24 | N47: =VLOOKUP($B47,[1]NUM5!$H$3:$S$180,11,FALSE) -> 42 | Q47: =SUM(E47:P47) -> 329
A48: TOTAL VICUÑA | C48: =+D48/Metas!I96 -> 0.96985132 | D48: =+Q48/R48 -> 0.62070485 | E48: =SUM(E38:E47) -> 777 | F48: =SUM(F38:F47) -> 776 | G48: =SUM(G38:G47) -> 625 | H48: =SUM(H38:H47) -> 869 | I48: =SUM(I38:I47) -> 1039 | J48: =SUM(J38:J47) -> 537 | K48: =SUM(K38:K47) -> 1039 | L48: =SUM(L38:L47) -> 953 | ... Q48: =SUM(Q38:Q47) -> 8454 | R48: 13620
A49: 04201-ILLAPEL | B49: 105326-CESFAM SAN RAFAEL | E49: =VLOOKUP($B49,[1]NUM5!$H$3:$S$180,2,FALSE) -> 384 | F49: =VLOOKUP($B49,[1]NUM5!$H$3:$S$180,3,FALSE) -> 428 | G49: =VLOOKUP($B49,[1]NUM5!$H$3:$S$180,4,FALSE) -> 406 | H49: =VLOOKUP($B49,[1]NUM5!$H$3:$S$180,5,FALSE) -> 273 | I49: =VLOOKUP($B49,[1]NUM5!$H$3:$S$180,6,FALSE) -> 443 | J49: =VLOOKUP($B49,[1]NUM5!$H$3:$S$180,7,FALSE) -> 748 | K49: =VLOOKUP($B49,[1]NUM5!$H$3:$S$180,8,FALSE) -> 1012 | L49: =VLOOKUP($B49,[1]NUM5!$H$3:$S$180,9,FALSE) -> 886 | M49: =VLOOKUP($B49,[1]NUM5!$H$3:$S$180,10,FALSE) -> 551 | N49: =VLOOKUP($B49,[1]NUM5!$H$3:$S$180,11,FALSE) -> 678 | Q49: =SUM(E49:P49) -> 5809
A50: 04201-ILLAPEL | B50: 105443-P.S.R. CARCAMO | E50: =VLOOKUP($B50,[1]NUM5!$H$3:$S$180,2,FALSE) -> 47 | F50: =VLOOKUP($B50,[1]NUM5!$H$3:$S$180,3,FALSE) -> 27 | G50: =VLOOKUP($B50,[1]NUM5!$H$3:$S$180,4,FALSE) -> 91 | H50: =VLOOKUP($B50,[1]NUM5!$H$3:$S$180,5,FALSE) -> 62 | I50: =VLOOKUP($B50,[1]NUM5!$H$3:$S$180,6,FALSE) -> 61 | J50: =VLOOKUP($B50,[1]NUM5!$H$3:$S$180,7,FALSE) -> 54 | K50: =VLOOKUP($B50,[1]NUM5!$H$3:$S$180,8,FALSE) -> 91 | L50: =VLOOKUP($B50,[1]NUM5!$H$3:$S$180,9,FALSE) -> 91 | M50: =VLOOKUP($B50,[1]NUM5!$H$3:$S$180,10,FALSE) -> 90 | N50: =VLOOKUP($B50,[1]NUM5!$H$3:$S$180,11,FALSE) -> 69 | Q50: =SUM(E50:P50) -> 683
A51: 04201-ILLAPEL | B51: 105444-P.S.R. HUINTIL | E51: =VLOOKUP($B51,[1]NUM5!$H$3:$S$180,2,FALSE) -> 38 | F51: =VLOOKUP($B51,[1]NUM5!$H$3:$S$180,3,FALSE) -> 13 | G51: =VLOOKUP($B51,[1]NUM5!$H$3:$S$180,4,FALSE) -> 49 | H51: =VLOOKUP($B51,[1]NUM5!$H$3:$S$180,5,FALSE) -> 43 | I51: =VLOOKUP($B51,[1]NUM5!$H$3:$S$180,6,FALSE) -> 39 | J51: =VLOOKUP($B51,[1]NUM5!$H$3:$S$180,7,FALSE) -> 70 | K51: =VLOOKUP($B51,[1]NUM5!$H$3:$S$180,8,FALSE) -> 46 | L51: =VLOOKUP($B51,[1]NUM5!$H$3:$S$180,9,FALSE) -> 44 | M51: =VLOOKUP($B51,[1]NUM5!$H$3:$S$180,10,FALSE) -> 48 | N51: =VLOOKUP($B51,[1]NUM5!$H$3:$S$180,11,FALSE) -> 42 | Q51: =SUM(E51:P51) -> 432
A52: 04201-ILLAPEL | B52: 105445-P.S.R. LIMAHUIDA | E52: =VLOOKUP($B52,[1]NUM5!$H$3:$S$180,2,FALSE) -> 36 | F52: =VLOOKUP($B52,[1]NUM5!$H$3:$S$180,3,FALSE) -> 33 | G52: =VLOOKUP($B52,[1]NUM5!$H$3:$S$180,4,FALSE) -> 19 | H52: =VLOOKUP($B52,[1]NUM5!$H$3:$S$180,5,FALSE) -> 32 | I52: =VLOOKUP($B52,[1]NUM5!$H$3:$S$180,6,FALSE) -> 59 | J52: =VLOOKUP($B52,[1]NUM5!$H$3:$S$180,7,FALSE) -> 71 | K52: =VLOOKUP($B52,[1]NUM5!$H$3:$S$180,8,FALSE) -> 57 | L52: =VLOOKUP($B52,[1]NUM5!$H$3:$S$180,9,FALSE) -> 50 | M52: =VLOOKUP($B52,[1]NUM5!$H$3:$S$180,10,FALSE) -> 48 | N52: =VLOOKUP($B52,[1]NUM5!$H$3:$S$180,11,FALSE) -> 54 | Q52: =SUM(E52:P52) -> 459
A53: 04201-ILLAPEL | B53: 105446-P.S.R. MATANCILLA | E53: =VLOOKUP($B53,[1]NUM5!$H$3:$S$180,2,FALSE) -> 0 | F53: =VLOOKUP($B53,[1]NUM5!$H$3:$S$180,3,FALSE) -> 0 | G53: =VLOOKUP($B53,[1]NUM5!$H$3:$S$180,4,FALSE) -> 26 | H53: =VLOOKUP($B53,[1]NUM5!$H$3:$S$180,5,FALSE) -> 21 | I53: =VLOOKUP($B53,[1]NUM5!$H$3:$S$180,6,FALSE) -> 13 | J53: =VLOOKUP($B53,[1]NUM5!$H$3:$S$180,7,FALSE) -> 17 | K53: =VLOOKUP($B53,[1]NUM5!$H$3:$S$180,8,FALSE) -> 13 | L53: =VLOOKUP($B53,[1]NUM5!$H$3:$S$180,9,FALSE) -> 4 | M53: =VLOOKUP($B53,[1]NUM5!$H$3:$S$180,10,FALSE) -> 11 | N53: =VLOOKUP($B53,[1]NUM5!$H$3:$S$180,11,FALSE) -> 11 | Q53: =SUM(E53:P53) -> 116
A54: 04201-ILLAPEL | B54: 105447-P.S.R. PERALILLO | E54: =VLOOKUP($B54,[1]NUM5!$H$3:$S$180,2,FALSE) -> 25 | F54: =VLOOKUP($B54,[1]NUM5!$H$3:$S$180,3,FALSE) -> 41 | G54: =VLOOKUP($B54,[1]NUM5!$H$3:$S$180,4,FALSE) -> 33 | H54: =VLOOKUP($B54,[1]NUM5!$H$3:$S$180,5,FALSE) -> 51 | I54: =VLOOKUP($B54,[1]NUM5!$H$3:$S$180,6,FALSE) -> 63 | J54: =VLOOKUP($B54,[1]NUM5!$H$3:$S$180,7,FALSE) -> 46 | K54: =VLOOKUP($B54,[1]NUM5!$H$3:$S$180,8,FALSE) -> 53 | L54: =VLOOKUP($B54,[1]NUM5!$H$3:$S$180,9,FALSE) -> 33 | M54: =VLOOKUP($B54,[1]NUM5!$H$3:$S$180,10,FALSE) -> 31 | N54: =VLOOKUP($B54,[1]NUM5!$H$3:$S$180,11,FALSE) -> 54 | Q54: =SUM(E54:P54) -> 430
A55: 04201-ILLAPEL | B55: 105448-P.S.R. SANTA VIRGINIA | E55: =VLOOKUP($B55,[1]NUM5!$H$3:$S$180,2,FALSE) -> 0 | F55: =VLOOKUP($B55,[1]NUM5!$H$3:$S$180,3,FALSE) -> 0 | G55: =VLOOKUP($B55,[1]NUM5!$H$3:$S$180,4,FALSE) -> 78 | H55: =VLOOKUP($B55,[1]NUM5!$H$3:$S$180,5,FALSE) -> 32 | I55: =VLOOKUP($B55,[1]NUM5!$H$3:$S$180,6,FALSE) -> 52 | J55: =VLOOKUP($B55,[1]NUM5!$H$3:$S$180,7,FALSE) -> 60 | K55: =VLOOKUP($B55,[1]NUM5!$H$3:$S$180,8,FALSE) -> 43 | L55: =VLOOKUP($B55,[1]NUM5!$H$3:$S$180,9,FALSE) -> 53 | M55: =VLOOKUP($B55,[1]NUM5!$H$3:$S$180,10,FALSE) -> 19 | N55: =VLOOKUP($B55,[1]NUM5!$H$3:$S$180,11,FALSE) -> 44 | Q55: =SUM(E55:P55) -> 381
A56: 04201-ILLAPEL | B56: 105449-P.S.R. TUNGA NORTE | E56: =VLOOKUP($B56,[1]NUM5!$H$3:$S$180,2,FALSE) -> 0 | F56: =VLOOKUP($B56,[1]NUM5!$H$3:$S$180,3,FALSE) -> 13 | G56: =VLOOKUP($B56,[1]NUM5!$H$3:$S$180,4,FALSE) -> 38 | H56: =VLOOKUP($B56,[1]NUM5!$H$3:$S$180,5,FALSE) -> 43 | I56: =VLOOKUP($B56,[1]NUM5!$H$3:$S$180,6,FALSE) -> 27 | J56: =VLOOKUP($B56,[1]NUM5!$H$3:$S$180,7,FALSE) -> 25 | K56: =VLOOKUP($B56,[1]NUM5!$H$3:$S$180,8,FALSE) -> 16 | L56: =VLOOKUP($B56,[1]NUM5!$H$3:$S$180,9,FALSE) -> 6 | M56: =VLOOKUP($B56,[1]NUM5!$H$3:$S$180,10,FALSE) -> 22 | N56: =VLOOKUP($B56,[1]NUM5!$H$3:$S$180,11,FALSE) -> 19 | Q56: =SUM(E56:P56) -> 209
