Workbook

Sheet RESUMEN 
A1: MINISTERIO DE SALUD
A2: SERVICIO DE SALUD COQUIMBO
A3: SUBDIRECCION DE GESTION ASISTENCIAL
A4: SUBDEPTO DE ESTADÍSTICA Y GESTIÓN DE LA INFORMACIÓN
A5: COMUNA | B5: RESUMEN DE CUMPLIMIENTO DE METAS A OCTUBRE 2017
B6: CORTE A OCTUBRE
B8: METAS COMPONENTE ESTRATEGIA RISS, PRODUCCIÓN,COBERTURA EFECTIVA E IMPACTO SANITARIO
B9: META Nº2 | C9: META Nº3.1 | D9: META Nº5 | E9: META Nº6 | F9: META Nº7 | G9: META Nº8.1 | H9: META Nº8.2 | I9: META Nº8.3 | J9: META Nº9 | K9: META Nº10 | L9: META Nº11 | M9: META Nº12 | N9: META Nº13 | O9: META Nº14 | P9: META Nº17 | Q9: META Nº18 | R9: META Nº19 | S9: META Nº20 | T9: META Nº21 | U9: CUMPLIMIENTO GENERAL | V9: CUMPLIMIENTO META GES
B10: Familias Evaluadas según riesgo (*) | C10: Gestion de Reclamos APS | D10: Consultas de Morbilidad y Controles Médicos | E10: SIC derivadas desde la APS al Nivel Secundario | F10: Visita domiciliaria integral | G10: EMP hombres 20 a 64 años | H10: EMP mujeres de 45 a 64 años | I10: EMP 65 y mas años | J10: Evaluación del desarrollo Psicomotor de niños/as de 12 a 23 meses bajo control | K10: Control de salud integral adolescentes de 10 a 14 años | L10: Alta odontologica menores de 20 años | M10: Cobertura de Atención Integral de trastornos mentales en personas de 5 y más años | N10: Cobertura de Atención de Asma en Población general y EPOC en personas de 40 años y más | O10: Capacitación a Cuidadores de personas con Dependencia Severa con Pago de Estipendio (*) | P10: Control embarazada | Q10: Cobertura de Métodos Anticonceptivos en Adolescentes | R10: Cobertura DM2 en personas de 15 y mas años (*) | S10: Cobertutra HTA en personas de 15 y mas años (*) | T10: Proporción de Niñas y Niños de 3 años libre de Caries
A12: LA SERENA | B12: =+'META 2'!$C$25 -> 1.2725857 | C12: =+'META 3.1'!$C$25 -> 1.0201429 | D12: =+'META 5 '!$C$25 -> 1.1153116 | E12: =+'META 6'!$C$25 -> 1.0902725 | F12: =+'META 7'!$C$25 -> 1.3251025 | G12: =+'META 8.1'!$C$25 -> 0.93282743 | H12: =+'META 8.2'!$C$25 -> 0.91993571 | I12: =+'META 8.3'!$C$25 -> 0.87847487 | J12: =+'META 9'!$C$25 -> 1.133113 | K12: =+'META 10'!$C$25 -> 1.1849227 | L12: =+'META 11'!$C$25 -> 1.3540363 | M12: =+'META 12'!$C$25 -> 1.1050225 | N12: =+'META 13'!$C$25 -> 0.75483886 | O12: =+'META 14'!$C$25 -> 1.3825758 | P12: =+'META 17'!$C$25 -> 1.0187791 | Q12: =+'META 18'!$C$25 -> 1.3184932 | R12: =+'META 19'!$C$25 -> 0.86346154 | S12: =+'META 20'!$C$25 -> 0.79661647 | T12: =+'META 21'!$C$25 -> SI | U12: =C43*3%+D43*6%+E43*3%+F43*5%+G43*5%+H43*5%+I43*5%+J43*4%+K43*4%+L43*4%+M43*4%+N43*4%+P43*4%+T43*3% -> 0.56675546 | V12: =+META_GES!$C$25 -> 1
A13: COQUIMBO | B13: =+'META 2'!$C$37 -> 0.54127392 | C13: =+'META 3.1'!$C$37 -> 1.0166415 | D13: =+'META 5 '!$C$37 -> 1.0487523 | E13: =+'META 6'!$C$37 -> 1.153644 | F13: =+'META 7'!$C$37 -> 1.1056906 | G13: =+'META 8.1'!$C$37 -> 0.99488439 | H13: =+'META 8.2'!$C$37 -> 1.0382334 | I13: =+'META 8.3'!$C$37 -> 1.1121212 | J13: =+'META 9'!$C$37 -> 1.0435104 | K13: =+'META 10'!$C$37 -> 1.2097187 | L13: =+'META 11'!$C$37 -> 1.3211435 | M13: =+'META 12'!$C$37 -> 1.1040012 | N13: =+'META 13'!$C$37 -> 0.87512361 | O13: =+'META 14'!$C$37 -> 1.2583612 | P13: =+'META 17'!$C$37 -> 0.95749248 | Q13: =+'META 18'!$C$37 -> 1.2317607 | R13: =+'META 19'!$C$37 -> 1.0899844 | S13: =+'META 20'!$C$37 -> 0.74743893 | T13: =+'META 21'!$C$37 -> SI | U13: =C44*3%+D44*6%+E44*3%+F44*5%+G44*5%+H44*5%+I44*5%+J44*4%+K44*4%+L44*4%+M44*4%+N44*4%+P44*4%+T44*3% -> 0.58304886 | V13: =+META_GES!$C$37 -> 0.99992487
A14: VICUÑA | B14: =+'META 2'!$C$48 -> 1.6667768 | C14: =+'META 3.1'!$C$48 -> 1.0204082 | D14: =+'META 5 '!$C$48 -> 0.96985132 | E14: =+'META 6'!$C$48 -> 2.0176611 | F14: =+'META 7'!$C$48 -> 1.2059077 | G14: =+'META 8.1'!$C$48 -> 1.070173 | H14: =+'META 8.2'!$C$48 -> 1.2179711 | I14: =+'META 8.3'!$C$48 -> 1.2668919 | J14: =+'META 9'!$C$48 -> 1.1432269 | K14: =+'META 10'!$C$48 -> 1.2683824 | L14: =+'META 11'!$C$48 -> 1.384641 | M14: =+'META 12'!$C$48 -> 0.97651227 | N14: =+'META 13'!$C$48 -> 0.91860998 | O14: =+'META 14'!$C$48 -> 1.2273902 | P14: =+'META 17'!$C$48 -> 0.99435216 | Q14: =+'META 18'!$C$48 -> 1.0634328 | R14: =+'META 19'!$C$48 -> 0.95969773 | S14: =+'META 20'!$C$48 -> 0.82220367 | T14: =+'META 21'!$C$48 -> SI | U14: =C45*3%+D45*6%+E45*3%+F45*5%+G45*5%+H45*5%+I45*5%+J45*4%+K45*4%+L45*4%+M45*4%+N45*4%+P45*4%+T45*3% -> 0.58377006 | V14: =+META_GES!$C$48 -> 1
A15: ILLAPEL | B15: =+'META 2'!$C$62 -> 1.3675947 | C15: =+'META 3.1'!$C$62 -> 1.0196078 | D15: =+'META 5 '!$C$62 -> 1.0127855 | E15: =+'META 6'!$C$62 -> 1.5 | F15: =+'META 7'!$C$62 -> 1.0629725 | G15: =+'META 8.1'!$C$62 -> 0.77632468 | H15: =+'META 8.2'!$C$62 -> 0.65241151 | I15: =+'META 8.3'!$C$62 -> 1.1708861 | J15: =+'META 9'!$C$62 -> 1.1687307 | K15: =+'META 10'!$C$62 -> 1.8675595 | L15: =+'META 11'!$C$62 -> 1.4938308 | M15: =+'META 12'!$C$62 -> 0.93056744 | N15: =+'META 13'!$C$62 -> 0.80636011 | O15: =+'META 14'!$C$62 -> 0.40509259 | P15: =+'META 17'!$C$62 -> 0.97636745 | Q15: =+'META 18'!$C$62 -> 1.0582011 | R15: =+'META 19'!$C$62 -> 0.78640777 | S15: =+'META 20'!$C$62 -> 1.0688836 | T15: =+'META 21'!$C$62 -> SI | U15: =C46*3%+D46*6%+E46*3%+F46*5%+G46*5%+H46*5%+I46*5%+J46*4%+K46*4%+L46*4%+M46*4%+N46*4%+P46*4%+T46*3% -> 0.54996861 | V15: =+META_GES!$C$62 -> 1
A16: CANELA | B16: =+'META 2'!$C$73 -> 1.2472325 | C16: =+'META 3.1'!$C$73 -> 1.0195228 | D16: =+'META 5 '!$C$73 -> 1.1108756 | E16: =+'META 6'!$C$73 -> 1.0879883 | F16: =+'META 7'!$C$73 -> 0.96737607 | G16: =+'META 8.1'!$C$73 -> 1.3497034 | H16: =+'META 8.2'!$C$73 -> 1.2421671 | I16: =+'META 8.3'!$C$73 -> 0.99320544 | J16: =+'META 9'!$C$73 -> 1.2605275 | K16: =+'META 10'!$C$73 -> 1.1363636 | L16: =+'META 11'!$C$73 -> 1.6862101 | M16: =+'META 12'!$C$73 -> 0.93978177 | N16: =+'META 13'!$C$73 -> 1.0349362 | O16: =+'META 14'!$C$73 -> 1.3888889 | P16: =+'META 17'!$C$73 -> 1.0021978 | Q16: =+'META 18'!$C$73 -> 1.2254902 | R16: =+'META 19'!$C$73 -> 1.32 | S16: =+'META 20'!$C$73 -> 1.167754 | T16: =+'META 21'!$C$73 -> SI | U16: =C47*3%+D47*6%+E47*3%+F47*5%+G47*5%+H47*5%+I47*5%+J47*4%+K47*4%+L47*4%+M47*4%+N47*4%+P47*4%+T47*3% -> 0.58562035 | V16: =+META_GES!$C$73 -> 1
A17: LOS VILOS | B17: =+'META 2'!$C$79 -> 1.5267969 | C17: =+'META 3.1'!$C$79 -> 1.015625 | D17: =+'META 5 '!$C$79 -> 0.84722553 | E17: =+'META 6'!$C$79 -> 1.6735823 | F17: =+'META 7'!$C$79 -> 1.888763 | G17: =+'META 8.1'!$C$79 -> 1.0688497 | H17: =+'META 8.2'!$C$79 -> 1.0789474 | I17: =+'META 8.3'!$C$79 -> 1.1264822 | J17: =+'META 9'!$C$79 -> 1.2156751 | K17: =+'META 10'!$C$79 -> 1.5625 | L17: =+'META 11'!$C$79 -> 1.2600806 | M17: =+'META 12'!$C$79 -> 0.3346541 | N17: =+'META 13'!$C$79 -> 0.78266081 | O17: =+'META 14'!$C$79 -> 0.16927083 | P17: =+'META 17'!$C$79 -> 0.89144471 | Q17: =+'META 18'!$C$79 -> 1.3888889 | R17: =+'META 19'!$C$79 -> 0.74691358 | S17: =+'META 20'!$C$79 -> 0.92973856 | T17: =+'META 21'!$C$79 -> SI | U17: =C48*3%+D48*6%+E48*3%+F48*5%+G48*5%+H48*5%+I48*5%+J48*4%+K48*4%+L48*4%+M48*4%+N48*4%+P48*4%+T48*3% -> 0.54118392 | V17: =+META_GES!$C$79 -> 1
A18: SALAMANCA | B18: =+'META 2'!$C$90 -> 2.1074699 | C18: =+'META 3.1'!$C$90 -> 1.0204082 | D18: =+'META 5 '!$C$90 -> 0.97759735 | E18: =+'META 6'!$C$90 -> 1.5987252 | F18: =+'META 7'!$C$90 -> 0.96064493 | G18: =+'META 8.1'!$C$90 -> 0.99841908 | H18: =+'META 8.2'!$C$90 -> 1.203144 | I18: =+'META 8.3'!$C$90 -> 0.99774775 | J18: =+'META 9'!$C$90 -> 1.0606592 | K18: =+'META 10'!$C$90 -> 0.38702929 | L18: =+'META 11'!$C$90 -> 2.4728997 | M18: =+'META 12'!$C$90 -> 1.2614955 | N18: =+'META 13'!$C$90 -> 0.84915579 | O18: =+'META 14'!$C$90 -> 1.3858696 | P18: =+'META 17'!$C$90 -> 1.0321313 | Q18: =+'META 18'!$C$90 -> 1.3784247 | R18: =+'META 19'!$C$90 -> 1.0247253 | S18: =+'META 20'!$C$90 -> 0.93031359 | T18: =+'META 21'!$C$90 -> SI | U18: =C49*3%+D49*6%+E49*3%+F49*5%+G49*5%+H49*5%+I49*5%+J49*4%+K49*4%+L49*4%+M49*4%+N49*4%+P49*4%+T49*3% -> 0.55594383 | V18: =+META_GES!$C$90 -> 1
A19: OVALLE | B19: =+'META 2'!$C$109 -> 1.4063576 | C19: =+'META 3.1'!$C$109 -> 1.0198675 | D19: =+'META 5 '!$C$109 -> 1.3292725 | E19: =+'META 6'!$C$109 -> 1.2826853 | F19: =+'META 7'!$C$109 -> 1.0831998 | G19: =+'META 8.1'!$C$109 -> 1.1687901 | H19: =+'META 8.2'!$C$109 -> 1.2784171 | I19: =+'META 8.3'!$C$109 -> 1.2888525 | J19: =+'META 9'!$C$109 -> 1.056804 | K19: =+'META 10'!$C$109 -> 2.0239791 | L19: =+'META 11'!$C$109 -> 1.2665822 | M19: =+'META 12'!$C$109 -> 1.1450988 | N19: =+'META 13'!$C$109 -> 0.83921394 | O19: =+'META 14'!$C$109 -> 0.67313665 | P19: =+'META 17'!$C$109 -> 1.0344097 | Q19: =+'META 18'!$C$109 -> 1.1519608 | R19: =+'META 19'!$C$109 -> 1.0060048 | S19: =+'META 20'!$C$109 -> 0.94191981 | T19: =+'META 21'!$C$109 -> SI | U19: =C50*3%+D50*6%+E50*3%+F50*5%+G50*5%+H50*5%+I50*5%+J50*4%+K50*4%+L50*4%+M50*4%+N50*4%+P50*4%+T50*3% -> 0.58356856 | V19: =+META_GES!$C$108 -> 1
A20: COMBARBALÁ | B20: =+'META 2'!$C$122 -> 2.1159666 | C20: =+'META 3.1'!$C$122 -> 1.0160428 | D20: =+'META 5 '!$C$122 -> 0.93164299 | E20: =+'META 6'!$C$122 -> 1.6554668 | F20: =+'META 7'!$C$122 -> 1.0196296 | G20: =+'META 8.1'!$C$122 -> 1.0017539 | H20: =+'META 8.2'!$C$122 -> 1.0616764 | I20: =+'META 8.3'!$C$122 -> 0.96097418 | J20: =+'META 9'!$C$122 -> 1.3157895 | K20: =+'META 10'!$C$122 -> 1.2083333 | L20: =+'META 11'!$C$122 -> 1.3688525 | M20: =+'META 12'!$C$122 -> 0.8976748 | N20: =+'META 13'!$C$122 -> 0.96145981 | O20: =+'META 14'!$C$122 -> 1.1420008 | P20: =+'META 17'!$C$122 -> 1.1111111 | Q20: =+'META 18'!$C$122 -> 0.86111111 | R20: =+'META 19'!$C$122 -> 0.68306011 | S20: =+'META 20'!$C$122 -> 0.77038896 | T20: =+'META 21'!$C$122 -> SI | U20: =C51*3%+D51*6%+E51*3%+F51*5%+G51*5%+H51*5%+I51*5%+J51*4%+K51*4%+L51*4%+M51*4%+N51*4%+P51*4%+T51*3% -> 0.57831267 | V20: =+META_GES!$C$121 -> 1
A21: MONTE PATRIA | B21: =+'META 2'!$C$136 -> 1.5449413 | C21: =+'META 3.1'!$C$136 -> 1.0189983 | D21: =+'META 5 '!$C$136 -> 1.0691463 | E21: =+'META 6'!$C$136 -> 1.3818064 | F21: =+'META 7'!$C$136 -> 1.0549644 | G21: =+'META 8.1'!$C$136 -> 0.75010716 | H21: =+'META 8.2'!$C$136 -> 0.79549767 | I21: =+'META 8.3'!$C$136 -> 0.94052331 | J21: =+'META 9'!$C$136 -> 1.0267399 | K21: =+'META 10'!$C$136 -> 1.3383152 | L21: =+'META 11'!$C$136 -> 1.0549344 | M21: =+'META 12'!$C$136 -> 0.90567603 | N21: =+'META 13'!$C$136 -> 0.78583915 | O21: =+'META 14'!$C$136 -> 1.3888889 | P21: =+'META 17'!$C$136 -> 0.98490037 | Q21: =+'META 18'!$C$136 -> 1.409465 | R21: =+'META 19'!$C$136 -> 0.91345029 | S21: =+'META 20'!$C$136 -> 0.78569018 | T21: =+'META 21'!$C$136 -> SI | U21: =C52*3%+D52*6%+E52*3%+F52*5%+G52*5%+H52*5%+I52*5%+J52*4%+K52*4%+L52*4%+M52*4%+N52*4%+P52*4%+T52*3% -> 0.55136303 | V21: =+META_GES!$C$135 -> 1
A22: PUNITAQUI | B22: =+'META 2'!$C$141 -> 0.66137183 | C22: =+'META 3.1'!$C$141 -> 0.92165899 | D22: =+'META 5 '!$C$141 -> 1.0139245 | E22: =+'META 6'!$C$141 -> 0.97760404 | F22: =+'META 7'!$C$141 -> 1.2551084 | G22: =+'META 8.1'!$C$141 -> 1.2659561 | H22: =+'META 8.2'!$C$141 -> 0.87631138 | I22: =+'META 8.3'!$C$141 -> 1.1427567 | J22: =+'META 9'!$C$141 -> 1.0601416 | K22: =+'META 10'!$C$141 -> 0.92153285 | L22: =+'META 11'!$C$141 -> 1.0519645 | M22: =+'META 12'!$C$141 -> 1.2485751 | N22: =+'META 13'!$C$141 -> 0.96356012 | O22: =+'META 14'!$C$141 -> 1.3851351 | P22: =+'META 17'!$C$141 -> 0.90403806 | Q22: =+'META 18'!$C$141 -> 1.1842105 | R22: =+'META 19'!$C$141 -> 1.0121212 | S22: =+'META 20'!$C$141 -> 0.85097002 | T22: =+'META 21'!$C$141 -> SI | U22: =C53*3%+D53*6%+E53*3%+F53*5%+G53*5%+H53*5%+I53*5%+J53*4%+K53*4%+L53*4%+M53*4%+N53*4%+P53*4%+T53*3% -> 0.5723587 | V22: =+META_GES!$C$140 -> 1
A23: RIO HURTADO | B23: =+'META 2'!$C$149 -> 0.5105568 | C23: =+'META 3.1'!$C$149 -> 1.0204082 | D23: =+'META 5 '!$C$149 -> 0.83779932 | E23: =+'META 6'!$C$149 -> 1.4553215 | F23: =+'META 7'!$C$149 -> 1.0513156 | G23: =+'META 8.1'!$C$149 -> 0.9774902 | H23: =+'META 8.2'!$C$149 -> 0.65377454 | I23: =+'META 8.3'!$C$149 -> 0.93612335 | J23: =+'META 9'!$C$149 -> 1.0750258 | K23: =+'META 10'!$C$149 -> 0.64655172 | L23: =+'META 11'!$C$149 -> 1.6616466 | M23: =+'META 12'!$C$149 -> 1.0670897 | N23: =+'META 13'!$C$149 -> 1.2301603 | O23: =+'META 14'!$C$149 -> 1.3888889 | P23: =+'META 17'!$C$149 -> 0.98106061 | Q23: =+'META 18'!$C$149 -> 1.1830357 | R23: =+'META 19'!$C$149 -> 0.94 | S23: =+'META 20'!$C$149 -> 0.79059181 | T23: =+'META 21'!$C$149 -> SI | U23: =C54*3%+D54*6%+E54*3%+F54*5%+G54*5%+H54*5%+I54*5%+J54*4%+K54*4%+L54*4%+M54*4%+N54*4%+P54*4%+T54*3% -> 0.54374186 | V23: =+META_GES!$C$148 -> 1
A24: (*) Metas a Evaluar con Serie P de Junio 2017
A31: MINISTERIO DE SALUD
A32: SERVICIO DE SALUD COQUIMBO
A33: SUBDIRECCION DE GESTION ASISTENCIAL
A34: SUBDEPTO DE ESTADÍSTICA Y GESTIÓN DE LA INFORMACIÓN
A36: COMUNA | B36: RESUMEN DE CUMPLIMIENTO DE METAS A ABRIL 2017
B37: CORTE A MARZO
B39: METAS COMPONENTE ESTRATEGIA RISS, PRODUCCIÓN,COBERTURA EFECTIVA E IMPACTO SANITARIO
B40: META Nº2 | C40: META Nº3.1 | D40: META Nº5 | E40: META Nº6 | F40: META Nº7 | G40: META Nº8.1 | H40: META Nº8.2 | I40: META Nº8.3 | J40: META Nº9 | K40: META Nº10 | L40: META Nº11 | M40: META Nº12 | N40: META Nº13 | O40: META Nº14 | P40: META Nº17 | Q40: META Nº18 | R40: META Nº19 | S40: META Nº20 | T40: META Nº21
B41: Familias Evaluadas según riesgo | C41: Gestion de Reclamos APS | D41: Consultas de Morbilidad y Controles Médicos | E41: SIC derivadas desde la APS al Nivel Secundario | F41: Visita domiciliaria integral | G41: EMP hombres 20 a 64 años | H41: EMP mujeres de 45 a 64 años | I41: EMP 65 y mas años | J41: Evaluación del desarrollo Psicomotor de niños/as de 12 a 23 meses bajo control | K41: Control de salud integral adolescentes de 10 a 14 años | L41: Alta odontologica menores de 20 años | M41: Cobertura de Atención Integral de trastornos mentales en personas de 5 y más años | N41: Cobertura de Atención de Asma en Población general y EPOC en personas de 40 años y más | O41: Capacitación a Cuidadores de personas con Dependencia Severa con Pago de Estipendio | P41: Control embarazada | Q41: Cobertura de Métodos Anticonceptivos en Adolescentes | R41: Cobertura DM2 en personas de 15 y mas años | S41: Cobertutra HTA en personas de 15 y mas años | T41: Proporción de Niñas y Niños de 3 años libre de Caries
A43: LA SERENA | B43: =IF(B12="n/a","n/a",IF(B12="","",IF(B12>1,1,B12))) -> 1 | C43: =IF(C12="n/a","n/a",IF(C12="","",IF(C12>1,1,C12))) -> 1 | D43: =IF(D12="n/a","n/a",IF(D12="","",IF(D12>1,1,D12))) -> 1 | E43: =IF(E12="n/a","n/a",IF(E12="","",IF(E12>1,1,E12))) -> 1 | F43: =IF(F12="n/a","n/a",IF(F12="","",IF(F12>1,1,F12))) -> 1 | G43: =IF(G12="n/a","n/a",IF(G12="","",IF(G12>1,1,G12))) -> 0.93282743 | H43: =IF(H12="n/a","n/a",IF(H12="","",IF(H12>1,1,H12))) -> 0.91993571 | I43: =IF(I12="n/a","n/a",IF(I12="","",IF(I12>1,1,I12))) -> 0.87847487 | ... S43: =IF(S12="n/a","n/a",IF(S12="","",IF(S12>1,1,S12))) -> 0.79661647 | T43: =IF(T12="n/a","n/a",IF(T12="SI",1,0)) -> 1
A44: COQUIMBO | B44: =IF(B13="n/a","n/a",IF(B13="","",IF(B13>1,1,B13))) -> 0.54127392 | C44: =IF(C13="n/a","n/a",IF(C13="","",IF(C13>1,1,C13))) -> 1 | D44: =IF(D13="n/a","n/a",IF(D13="","",IF(D13>1,1,D13))) -> 1 | E44: =IF(E13="n/a","n/a",IF(E13="","",IF(E13>1,1,E13))) -> 1 | F44: =IF(F13="n/a","n/a",IF(F13="","",IF(F13>1,1,F13))) -> 1 | G44: =IF(G13="n/a","n/a",IF(G13="","",IF(G13>1,1,G13))) -> 0.99488439 | H44: =IF(H13="n/a","n/a",IF(H13="","",IF(H13>1,1,H13))) -> 1 | I44: =IF(I13="n/a","n/a",IF(I13="","",IF(I13>1,1,I13))) -> 1 | ... S44: =IF(S13="n/a","n/a",IF(S13="","",IF(S13>1,1,S13))) -> 0.74743893 | T44: =IF(T13="n/a","n/a",IF(T13="SI",1,0)) -> 1
A45: VICUÑA | B45: =IF(B14="n/a","n/a",IF(B14="","",IF(B14>1,1,B14))) -> 1 | C45: =IF(C14="n/a","n/a",IF(C14="","",IF(C14>1,1,C14))) -> 1 | D45: =IF(D14="n/a","n/a",IF(D14="","",IF(D14>1,1,D14))) -> 0.96985132 | E45: =IF(E14="n/a","n/a",IF(E14="","",IF(E14>1,1,E14))) -> 1 | F45: =IF(F14="n/a","n/a",IF(F14="","",IF(F14>1,1,F14))) -> 1 | G45: =IF(G14="n/a","n/a",IF(G14="","",IF(G14>1,1,G14))) -> 1 | H45: =IF(H14="n/a","n/a",IF(H14="","",IF(H14>1,1,H14))) -> 1 | I45: =IF(I14="n/a","n/a",IF(I14="","",IF(I14>1,1,I14))) -> 1 | ... S45: =IF(S14="n/a","n/a",IF(S14="","",IF(S14>1,1,S14))) -> 0.82220367 | T45: =IF(T14="n/a","n/a",IF(T14="SI",1,0)) -> 1
A46: ILLAPEL | B46: =IF(B15="n/a","n/a",IF(B15="","",IF(B15>1,1,B15))) -> 1 | C46: =IF(C15="n/a","n/a",IF(C15="","",IF(C15>1,1,C15))) -> 1 | D46: =IF(D15="n/a","n/a",IF(D15="","",IF(D15>1,1,D15))) -> 1 | E46: =IF(E15="n/a","n/a",IF(E15="","",IF(E15>1,1,E15))) -> 1 | F46: =IF(F15="n/a","n/a",IF(F15="","",IF(F15>1,1,F15))) -> 1 | G46: =IF(G15="n/a","n/a",IF(G15="","",IF(G15>1,1,G15))) -> 0.77632468 | H46: =IF(H15="n/a","n/a",IF(H15="","",IF(H15>1,1,H15))) -> 0.65241151 | I46: =IF(I15="n/a","n/a",IF(I15="","",IF(I15>1,1,I15))) -> 1 | ... S46: =IF(S15="n/a","n/a",IF(S15="","",IF(S15>1,1,S15))) -> 1 | T46: =IF(T15="n/a","n/a",IF(T15="SI",1,0)) -> 1
A47: CANELA | B47: =IF(B16="n/a","n/a",IF(B16="","",IF(B16>1,1,B16))) -> 1 | C47: =IF(C16="n/a","n/a",IF(C16="","",IF(C16>1,1,C16))) -> 1 | D47: =IF(D16="n/a","n/a",IF(D16="","",IF(D16>1,1,D16))) -> 1 | E47: =IF(E16="n/a","n/a",IF(E16="","",IF(E16>1,1,E16))) -> 1 | F47: =IF(F16="n/a","n/a",IF(F16="","",IF(F16>1,1,F16))) -> 0.96737607 | G47: =IF(G16="n/a","n/a",IF(G16="","",IF(G16>1,1,G16))) -> 1 | H47: =IF(H16="n/a","n/a",IF(H16="","",IF(H16>1,1,H16))) -> 1 | I47: =IF(I16="n/a","n/a",IF(I16="","",IF(I16>1,1,I16))) -> 0.99320544 | ... S47: =IF(S16="n/a","n/a",IF(S16="","",IF(S16>1,1,S16))) -> 1 | T47: =IF(T16="n/a","n/a",IF(T16="SI",1,0)) -> 1
A48: LOS VILOS | B48: =IF(B17="n/a","n/a",IF(B17="","",IF(B17>1,1,B17))) -> 1 | C48: =IF(C17="n/a","n/a",IF(C17="","",IF(C17>1,1,C17))) -> 1 | D48: =IF(D17="n/a","n/a",IF(D17="","",IF(D17>1,1,D17))) -> 0.84722553 | E48: =IF(E17="n/a","n/a",IF(E17="","",IF(E17>1,1,E17))) -> 1 | F48: =IF(F17="n/a","n/a",IF(F17="","",IF(F17>1,1,F17))) -> 1 | G48: =IF(G17="n/a","n/a",IF(G17="","",IF(G17>1,1,G17))) -> 1 | H48: =IF(H17="n/a","n/a",IF(H17="","",IF(H17>1,1,H17))) -> 1 | I48: =IF(I17="n/a","n/a",IF(I17="","",IF(I17>1,1,I17))) -> 1 | ... S48: =IF(S17="n/a","n/a",IF(S17="","",IF(S17>1,1,S17))) -> 0.92973856 | T48: =IF(T17="n/a","n/a",IF(T17="SI",1,0)) -> 1
A49: SALAMANCA | B49: =IF(B18="n/a","n/a",IF(B18="","",IF(B18>1,1,B18))) -> 1 | C49: =IF(C18="n/a","n/a",IF(C18="","",IF(C18>1,1,C18))) -> 1 | D49: =IF(D18="n/a","n/a",IF(D18="","",IF(D18>1,1,D18))) -> 0.97759735 | E49: =IF(E18="n/a","n/a",IF(E18="","",IF(E18>1,1,E18))) -> 1 | F49: =IF(F18="n/a","n/a",IF(F18="","",IF(F18>1,1,F18))) -> 0.96064493 | G49: =IF(G18="n/a","n/a",IF(G18="","",IF(G18>1,1,G18))) -> 0.99841908 | H49: =IF(H18="n/a","n/a",IF(H18="","",IF(H18>1,1,H18))) -> 1 | I49: =IF(I18="n/a","n/a",IF(I18="","",IF(I18>1,1,I18))) -> 0.99774775 | ... S49: =IF(S18="n/a","n/a",IF(S18="","",IF(S18>1,1,S18))) -> 0.93031359 | T49: =IF(T18="n/a","n/a",IF(T18="SI",1,0)) -> 1
A50: OVALLE | B50: =IF(B19="n/a","n/a",IF(B19="","",IF(B19>1,1,B19))) -> 1 | C50: =IF(C19="n/a","n/a",IF(C19="","",IF(C19>1,1,C19))) -> 1 | D50: =IF(D19="n/a","n/a",IF(D19="","",IF(D19>1,1,D19))) -> 1 | E50: =IF(E19="n/a","n/a",IF(E19="","",IF(E19>1,1,E19))) -> 1 | F50: =IF(F19="n/a","n/a",IF(F19="","",IF(F19>1,1,F19))) -> 1 | G50: =IF(G19="n/a","n/a",IF(G19="","",IF(G19>1,1,G19))) -> 1 | H50: =IF(H19="n/a","n/a",IF(H19="","",IF(H19>1,1,H19))) -> 1 | I50: =IF(I19="n/a","n/a",IF(I19="","",IF(I19>1,1,I19))) -> 1 | ... S50: =IF(S19="n/a","n/a",IF(S19="","",IF(S19>1,1,S19))) -> 0.94191981 | T50: =IF(T19="n/a","n/a",IF(T19="SI",1,0)) -> 1
A51: COMBARBALÁ | B51: =IF(B20="n/a","n/a",IF(B20="","",IF(B20>1,1,B20))) -> 1 | C51: =IF(C20="n/a","n/a",IF(C20="","",IF(C20>1,1,C20))) -> 1 | D51: =IF(D20="n/a","n/a",IF(D20="","",IF(D20>1,1,D20))) -> 0.93164299 | E51: =IF(E20="n/a","n/a",IF(E20="","",IF(E20>1,1,E20))) -> 1 | F51: =IF(F20="n/a","n/a",IF(F20="","",IF(F20>1,1,F20))) -> 1 | G51: =IF(G20="n/a","n/a",IF(G20="","",IF(G20>1,1,G20))) -> 1 | H51: =IF(H20="n/a","n/a",IF(H20="","",IF(H20>1,1,H20))) -> 1 | I51: =IF(I20="n/a","n/a",IF(I20="","",IF(I20>1,1,I20))) -> 0.96097418 | ... S51: =IF(S20="n/a","n/a",IF(S20="","",IF(S20>1,1,S20))) -> 0.77038896 | T51: =IF(T20="n/a","n/a",IF(T20="SI",1,0)) -> 1
...

Sheet META 2
A1: COMUNA | B1: ESTABLECIMIENTO | C1: CUMPLIMIENTO | D1: Indicador | E1: META 2 : FAMILIAS EVALUADAS SEGÚN RIESGO FAMILIAR
E2: NUMERADOR | G2: DENOMINADOR
E10: Nº de familias evaluadas según riesgo familiar | G10: Total de familias Insciritas (población inscrita/3,3)
D11: Resultado | E11: A JUNIO | F11: A DICBRE
A12: 04101-LA SERENA | B12: 105300-CES. CARDENAL CARO | E12: =IFERROR(VLOOKUP($B12,[1]NUM2!$H$3:$J$143,2,FALSE),0) -> 2745
A13: 04101-LA SERENA | B13: 105301-CES. LAS COMPAÑIAS | E13: =IFERROR(VLOOKUP($B13,[1]NUM2!$H$3:$J$143,2,FALSE),0) -> 549
A14: 04101-LA SERENA | B14: 105302-CES. PEDRO AGUIRRE C. | E14: =IFERROR(VLOOKUP($B14,[1]NUM2!$H$3:$J$143,2,FALSE),0) -> 272
A15: 04101-LA SERENA | B15: 105313-CES. SCHAFFHAUSER | E15: =IFERROR(VLOOKUP($B15,[1]NUM2!$H$3:$J$143,2,FALSE),0) -> 77
A16: 04101-LA SERENA | B16: 105319-CES. CARDENAL R.S.H. | E16: =IFERROR(VLOOKUP($B16,[1]NUM2!$H$3:$J$143,2,FALSE),0) -> 486
A17: 04101-LA SERENA | B17: 105325-CESFAM JUAN PABLO II | E17: =IFERROR(VLOOKUP($B17,[1]NUM2!$H$3:$J$143,2,FALSE),0) -> 2387
A18: 04101-LA SERENA | B18: 105400-P.S.R. ALGARROBITO | E18: =IFERROR(VLOOKUP($B18,[1]NUM2!$H$3:$J$143,2,FALSE),0) -> 50
A19: 04101-LA SERENA | B19: 105401-P.S.R. LAS ROJAS | E19: =IFERROR(VLOOKUP($B19,[1]NUM2!$H$3:$J$143,2,FALSE),0) -> 49
A20: 04101-LA SERENA | B20: 105402-P.S.R. EL ROMERO | E20: =IFERROR(VLOOKUP($B20,[1]NUM2!$H$3:$J$143,2,FALSE),0) -> 81
A21: 04101-LA SERENA | B21: 105499-P.S.R. LAMBERT | E21: =IFERROR(VLOOKUP($B21,[1]NUM2!$H$3:$J$143,2,FALSE),0) -> 90
A22: 04101-LA SERENA | B22: 105700-CECOF VILLA EL INDIO | E22: =IFERROR(VLOOKUP($B22,[1]NUM2!$H$3:$J$143,2,FALSE),0) -> 1193
A23: 04101-LA SERENA | B23: 105701-CECOF VILLA ALEMANIA | E23: =IFERROR(VLOOKUP($B23,[1]NUM2!$H$3:$J$143,2,FALSE),0) -> 153
A24: 04101-LA SERENA | B24: 105702-CECOF VILLA LAMBERT | E24: =IFERROR(VLOOKUP($B24,[1]NUM2!$H$3:$J$143,2,FALSE),0) -> 96
A25: TOTAL LA SERENA | C25: =+D25/Metas!G89 -> 1.2725857 | D25: =+E25/G25 -> 0.14142074 | E25: =SUM(E12:E24) -> 8228 | F25: =SUM(F12:F24) -> 0 | G25: 58181
A26: 04102-COQUIMBO | B26: 105303-CES. SAN JUAN | E26: =IFERROR(VLOOKUP($B26,[1]NUM2!$H$3:$J$143,2,FALSE),0) -> 246
A27: 04102-COQUIMBO | B27: 105304-CES. SANTA CECILIA | E27: =IFERROR(VLOOKUP($B27,[1]NUM2!$H$3:$J$143,2,FALSE),0) -> 83
A28: 04102-COQUIMBO | B28: 105305-CES. TIERRAS BLANCAS | E28: =IFERROR(VLOOKUP($B28,[1]NUM2!$H$3:$J$143,2,FALSE),0) -> 1025
A29: 04102-COQUIMBO | B29: 105321-CES. RURAL TONGOY | E29: =IFERROR(VLOOKUP($B29,[1]NUM2!$H$3:$J$143,2,FALSE),0) -> 30
A30: 04102-COQUIMBO | B30: 105323-CES. DR. SERGIO AGUILAR | E30: =IFERROR(VLOOKUP($B30,[1]NUM2!$H$3:$J$143,2,FALSE),0) -> 35
A31: 04102-COQUIMBO | B31: 105404-P.S.R. EL TANGUE | E31: =IFERROR(VLOOKUP($B31,[1]NUM2!$H$3:$J$143,2,FALSE),0) -> 0
A32: 04102-COQUIMBO | B32: 105405-P.S.R. GUANAQUEROS | E32: =IFERROR(VLOOKUP($B32,[1]NUM2!$H$3:$J$143,2,FALSE),0) -> 150
A33: 04102-COQUIMBO | B33: 105406-P.S.R. PAN DE AZUCAR | E33: =IFERROR(VLOOKUP($B33,[1]NUM2!$H$3:$J$143,2,FALSE),0) -> 32
A34: 04102-COQUIMBO | B34: 105407-P.S.R. TAMBILLOS | E34: =IFERROR(VLOOKUP($B34,[1]NUM2!$H$3:$J$143,2,FALSE),0) -> 6
A35: 04102-COQUIMBO | B35: 105705-CECOF EL ALBA | E35: =IFERROR(VLOOKUP($B35,[1]NUM2!$H$3:$J$143,2,FALSE),0) -> 1296
A36: 04102-COQUIMBO | B36: 200273-CECOF PUNTA MIRA | E36: =IFERROR(VLOOKUP($B36,[1]NUM2!$H$3:$J$143,2,FALSE),0) -> 61
A37: TOTAL COQUIMBO | C37: =+D37/Metas!G87 -> 0.54127392 | D37: =+E37/G37 -> 0.05279658 | E37: =SUM(E26:E36) -> 2964 | F37: =SUM(F26:F36) -> 0 | G37: 56140
A38: 04106-VICUÑA | B38: 105467-P.S.R. DIAGUITAS | E38: =IFERROR(VLOOKUP($B38,[1]NUM2!$H$3:$J$143,2,FALSE),0) -> 38
A39: 04106-VICUÑA | B39: 105468-P.S.R. EL MOLLE | E39: =IFERROR(VLOOKUP($B39,[1]NUM2!$H$3:$J$143,2,FALSE),0) -> 24
A40: 04106-VICUÑA | B40: 105469-P.S.R. EL TAMBO | E40: =IFERROR(VLOOKUP($B40,[1]NUM2!$H$3:$J$143,2,FALSE),0) -> 168
A41: 04106-VICUÑA | B41: 105470-P.S.R. HUANTA | E41: =IFERROR(VLOOKUP($B41,[1]NUM2!$H$3:$J$143,2,FALSE),0) -> 4
A42: 04106-VICUÑA | B42: 105471-P.S.R. PERALILLO | E42: =IFERROR(VLOOKUP($B42,[1]NUM2!$H$3:$J$143,2,FALSE),0) -> 197
A43: 04106-VICUÑA | B43: 105472-P.S.R. RIVADAVIA | E43: =IFERROR(VLOOKUP($B43,[1]NUM2!$H$3:$J$143,2,FALSE),0) -> 28
A44: 04106-VICUÑA | B44: 105473-P.S.R. TALCUNA | E44: =IFERROR(VLOOKUP($B44,[1]NUM2!$H$3:$J$143,2,FALSE),0) -> 107
A45: 04106-VICUÑA | B45: 105474-P.S.R. CHAPILCA | E45: =IFERROR(VLOOKUP($B45,[1]NUM2!$H$3:$J$143,2,FALSE),0) -> 11
A46: 04106-VICUÑA | B46: 105502-P.S.R. CALINGASTA | E46: =IFERROR(VLOOKUP($B46,[1]NUM2!$H$3:$J$143,2,FALSE),0) -> 83
A47: 04106-VICUÑA | B47: 105509-P.S.R. GUALLIGUAICA | E47: =IFERROR(VLOOKUP($B47,[1]NUM2!$H$3:$J$143,2,FALSE),0) -> 8
...

Sheet META 3.1
A1: COMUNA | B1: ESTABLECIMIENTO | C1: CUMPLIMIENTO | D1: Indicador | E1: META 3.1: GESTION DE RECLAMOS EN APS
E2: NUMERADOR | R2: DENOMINADOR
E10: Nº total de reclamos respondidos con solución dentro de los plazos legales establecidos (15 días hábiles) | R10: Nº total de reclamos
D11: Resultado | E11: ENERO | F11: FEBRERO | G11: MARZO | H11: ABRIL | I11: MAYO | J11: JUNIO | K11: JULIO | L11: AGOSTO | M11: SEPBRE | N11: OCTBRE | O11: NOVBRE | P11: DICBRE | Q11: TOTAL | R11: ENERO | S11: FEBRERO | T11: MARZO | U11: ABRIL | V11: MAYO | W11: JUNIO | X11: JULIO | Y11: AGOSTO | Z11: SEPBRE | AA11: OCTBRE | AB11: NOVBRE | AC11: DICBRE | AD11: TOTAL
A12: 04101-LA SERENA | B12: 105300-CES. CARDENAL CARO | E12: =IFERROR(VLOOKUP($B12,'[1]NUM3.1'!$H$3:$S$112,2,FALSE),0) -> 20 | F12: =IFERROR(VLOOKUP($B12,'[1]NUM3.1'!$H$3:$S$112,3,FALSE),0) -> 33 | G12: =IFERROR(VLOOKUP($B12,'[1]NUM3.1'!$H$3:$S$112,4,FALSE),0) -> 33 | H12: =IFERROR(VLOOKUP($B12,'[1]NUM3.1'!$H$3:$S$112,5,FALSE),0) -> 15 | I12: =IFERROR(VLOOKUP($B12,'[1]NUM3.1'!$H$3:$S$112,6,FALSE),0) -> 9 | J12: =IFERROR(VLOOKUP($B12,'[1]NUM3.1'!$H$3:$S$112,7,FALSE),0) -> 43 | K12: =IFERROR(VLOOKUP($B12,'[1]NUM3.1'!$H$3:$S$112,8,FALSE),0) -> 51 | L12: =IFERROR(VLOOKUP($B12,'[1]NUM3.1'!$H$3:$S$112,9,FALSE),0) -> 23 | M12: =IFERROR(VLOOKUP($B12,'[1]NUM3.1'!$H$3:$S$112,10,FALSE),0) -> 24 | N12: =IFERROR(VLOOKUP($B12,'[1]NUM3.1'!$H$3:$S$112,11,FALSE),0) -> 22 | Q12: =SUM(E12:P12) -> 273 | R12: =IFERROR(VLOOKUP($B12,'[1]DEN3.1'!$H$3:$S$112,2,FALSE),0) -> 20 | S12: =IFERROR(VLOOKUP($B12,'[1]DEN3.1'!$H$3:$S$112,3,FALSE),0) -> 33 | T12: =IFERROR(VLOOKUP($B12,'[1]DEN3.1'!$H$3:$S$112,4,FALSE),0) -> 33 | U12: =IFERROR(VLOOKUP($B12,'[1]DEN3.1'!$H$3:$S$112,5,FALSE),0) -> 15 | V12: =IFERROR(VLOOKUP($B12,'[1]DEN3.1'!$H$3:$S$112,6,FALSE),0) -> 9 | W12: =IFERROR(VLOOKUP($B12,'[1]DEN3.1'!$H$3:$S$112,7,FALSE),0) -> 43 | X12: =IFERROR(VLOOKUP($B12,'[1]DEN3.1'!$H$3:$S$112,8,FALSE),0) -> 51 | Y12: =IFERROR(VLOOKUP($B12,'[1]DEN3.1'!$H$3:$S$112,9,FALSE),0) -> 23 | Z12: =IFERROR(VLOOKUP($B12,'[1]DEN3.1'!$H$3:$S$112,10,FALSE),0) -> 24 | AA12: =IFERROR(VLOOKUP($B12,'[1]DEN3.1'!$H$3:$S$112,11,FALSE),0) -> 22 | AD12: =SUM(R12:AC12) -> 273
A13: 04101-LA SERENA | B13: 105301-CES. LAS COMPAÑIAS | E13: =IFERROR(VLOOKUP($B13,'[1]NUM3.1'!$H$3:$S$112,2,FALSE),0) -> 9 | F13: =IFERROR(VLOOKUP($B13,'[1]NUM3.1'!$H$3:$S$112,3,FALSE),0) -> 4 | G13: =IFERROR(VLOOKUP($B13,'[1]NUM3.1'!$H$3:$S$112,4,FALSE),0) -> 21 | H13: =IFERROR(VLOOKUP($B13,'[1]NUM3.1'!$H$3:$S$112,5,FALSE),0) -> 9 | I13: =IFERROR(VLOOKUP($B13,'[1]NUM3.1'!$H$3:$S$112,6,FALSE),0) -> 2 | J13: =IFERROR(VLOOKUP($B13,'[1]NUM3.1'!$H$3:$S$112,7,FALSE),0) -> 15 | K13: =IFERROR(VLOOKUP($B13,'[1]NUM3.1'!$H$3:$S$112,8,FALSE),0) -> 6 | L13: =IFERROR(VLOOKUP($B13,'[1]NUM3.1'!$H$3:$S$112,9,FALSE),0) -> 8 | M13: =IFERROR(VLOOKUP($B13,'[1]NUM3.1'!$H$3:$S$112,10,FALSE),0) -> 10 | N13: =IFERROR(VLOOKUP($B13,'[1]NUM3.1'!$H$3:$S$112,11,FALSE),0) -> 8 | Q13: =SUM(E13:P13) -> 92 | R13: =IFERROR(VLOOKUP($B13,'[1]DEN3.1'!$H$3:$S$112,2,FALSE),0) -> 9 | S13: =IFERROR(VLOOKUP($B13,'[1]DEN3.1'!$H$3:$S$112,3,FALSE),0) -> 4 | T13: =IFERROR(VLOOKUP($B13,'[1]DEN3.1'!$H$3:$S$112,4,FALSE),0) -> 21 | U13: =IFERROR(VLOOKUP($B13,'[1]DEN3.1'!$H$3:$S$112,5,FALSE),0) -> 9 | V13: =IFERROR(VLOOKUP($B13,'[1]DEN3.1'!$H$3:$S$112,6,FALSE),0) -> 2 | W13: =IFERROR(VLOOKUP($B13,'[1]DEN3.1'!$H$3:$S$112,7,FALSE),0) -> 15 | X13: =IFERROR(VLOOKUP($B13,'[1]DEN3.1'!$H$3:$S$112,8,FALSE),0) -> 6 | Y13: =IFERROR(VLOOKUP($B13,'[1]DEN3.1'!$H$3:$S$112,9,FALSE),0) -> 8 | Z13: =IFERROR(VLOOKUP($B13,'[1]DEN3.1'!$H$3:$S$112,10,FALSE),0) -> 10 | AA13: =IFERROR(VLOOKUP($B13,'[1]DEN3.1'!$H$3:$S$112,11,FALSE),0) -> 8 | AD13: =SUM(R13:AC13) -> 92
A14: 04101-LA SERENA | B14: 105302-CES. PEDRO AGUIRRE C. | E14: =IFERROR(VLOOKUP($B14,'[1]NUM3.1'!$H$3:$S$112,2,FALSE),0) -> 6 | F14: =IFERROR(VLOOKUP($B14,'[1]NUM3.1'!$H$3:$S$112,3,FALSE),0) -> 3 | G14: =IFERROR(VLOOKUP($B14,'[1]NUM3.1'!$H$3:$S$112,4,FALSE),0) -> 6 | H14: =IFERROR(VLOOKUP($B14,'[1]NUM3.1'!$H$3:$S$112,5,FALSE),0) -> 2 | I14: =IFERROR(VLOOKUP($B14,'[1]NUM3.1'!$H$3:$S$112,6,FALSE),0) -> 8 | J14: =IFERROR(VLOOKUP($B14,'[1]NUM3.1'!$H$3:$S$112,7,FALSE),0) -> 4 | K14: =IFERROR(VLOOKUP($B14,'[1]NUM3.1'!$H$3:$S$112,8,FALSE),0) -> 5 | L14: =IFERROR(VLOOKUP($B14,'[1]NUM3.1'!$H$3:$S$112,9,FALSE),0) -> 4 | M14: =IFERROR(VLOOKUP($B14,'[1]NUM3.1'!$H$3:$S$112,10,FALSE),0) -> 3 | N14: =IFERROR(VLOOKUP($B14,'[1]NUM3.1'!$H$3:$S$112,11,FALSE),0) -> 2 | Q14: =SUM(E14:P14) -> 43 | R14: =IFERROR(VLOOKUP($B14,'[1]DEN3.1'!$H$3:$S$112,2,FALSE),0) -> 6 | S14: =IFERROR(VLOOKUP($B14,'[1]DEN3.1'!$H$3:$S$112,3,FALSE),0) -> 3 | T14: =IFERROR(VLOOKUP($B14,'[1]DEN3.1'!$H$3:$S$112,4,FALSE),0) -> 6 | U14: =IFERROR(VLOOKUP($B14,'[1]DEN3.1'!$H$3:$S$112,5,FALSE),0) -> 2 | V14: =IFERROR(VLOOKUP($B14,'[1]DEN3.1'!$H$3:$S$112,6,FALSE),0) -> 8 | W14: =IFERROR(VLOOKUP($B14,'[1]DEN3.1'!$H$3:$S$112,7,FALSE),0) -> 4 | X14: =IFERROR(VLOOKUP($B14,'[1]DEN3.1'!$H$3:$S$112,8,FALSE),0) -> 5 | Y14: =IFERROR(VLOOKUP($B14,'[1]DEN3.1'!$H$3:$S$112,9,FALSE),0) -> 4 | Z14: =IFERROR(VLOOKUP($B14,'[1]DEN3.1'!$H$3:$S$112,10,FALSE),0) -> 3 | AA14: =IFERROR(VLOOKUP($B14,'[1]DEN3.1'!$H$3:$S$112,11,FALSE),0) -> 2 | AD14: =SUM(R14:AC14) -> 43
A15: 04101-LA SERENA | B15: 105313-CES. SCHAFFHAUSER | E15: =IFERROR(VLOOKUP($B15,'[1]NUM3.1'!$H$3:$S$112,2,FALSE),0) -> 9 | F15: =IFERROR(VLOOKUP($B15,'[1]NUM3.1'!$H$3:$S$112,3,FALSE),0) -> 2 | G15: =IFERROR(VLOOKUP($B15,'[1]NUM3.1'!$H$3:$S$112,4,FALSE),0) -> 5 | H15: =IFERROR(VLOOKUP($B15,'[1]NUM3.1'!$H$3:$S$112,5,FALSE),0) -> 10 | I15: =IFERROR(VLOOKUP($B15,'[1]NUM3.1'!$H$3:$S$112,6,FALSE),0) -> 6 | J15: =IFERROR(VLOOKUP($B15,'[1]NUM3.1'!$H$3:$S$112,7,FALSE),0) -> 13 | K15: =IFERROR(VLOOKUP($B15,'[1]NUM3.1'!$H$3:$S$112,8,FALSE),0) -> 4 | L15: =IFERROR(VLOOKUP($B15,'[1]NUM3.1'!$H$3:$S$112,9,FALSE),0) -> 5 | M15: =IFERROR(VLOOKUP($B15,'[1]NUM3.1'!$H$3:$S$112,10,FALSE),0) -> 7 | N15: =IFERROR(VLOOKUP($B15,'[1]NUM3.1'!$H$3:$S$112,11,FALSE),0) -> 6 | Q15: =SUM(E15:P15) -> 67 | R15: =IFERROR(VLOOKUP($B15,'[1]DEN3.1'!$H$3:$S$112,2,FALSE),0) -> 9 | S15: =IFERROR(VLOOKUP($B15,'[1]DEN3.1'!$H$3:$S$112,3,FALSE),0) -> 2 | T15: =IFERROR(VLOOKUP($B15,'[1]DEN3.1'!$H$3:$S$112,4,FALSE),0) -> 5 | U15: =IFERROR(VLOOKUP($B15,'[1]DEN3.1'!$H$3:$S$112,5,FALSE),0) -> 10 | V15: =IFERROR(VLOOKUP($B15,'[1]DEN3.1'!$H$3:$S$112,6,FALSE),0) -> 6 | W15: =IFERROR(VLOOKUP($B15,'[1]DEN3.1'!$H$3:$S$112,7,FALSE),0) -> 13 | X15: =IFERROR(VLOOKUP($B15,'[1]DEN3.1'!$H$3:$S$112,8,FALSE),0) -> 4 | Y15: =IFERROR(VLOOKUP($B15,'[1]DEN3.1'!$H$3:$S$112,9,FALSE),0) -> 5 | Z15: =IFERROR(VLOOKUP($B15,'[1]DEN3.1'!$H$3:$S$112,10,FALSE),0) -> 7 | AA15: =IFERROR(VLOOKUP($B15,'[1]DEN3.1'!$H$3:$S$112,11,FALSE),0) -> 6 | AD15: =SUM(R15:AC15) -> 67
A16: 04101-LA SERENA | B16: 105319-CES. CARDENAL R.S.H. | E16: =IFERROR(VLOOKUP($B16,'[1]NUM3.1'!$H$3:$S$112,2,FALSE),0) -> 4 | F16: =IFERROR(VLOOKUP($B16,'[1]NUM3.1'!$H$3:$S$112,3,FALSE),0) -> 2 | G16: =IFERROR(VLOOKUP($B16,'[1]NUM3.1'!$H$3:$S$112,4,FALSE),0) -> 5 | H16: =IFERROR(VLOOKUP($B16,'[1]NUM3.1'!$H$3:$S$112,5,FALSE),0) -> 2 | I16: =IFERROR(VLOOKUP($B16,'[1]NUM3.1'!$H$3:$S$112,6,FALSE),0) -> 9 | J16: =IFERROR(VLOOKUP($B16,'[1]NUM3.1'!$H$3:$S$112,7,FALSE),0) -> 4 | K16: =IFERROR(VLOOKUP($B16,'[1]NUM3.1'!$H$3:$S$112,8,FALSE),0) -> 4 | L16: =IFERROR(VLOOKUP($B16,'[1]NUM3.1'!$H$3:$S$112,9,FALSE),0) -> 4 | M16: =IFERROR(VLOOKUP($B16,'[1]NUM3.1'!$H$3:$S$112,10,FALSE),0) -> 3 | N16: =IFERROR(VLOOKUP($B16,'[1]NUM3.1'!$H$3:$S$112,11,FALSE),0) -> 12 | Q16: =SUM(E16:P16) -> 49 | R16: =IFERROR(VLOOKUP($B16,'[1]DEN3.1'!$H$3:$S$112,2,FALSE),0) -> 4 | S16: =IFERROR(VLOOKUP($B16,'[1]DEN3.1'!$H$3:$S$112,3,FALSE),0) -> 2 | T16: =IFERROR(VLOOKUP($B16,'[1]DEN3.1'!$H$3:$S$112,4,FALSE),0) -> 5 | U16: =IFERROR(VLOOKUP($B16,'[1]DEN3.1'!$H$3:$S$112,5,FALSE),0) -> 2 | V16: =IFERROR(VLOOKUP($B16,'[1]DEN3.1'!$H$3:$S$112,6,FALSE),0) -> 9 | W16: =IFERROR(VLOOKUP($B16,'[1]DEN3.1'!$H$3:$S$112,7,FALSE),0) -> 4 | X16: =IFERROR(VLOOKUP($B16,'[1]DEN3.1'!$H$3:$S$112,8,FALSE),0) -> 4 | Y16: =IFERROR(VLOOKUP($B16,'[1]DEN3.1'!$H$3:$S$112,9,FALSE),0) -> 4 | Z16: =IFERROR(VLOOKUP($B16,'[1]DEN3.1'!$H$3:$S$112,10,FALSE),0) -> 3 | AA16: =IFERROR(VLOOKUP($B16,'[1]DEN3.1'!$H$3:$S$112,11,FALSE),0) -> 12 | AD16: =SUM(R16:AC16) -> 49
A17: 04101-LA SERENA | B17: 105325-CESFAM JUAN PABLO II | E17: =IFERROR(VLOOKUP($B17,'[1]NUM3.1'!$H$3:$S$112,2,FALSE),0) -> 8 | F17: =IFERROR(VLOOKUP($B17,'[1]NUM3.1'!$H$3:$S$112,3,FALSE),0) -> 5 | G17: =IFERROR(VLOOKUP($B17,'[1]NUM3.1'!$H$3:$S$112,4,FALSE),0) -> 3 | H17: =IFERROR(VLOOKUP($B17,'[1]NUM3.1'!$H$3:$S$112,5,FALSE),0) -> 12 | I17: =IFERROR(VLOOKUP($B17,'[1]NUM3.1'!$H$3:$S$112,6,FALSE),0) -> 12 | J17: =IFERROR(VLOOKUP($B17,'[1]NUM3.1'!$H$3:$S$112,7,FALSE),0) -> 3 | K17: =IFERROR(VLOOKUP($B17,'[1]NUM3.1'!$H$3:$S$112,8,FALSE),0) -> 4 | L17: =IFERROR(VLOOKUP($B17,'[1]NUM3.1'!$H$3:$S$112,9,FALSE),0) -> 4 | M17: =IFERROR(VLOOKUP($B17,'[1]NUM3.1'!$H$3:$S$112,10,FALSE),0) -> 6 | N17: =IFERROR(VLOOKUP($B17,'[1]NUM3.1'!$H$3:$S$112,11,FALSE),0) -> 9 | Q17: =SUM(E17:P17) -> 66 | R17: =IFERROR(VLOOKUP($B17,'[1]DEN3.1'!$H$3:$S$112,2,FALSE),0) -> 8 | S17: =IFERROR(VLOOKUP($B17,'[1]DEN3.1'!$H$3:$S$112,3,FALSE),0) -> 5 | T17: =IFERROR(VLOOKUP($B17,'[1]DEN3.1'!$H$3:$S$112,4,FALSE),0) -> 3 | U17: =IFERROR(VLOOKUP($B17,'[1]DEN3.1'!$H$3:$S$112,5,FALSE),0) -> 12 | V17: =IFERROR(VLOOKUP($B17,'[1]DEN3.1'!$H$3:$S$112,6,FALSE),0) -> 12 | W17: =IFERROR(VLOOKUP($B17,'[1]DEN3.1'!$H$3:$S$112,7,FALSE),0) -> 3 | X17: =IFERROR(VLOOKUP($B17,'[1]DEN3.1'!$H$3:$S$112,8,FALSE),0) -> 4 | Y17: =IFERROR(VLOOKUP($B17,'[1]DEN3.1'!$H$3:$S$112,9,FALSE),0) -> 4 | Z17: =IFERROR(VLOOKUP($B17,'[1]DEN3.1'!$H$3:$S$112,10,FALSE),0) -> 6 | AA17: =IFERROR(VLOOKUP($B17,'[1]DEN3.1'!$H$3:$S$112,11,FALSE),0) -> 9 | AD17: =SUM(R17:AC17) -> 66
A18: 04101-LA SERENA | B18: 105400-P.S.R. ALGARROBITO | E18: =IFERROR(VLOOKUP($B18,'[1]NUM3.1'!$H$3:$S$112,2,FALSE),0) -> 0 | F18: =IFERROR(VLOOKUP($B18,'[1]NUM3.1'!$H$3:$S$112,3,FALSE),0) -> 0 | G18: =IFERROR(VLOOKUP($B18,'[1]NUM3.1'!$H$3:$S$112,4,FALSE),0) -> 0 | H18: =IFERROR(VLOOKUP($B18,'[1]NUM3.1'!$H$3:$S$112,5,FALSE),0) -> 0 | I18: =IFERROR(VLOOKUP($B18,'[1]NUM3.1'!$H$3:$S$112,6,FALSE),0) -> 0 | J18: =IFERROR(VLOOKUP($B18,'[1]NUM3.1'!$H$3:$S$112,7,FALSE),0) -> 1 | K18: =IFERROR(VLOOKUP($B18,'[1]NUM3.1'!$H$3:$S$112,8,FALSE),0) -> 2 | L18: =IFERROR(VLOOKUP($B18,'[1]NUM3.1'!$H$3:$S$112,9,FALSE),0) -> 1 | M18: =IFERROR(VLOOKUP($B18,'[1]NUM3.1'!$H$3:$S$112,10,FALSE),0) -> 0 | N18: =IFERROR(VLOOKUP($B18,'[1]NUM3.1'!$H$3:$S$112,11,FALSE),0) -> 0 | Q18: =SUM(E18:P18) -> 4 | R18: =IFERROR(VLOOKUP($B18,'[1]DEN3.1'!$H$3:$S$112,2,FALSE),0) -> 0 | S18: =IFERROR(VLOOKUP($B18,'[1]DEN3.1'!$H$3:$S$112,3,FALSE),0) -> 0 | T18: =IFERROR(VLOOKUP($B18,'[1]DEN3.1'!$H$3:$S$112,4,FALSE),0) -> 0 | U18: =IFERROR(VLOOKUP($B18,'[1]DEN3.1'!$H$3:$S$112,5,FALSE),0) -> 0 | V18: =IFERROR(VLOOKUP($B18,'[1]DEN3.1'!$H$3:$S$112,6,FALSE),0) -> 0 | W18: =IFERROR(VLOOKUP($B18,'[1]DEN3.1'!$H$3:$S$112,7,FALSE),0) -> 1 | X18: =IFERROR(VLOOKUP($B18,'[1]DEN3.1'!$H$3:$S$112,8,FALSE),0) -> 2 | Y18: =IFERROR(VLOOKUP($B18,'[1]DEN3.1'!$H$3:$S$112,9,FALSE),0) -> 1 | Z18: =IFERROR(VLOOKUP($B18,'[1]DEN3.1'!$H$3:$S$112,10,FALSE),0) -> 0 | AA18: =IFERROR(VLOOKUP($B18,'[1]DEN3.1'!$H$3:$S$112,11,FALSE),0) -> 0 | AD18: =SUM(R18:AC18) -> 4
A19: 04101-LA SERENA | B19: 105401-P.S.R. LAS ROJAS | E19: =IFERROR(VLOOKUP($B19,'[1]NUM3.1'!$H$3:$S$112,2,FALSE),0) -> 0 | F19: =IFERROR(VLOOKUP($B19,'[1]NUM3.1'!$H$3:$S$112,3,FALSE),0) -> 0 | G19: =IFERROR(VLOOKUP($B19,'[1]NUM3.1'!$H$3:$S$112,4,FALSE),0) -> 0 | H19: =IFERROR(VLOOKUP($B19,'[1]NUM3.1'!$H$3:$S$112,5,FALSE),0) -> 0 | I19: =IFERROR(VLOOKUP($B19,'[1]NUM3.1'!$H$3:$S$112,6,FALSE),0) -> 0 | J19: =IFERROR(VLOOKUP($B19,'[1]NUM3.1'!$H$3:$S$112,7,FALSE),0) -> 0 | K19: =IFERROR(VLOOKUP($B19,'[1]NUM3.1'!$H$3:$S$112,8,FALSE),0) -> 0 | L19: =IFERROR(VLOOKUP($B19,'[1]NUM3.1'!$H$3:$S$112,9,FALSE),0) -> 0 | M19: =IFERROR(VLOOKUP($B19,'[1]NUM3.1'!$H$3:$S$112,10,FALSE),0) -> 0 | N19: =IFERROR(VLOOKUP($B19,'[1]NUM3.1'!$H$3:$S$112,11,FALSE),0) -> 0 | Q19: =SUM(E19:P19) -> 0 | R19: =IFERROR(VLOOKUP($B19,'[1]DEN3.1'!$H$3:$S$112,2,FALSE),0) -> 0 | S19: =IFERROR(VLOOKUP($B19,'[1]DEN3.1'!$H$3:$S$112,3,FALSE),0) -> 0 | T19: =IFERROR(VLOOKUP($B19,'[1]DEN3.1'!$H$3:$S$112,4,FALSE),0) -> 0 | U19: =IFERROR(VLOOKUP($B19,'[1]DEN3.1'!$H$3:$S$112,5,FALSE),0) -> 0 | V19: =IFERROR(VLOOKUP($B19,'[1]DEN3.1'!$H$3:$S$112,6,FALSE),0) -> 0 | W19: =IFERROR(VLOOKUP($B19,'[1]DEN3.1'!$H$3:$S$112,7,FALSE),0) -> 0 | X19: =IFERROR(VLOOKUP($B19,'[1]DEN3.1'!$H$3:$S$112,8,FALSE),0) -> 0 | Y19: =IFERROR(VLOOKUP($B19,'[1]DEN3.1'!$H$3:$S$112,9,FALSE),0) -> 0 | Z19: =IFERROR(VLOOKUP($B19,'[1]DEN3.1'!$H$3:$S$112,10,FALSE),0) -> 0 | AA19: =IFERROR(VLOOKUP($B19,'[1]DEN3.1'!$H$3:$S$112,11,FALSE),0) -> 0 | AD19: =SUM(R19:AC19) -> 0
A20: 04101-LA SERENA | B20: 105402-P.S.R. EL ROMERO | E20: =IFERROR(VLOOKUP($B20,'[1]NUM3.1'!$H$3:$S$112,2,FALSE),0) -> 0 | F20: =IFERROR(VLOOKUP($B20,'[1]NUM3.1'!$H$3:$S$112,3,FALSE),0) -> 0 | G20: =IFERROR(VLOOKUP($B20,'[1]NUM3.1'!$H$3:$S$112,4,FALSE),0) -> 0 | H20: =IFERROR(VLOOKUP($B20,'[1]NUM3.1'!$H$3:$S$112,5,FALSE),0) -> 0 | I20: =IFERROR(VLOOKUP($B20,'[1]NUM3.1'!$H$3:$S$112,6,FALSE),0) -> 0 | J20: =IFERROR(VLOOKUP($B20,'[1]NUM3.1'!$H$3:$S$112,7,FALSE),0) -> 0 | K20: =IFERROR(VLOOKUP($B20,'[1]NUM3.1'!$H$3:$S$112,8,FALSE),0) -> 1 | L20: =IFERROR(VLOOKUP($B20,'[1]NUM3.1'!$H$3:$S$112,9,FALSE),0) -> 0 | M20: =IFERROR(VLOOKUP($B20,'[1]NUM3.1'!$H$3:$S$112,10,FALSE),0) -> 0 | N20: =IFERROR(VLOOKUP($B20,'[1]NUM3.1'!$H$3:$S$112,11,FALSE),0) -> 1 | Q20: =SUM(E20:P20) -> 2 | R20: =IFERROR(VLOOKUP($B20,'[1]DEN3.1'!$H$3:$S$112,2,FALSE),0) -> 0 | S20: =IFERROR(VLOOKUP($B20,'[1]DEN3.1'!$H$3:$S$112,3,FALSE),0) -> 0 | T20: =IFERROR(VLOOKUP($B20,'[1]DEN3.1'!$H$3:$S$112,4,FALSE),0) -> 0 | U20: =IFERROR(VLOOKUP($B20,'[1]DEN3.1'!$H$3:$S$112,5,FALSE),0) -> 0 | V20: =IFERROR(VLOOKUP($B20,'[1]DEN3.1'!$H$3:$S$112,6,FALSE),0) -> 0 | W20: =IFERROR(VLOOKUP($B20,'[1]DEN3.1'!$H$3:$S$112,7,FALSE),0) -> 0 | X20: =IFERROR(VLOOKUP($B20,'[1]DEN3.1'!$H$3:$S$112,8,FALSE),0) -> 1 | Y20: =IFERROR(VLOOKUP($B20,'[1]DEN3.1'!$H$3:$S$112,9,FALSE),0) -> 0 | Z20: =IFERROR(VLOOKUP($B20,'[1]DEN3.1'!$H$3:$S$112,10,FALSE),0) -> 0 | AA20: =IFERROR(VLOOKUP($B20,'[1]DEN3.1'!$H$3:$S$112,11,FALSE),0) -> 1 | AD20: =SUM(R20:AC20) -> 2
A21: 04101-LA SERENA | B21: 105499-P.S.R. LAMBERT | E21: =IFERROR(VLOOKUP($B21,'[1]NUM3.1'!$H$3:$S$112,2,FALSE),0) -> 0 | F21: =IFERROR(VLOOKUP($B21,'[1]NUM3.1'!$H$3:$S$112,3,FALSE),0) -> 0 | G21: =IFERROR(VLOOKUP($B21,'[1]NUM3.1'!$H$3:$S$112,4,FALSE),0) -> 0 | H21: =IFERROR(VLOOKUP($B21,'[1]NUM3.1'!$H$3:$S$112,5,FALSE),0) -> 0 | I21: =IFERROR(VLOOKUP($B21,'[1]NUM3.1'!$H$3:$S$112,6,FALSE),0) -> 0 | J21: =IFERROR(VLOOKUP($B21,'[1]NUM3.1'!$H$3:$S$112,7,FALSE),0) -> 0 | K21: =IFERROR(VLOOKUP($B21,'[1]NUM3.1'!$H$3:$S$112,8,FALSE),0) -> 0 | L21: =IFERROR(VLOOKUP($B21,'[1]NUM3.1'!$H$3:$S$112,9,FALSE),0) -> 0 | M21: =IFERROR(VLOOKUP($B21,'[1]NUM3.1'!$H$3:$S$112,10,FALSE),0) -> 0 | N21: =IFERROR(VLOOKUP($B21,'[1]NUM3.1'!$H$3:$S$112,11,FALSE),0) -> 1 | Q21: =SUM(E21:P21) -> 1 | R21: =IFERROR(VLOOKUP($B21,'[1]DEN3.1'!$H$3:$S$112,2,FALSE),0) -> 0 | S21: =IFERROR(VLOOKUP($B21,'[1]DEN3.1'!$H$3:$S$112,3,FALSE),0) -> 0 | T21: =IFERROR(VLOOKUP($B21,'[1]DEN3.1'!$H$3:$S$112,4,FALSE),0) -> 0 | U21: =IFERROR(VLOOKUP($B21,'[1]DEN3.1'!$H$3:$S$112,5,FALSE),0) -> 0 | V21: =IFERROR(VLOOKUP($B21,'[1]DEN3.1'!$H$3:$S$112,6,FALSE),0) -> 0 | W21: =IFERROR(VLOOKUP($B21,'[1]DEN3.1'!$H$3:$S$112,7,FALSE),0) -> 0 | X21: =IFERROR(VLOOKUP($B21,'[1]DEN3.1'!$H$3:$S$112,8,FALSE),0) -> 0 | Y21: =IFERROR(VLOOKUP($B21,'[1]DEN3.1'!$H$3:$S$112,9,FALSE),0) -> 0 | Z21: =IFERROR(VLOOKUP($B21,'[1]DEN3.1'!$H$3:$S$112,10,FALSE),0) -> 0 | AA21: =IFERROR(VLOOKUP($B21,'[1]DEN3.1'!$H$3:$S$112,11,FALSE),0) -> 1 | AD21: =SUM(R21:AC21) -> 1
A22: 04101-LA SERENA | B22: 105700-CECOF VILLA EL INDIO | E22: =IFERROR(VLOOKUP($B22,'[1]NUM3.1'!$H$3:$S$112,2,FALSE),0) -> 0 | F22: =IFERROR(VLOOKUP($B22,'[1]NUM3.1'!$H$3:$S$112,3,FALSE),0) -> 1 | G22: =IFERROR(VLOOKUP($B22,'[1]NUM3.1'!$H$3:$S$112,4,FALSE),0) -> 0 | H22: =IFERROR(VLOOKUP($B22,'[1]NUM3.1'!$H$3:$S$112,5,FALSE),0) -> 2 | I22: =IFERROR(VLOOKUP($B22,'[1]NUM3.1'!$H$3:$S$112,6,FALSE),0) -> 2 | J22: =IFERROR(VLOOKUP($B22,'[1]NUM3.1'!$H$3:$S$112,7,FALSE),0) -> 0 | K22: =IFERROR(VLOOKUP($B22,'[1]NUM3.1'!$H$3:$S$112,8,FALSE),0) -> 0 | L22: =IFERROR(VLOOKUP($B22,'[1]NUM3.1'!$H$3:$S$112,9,FALSE),0) -> 0 | M22: =IFERROR(VLOOKUP($B22,'[1]NUM3.1'!$H$3:$S$112,10,FALSE),0) -> 0 | N22: =IFERROR(VLOOKUP($B22,'[1]NUM3.1'!$H$3:$S$112,11,FALSE),0) -> 0 | Q22: =SUM(E22:P22) -> 5 | R22: =IFERROR(VLOOKUP($B22,'[1]DEN3.1'!$H$3:$S$112,2,FALSE),0) -> 0 | S22: =IFERROR(VLOOKUP($B22,'[1]DEN3.1'!$H$3:$S$112,3,FALSE),0) -> 1 | T22: =IFERROR(VLOOKUP($B22,'[1]DEN3.1'!$H$3:$S$112,4,FALSE),0) -> 0 | U22: =IFERROR(VLOOKUP($B22,'[1]DEN3.1'!$H$3:$S$112,5,FALSE),0) -> 2 | V22: =IFERROR(VLOOKUP($B22,'[1]DEN3.1'!$H$3:$S$112,6,FALSE),0) -> 2 | W22: =IFERROR(VLOOKUP($B22,'[1]DEN3.1'!$H$3:$S$112,7,FALSE),0) -> 0 | X22: =IFERROR(VLOOKUP($B22,'[1]DEN3.1'!$H$3:$S$112,8,FALSE),0) -> 0 | Y22: =IFERROR(VLOOKUP($B22,'[1]DEN3.1'!$H$3:$S$112,9,FALSE),0) -> 0 | Z22: =IFERROR(VLOOKUP($B22,'[1]DEN3.1'!$H$3:$S$112,10,FALSE),0) -> 0 | AA22: =IFERROR(VLOOKUP($B22,'[1]DEN3.1'!$H$3:$S$112,11,FALSE),0) -> 0 | AD22: =SUM(R22:AC22) -> 5
A23: 04101-LA SERENA | B23: 105701-CECOF VILLA ALEMANIA | E23: =IFERROR(VLOOKUP($B23,'[1]NUM3.1'!$H$3:$S$112,2,FALSE),0) -> 0 | F23: =IFERROR(VLOOKUP($B23,'[1]NUM3.1'!$H$3:$S$112,3,FALSE),0) -> 0 | G23: =IFERROR(VLOOKUP($B23,'[1]NUM3.1'!$H$3:$S$112,4,FALSE),0) -> 0 | H23: =IFERROR(VLOOKUP($B23,'[1]NUM3.1'!$H$3:$S$112,5,FALSE),0) -> 0 | I23: =IFERROR(VLOOKUP($B23,'[1]NUM3.1'!$H$3:$S$112,6,FALSE),0) -> 0 | J23: =IFERROR(VLOOKUP($B23,'[1]NUM3.1'!$H$3:$S$112,7,FALSE),0) -> 1 | K23: =IFERROR(VLOOKUP($B23,'[1]NUM3.1'!$H$3:$S$112,8,FALSE),0) -> 1 | L23: =IFERROR(VLOOKUP($B23,'[1]NUM3.1'!$H$3:$S$112,9,FALSE),0) -> 0 | M23: =IFERROR(VLOOKUP($B23,'[1]NUM3.1'!$H$3:$S$112,10,FALSE),0) -> 0 | N23: =IFERROR(VLOOKUP($B23,'[1]NUM3.1'!$H$3:$S$112,11,FALSE),0) -> 0 | Q23: =SUM(E23:P23) -> 2 | R23: =IFERROR(VLOOKUP($B23,'[1]DEN3.1'!$H$3:$S$112,2,FALSE),0) -> 0 | S23: =IFERROR(VLOOKUP($B23,'[1]DEN3.1'!$H$3:$S$112,3,FALSE),0) -> 0 | T23: =IFERROR(VLOOKUP($B23,'[1]DEN3.1'!$H$3:$S$112,4,FALSE),0) -> 0 | U23: =IFERROR(VLOOKUP($B23,'[1]DEN3.1'!$H$3:$S$112,5,FALSE),0) -> 0 | V23: =IFERROR(VLOOKUP($B23,'[1]DEN3.1'!$H$3:$S$112,6,FALSE),0) -> 0 | W23: =IFERROR(VLOOKUP($B23,'[1]DEN3.1'!$H$3:$S$112,7,FALSE),0) -> 1 | X23: =IFERROR(VLOOKUP($B23,'[1]DEN3.1'!$H$3:$S$112,8,FALSE),0) -> 1 | Y23: =IFERROR(VLOOKUP($B23,'[1]DEN3.1'!$H$3:$S$112,9,FALSE),0) -> 0 | Z23: =IFERROR(VLOOKUP($B23,'[1]DEN3.1'!$H$3:$S$112,10,FALSE),0) -> 0 | AA23: =IFERROR(VLOOKUP($B23,'[1]DEN3.1'!$H$3:$S$112,11,FALSE),0) -> 0 | AD23: =SUM(R23:AC23) -> 2
A24: 04101-LA SERENA | B24: 105702-CECOF VILLA LAMBERT | E24: =IFERROR(VLOOKUP($B24,'[1]NUM3.1'!$H$3:$S$112,2,FALSE),0) -> 1 | F24: =IFERROR(VLOOKUP($B24,'[1]NUM3.1'!$H$3:$S$112,3,FALSE),0) -> 0 | G24: =IFERROR(VLOOKUP($B24,'[1]NUM3.1'!$H$3:$S$112,4,FALSE),0) -> 0 | H24: =IFERROR(VLOOKUP($B24,'[1]NUM3.1'!$H$3:$S$112,5,FALSE),0) -> 0 | I24: =IFERROR(VLOOKUP($B24,'[1]NUM3.1'!$H$3:$S$112,6,FALSE),0) -> 0 | J24: =IFERROR(VLOOKUP($B24,'[1]NUM3.1'!$H$3:$S$112,7,FALSE),0) -> 0 | K24: =IFERROR(VLOOKUP($B24,'[1]NUM3.1'!$H$3:$S$112,8,FALSE),0) -> 0 | L24: =IFERROR(VLOOKUP($B24,'[1]NUM3.1'!$H$3:$S$112,9,FALSE),0) -> 0 | M24: =IFERROR(VLOOKUP($B24,'[1]NUM3.1'!$H$3:$S$112,10,FALSE),0) -> 0 | N24: =IFERROR(VLOOKUP($B24,'[1]NUM3.1'!$H$3:$S$112,11,FALSE),0) -> 0 | Q24: =SUM(E24:P24) -> 1 | R24: =IFERROR(VLOOKUP($B24,'[1]DEN3.1'!$H$3:$S$112,2,FALSE),0) -> 1 | S24: =IFERROR(VLOOKUP($B24,'[1]DEN3.1'!$H$3:$S$112,3,FALSE),0) -> 0 | T24: =IFERROR(VLOOKUP($B24,'[1]DEN3.1'!$H$3:$S$112,4,FALSE),0) -> 0 | U24: =IFERROR(VLOOKUP($B24,'[1]DEN3.1'!$H$3:$S$112,5,FALSE),0) -> 0 | V24: =IFERROR(VLOOKUP($B24,'[1]DEN3.1'!$H$3:$S$112,6,FALSE),0) -> 0 | W24: =IFERROR(VLOOKUP($B24,'[1]DEN3.1'!$H$3:$S$112,7,FALSE),0) -> 0 | X24: =IFERROR(VLOOKUP($B24,'[1]DEN3.1'!$H$3:$S$112,8,FALSE),0) -> 0 | Y24: =IFERROR(VLOOKUP($B24,'[1]DEN3.1'!$H$3:$S$112,9,FALSE),0) -> 0 | Z24: =IFERROR(VLOOKUP($B24,'[1]DEN3.1'!$H$3:$S$112,10,FALSE),0) -> 0 | AA24: =IFERROR(VLOOKUP($B24,'[1]DEN3.1'!$H$3:$S$112,11,FALSE),0) -> 0 | AD24: =SUM(R24:AC24) -> 1
A25: TOTAL LA SERENA | C25: =+D25/Metas!H89 -> 1.0201429 | D25: =+Q25/AD25 -> 1 | E25: =SUM(E12:E24) -> 57 | F25: =SUM(F12:F24) -> 50 | G25: =SUM(G12:G24) -> 73 | H25: =SUM(H12:H24) -> 52 | I25: =SUM(I12:I24) -> 48 | J25: =SUM(J12:J24) -> 84 | K25: =SUM(K12:K24) -> 78 | L25: =SUM(L12:L24) -> 49 | ... AD25: =SUM(AD12:AD24) -> 605
A26: 04102-COQUIMBO | B26: 105303-CES. SAN JUAN | E26: =IFERROR(VLOOKUP($B26,'[1]NUM3.1'!$H$3:$S$112,2,FALSE),0) -> 7 | F26: =IFERROR(VLOOKUP($B26,'[1]NUM3.1'!$H$3:$S$112,3,FALSE),0) -> 5 | G26: =IFERROR(VLOOKUP($B26,'[1]NUM3.1'!$H$3:$S$112,4,FALSE),0) -> 15 | H26: =IFERROR(VLOOKUP($B26,'[1]NUM3.1'!$H$3:$S$112,5,FALSE),0) -> 21 | I26: =IFERROR(VLOOKUP($B26,'[1]NUM3.1'!$H$3:$S$112,6,FALSE),0) -> 0 | J26: =IFERROR(VLOOKUP($B26,'[1]NUM3.1'!$H$3:$S$112,7,FALSE),0) -> 7 | K26: =IFERROR(VLOOKUP($B26,'[1]NUM3.1'!$H$3:$S$112,8,FALSE),0) -> 10 | L26: =IFERROR(VLOOKUP($B26,'[1]NUM3.1'!$H$3:$S$112,9,FALSE),0) -> 15 | M26: =IFERROR(VLOOKUP($B26,'[1]NUM3.1'!$H$3:$S$112,10,FALSE),0) -> 12 | N26: =IFERROR(VLOOKUP($B26,'[1]NUM3.1'!$H$3:$S$112,11,FALSE),0) -> 11 | Q26: =SUM(E26:P26) -> 103 | R26: =IFERROR(VLOOKUP($B26,'[1]DEN3.1'!$H$3:$S$112,2,FALSE),0) -> 7 | S26: =IFERROR(VLOOKUP($B26,'[1]DEN3.1'!$H$3:$S$112,3,FALSE),0) -> 5 | T26: =IFERROR(VLOOKUP($B26,'[1]DEN3.1'!$H$3:$S$112,4,FALSE),0) -> 15 | U26: =IFERROR(VLOOKUP($B26,'[1]DEN3.1'!$H$3:$S$112,5,FALSE),0) -> 21 | V26: =IFERROR(VLOOKUP($B26,'[1]DEN3.1'!$H$3:$S$112,6,FALSE),0) -> 0 | W26: =IFERROR(VLOOKUP($B26,'[1]DEN3.1'!$H$3:$S$112,7,FALSE),0) -> 7 | X26: =IFERROR(VLOOKUP($B26,'[1]DEN3.1'!$H$3:$S$112,8,FALSE),0) -> 10 | Y26: =IFERROR(VLOOKUP($B26,'[1]DEN3.1'!$H$3:$S$112,9,FALSE),0) -> 15 | Z26: =IFERROR(VLOOKUP($B26,'[1]DEN3.1'!$H$3:$S$112,10,FALSE),0) -> 12 | AA26: =IFERROR(VLOOKUP($B26,'[1]DEN3.1'!$H$3:$S$112,11,FALSE),0) -> 11 | AD26: =SUM(R26:AC26) -> 103
A27: 04102-COQUIMBO | B27: 105304-CES. SANTA CECILIA | E27: =IFERROR(VLOOKUP($B27,'[1]NUM3.1'!$H$3:$S$112,2,FALSE),0) -> 11 | F27: =IFERROR(VLOOKUP($B27,'[1]NUM3.1'!$H$3:$S$112,3,FALSE),0) -> 5 | G27: =IFERROR(VLOOKUP($B27,'[1]NUM3.1'!$H$3:$S$112,4,FALSE),0) -> 11 | H27: =IFERROR(VLOOKUP($B27,'[1]NUM3.1'!$H$3:$S$112,5,FALSE),0) -> 10 | I27: =IFERROR(VLOOKUP($B27,'[1]NUM3.1'!$H$3:$S$112,6,FALSE),0) -> 17 | J27: =IFERROR(VLOOKUP($B27,'[1]NUM3.1'!$H$3:$S$112,7,FALSE),0) -> 10 | K27: =IFERROR(VLOOKUP($B27,'[1]NUM3.1'!$H$3:$S$112,8,FALSE),0) -> 13 | L27: =IFERROR(VLOOKUP($B27,'[1]NUM3.1'!$H$3:$S$112,9,FALSE),0) -> 11 | M27: =IFERROR(VLOOKUP($B27,'[1]NUM3.1'!$H$3:$S$112,10,FALSE),0) -> 10 | N27: =IFERROR(VLOOKUP($B27,'[1]NUM3.1'!$H$3:$S$112,11,FALSE),0) -> 8 | Q27: =SUM(E27:P27) -> 106 | R27: =IFERROR(VLOOKUP($B27,'[1]DEN3.1'!$H$3:$S$112,2,FALSE),0) -> 11 | S27: =IFERROR(VLOOKUP($B27,'[1]DEN3.1'!$H$3:$S$112,3,FALSE),0) -> 5 | T27: =IFERROR(VLOOKUP($B27,'[1]DEN3.1'!$H$3:$S$112,4,FALSE),0) -> 11 | U27: =IFERROR(VLOOKUP($B27,'[1]DEN3.1'!$H$3:$S$112,5,FALSE),0) -> 10 | V27: =IFERROR(VLOOKUP($B27,'[1]DEN3.1'!$H$3:$S$112,6,FALSE),0) -> 17 | W27: =IFERROR(VLOOKUP($B27,'[1]DEN3.1'!$H$3:$S$112,7,FALSE),0) -> 10 | X27: =IFERROR(VLOOKUP($B27,'[1]DEN3.1'!$H$3:$S$112,8,FALSE),0) -> 13 | Y27: =IFERROR(VLOOKUP($B27,'[1]DEN3.1'!$H$3:$S$112,9,FALSE),0) -> 11 | Z27: =IFERROR(VLOOKUP($B27,'[1]DEN3.1'!$H$3:$S$112,10,FALSE),0) -> 10 | AA27: =IFERROR(VLOOKUP($B27,'[1]DEN3.1'!$H$3:$S$112,11,FALSE),0) -> 8 | AD27: =SUM(R27:AC27) -> 106
A28: 04102-COQUIMBO | B28: 105305-CES. TIERRAS BLANCAS | E28: =IFERROR(VLOOKUP($B28,'[1]NUM3.1'!$H$3:$S$112,2,FALSE),0) -> 1 | F28: =IFERROR(VLOOKUP($B28,'[1]NUM3.1'!$H$3:$S$112,3,FALSE),0) -> 3 | G28: =IFERROR(VLOOKUP($B28,'[1]NUM3.1'!$H$3:$S$112,4,FALSE),0) -> 9 | H28: =IFERROR(VLOOKUP($B28,'[1]NUM3.1'!$H$3:$S$112,5,FALSE),0) -> 3 | I28: =IFERROR(VLOOKUP($B28,'[1]NUM3.1'!$H$3:$S$112,6,FALSE),0) -> 12 | J28: =IFERROR(VLOOKUP($B28,'[1]NUM3.1'!$H$3:$S$112,7,FALSE),0) -> 4 | K28: =IFERROR(VLOOKUP($B28,'[1]NUM3.1'!$H$3:$S$112,8,FALSE),0) -> 3 | L28: =IFERROR(VLOOKUP($B28,'[1]NUM3.1'!$H$3:$S$112,9,FALSE),0) -> 7 | M28: =IFERROR(VLOOKUP($B28,'[1]NUM3.1'!$H$3:$S$112,10,FALSE),0) -> 6 | N28: =IFERROR(VLOOKUP($B28,'[1]NUM3.1'!$H$3:$S$112,11,FALSE),0) -> 4 | Q28: =SUM(E28:P28) -> 52 | R28: =IFERROR(VLOOKUP($B28,'[1]DEN3.1'!$H$3:$S$112,2,FALSE),0) -> 1 | S28: =IFERROR(VLOOKUP($B28,'[1]DEN3.1'!$H$3:$S$112,3,FALSE),0) -> 3 | T28: =IFERROR(VLOOKUP($B28,'[1]DEN3.1'!$H$3:$S$112,4,FALSE),0) -> 9 | U28: =IFERROR(VLOOKUP($B28,'[1]DEN3.1'!$H$3:$S$112,5,FALSE),0) -> 3 | V28: =IFERROR(VLOOKUP($B28,'[1]DEN3.1'!$H$3:$S$112,6,FALSE),0) -> 12 | W28: =IFERROR(VLOOKUP($B28,'[1]DEN3.1'!$H$3:$S$112,7,FALSE),0) -> 4 | X28: =IFERROR(VLOOKUP($B28,'[1]DEN3.1'!$H$3:$S$112,8,FALSE),0) -> 3 | Y28: =IFERROR(VLOOKUP($B28,'[1]DEN3.1'!$H$3:$S$112,9,FALSE),0) -> 7 | Z28: =IFERROR(VLOOKUP($B28,'[1]DEN3.1'!$H$3:$S$112,10,FALSE),0) -> 6 | AA28: =IFERROR(VLOOKUP($B28,'[1]DEN3.1'!$H$3:$S$112,11,FALSE),0) -> 4 | AD28: =SUM(R28:AC28) -> 52
A29: 04102-COQUIMBO | B29: 105321-CES. RURAL TONGOY | E29: =IFERROR(VLOOKUP($B29,'[1]NUM3.1'!$H$3:$S$112,2,FALSE),0) -> 0 | F29: =IFERROR(VLOOKUP($B29,'[1]NUM3.1'!$H$3:$S$112,3,FALSE),0) -> 6 | G29: =IFERROR(VLOOKUP($B29,'[1]NUM3.1'!$H$3:$S$112,4,FALSE),0) -> 2 | H29: =IFERROR(VLOOKUP($B29,'[1]NUM3.1'!$H$3:$S$112,5,FALSE),0) -> 3 | I29: =IFERROR(VLOOKUP($B29,'[1]NUM3.1'!$H$3:$S$112,6,FALSE),0) -> 3 | J29: =IFERROR(VLOOKUP($B29,'[1]NUM3.1'!$H$3:$S$112,7,FALSE),0) -> 0 | K29: =IFERROR(VLOOKUP($B29,'[1]NUM3.1'!$H$3:$S$112,8,FALSE),0) -> 2 | L29: =IFERROR(VLOOKUP($B29,'[1]NUM3.1'!$H$3:$S$112,9,FALSE),0) -> 0 | M29: =IFERROR(VLOOKUP($B29,'[1]NUM3.1'!$H$3:$S$112,10,FALSE),0) -> 0 | N29: =IFERROR(VLOOKUP($B29,'[1]NUM3.1'!$H$3:$S$112,11,FALSE),0) -> 0 | Q29: =SUM(E29:P29) -> 16 | R29: =IFERROR(VLOOKUP($B29,'[1]DEN3.1'!$H$3:$S$112,2,FALSE),0) -> 0 | S29: =IFERROR(VLOOKUP($B29,'[1]DEN3.1'!$H$3:$S$112,3,FALSE),0) -> 6 | T29: =IFERROR(VLOOKUP($B29,'[1]DEN3.1'!$H$3:$S$112,4,FALSE),0) -> 2 | U29: =IFERROR(VLOOKUP($B29,'[1]DEN3.1'!$H$3:$S$112,5,FALSE),0) -> 3 | V29: =IFERROR(VLOOKUP($B29,'[1]DEN3.1'!$H$3:$S$112,6,FALSE),0) -> 3 | W29: =IFERROR(VLOOKUP($B29,'[1]DEN3.1'!$H$3:$S$112,7,FALSE),0) -> 0 | X29: =IFERROR(VLOOKUP($B29,'[1]DEN3.1'!$H$3:$S$112,8,FALSE),0) -> 2 | Y29: =IFERROR(VLOOKUP($B29,'[1]DEN3.1'!$H$3:$S$112,9,FALSE),0) -> 0 | Z29: =IFERROR(VLOOKUP($B29,'[1]DEN3.1'!$H$3:$S$112,10,FALSE),0) -> 0 | AA29: =IFERROR(VLOOKUP($B29,'[1]DEN3.1'!$H$3:$S$112,11,FALSE),0) -> 0 | AD29: =SUM(R29:AC29) -> 16
A30: 04102-COQUIMBO | B30: 105323-CES. DR. SERGIO AGUILAR | E30: =IFERROR(VLOOKUP($B30,'[1]NUM3.1'!$H$3:$S$112,2,FALSE),0) -> 54 | F30: =IFERROR(VLOOKUP($B30,'[1]NUM3.1'!$H$3:$S$112,3,FALSE),0) -> 46 | G30: =IFERROR(VLOOKUP($B30,'[1]NUM3.1'!$H$3:$S$112,4,FALSE),0) -> 57 | H30: =IFERROR(VLOOKUP($B30,'[1]NUM3.1'!$H$3:$S$112,5,FALSE),0) -> 59 | I30: =IFERROR(VLOOKUP($B30,'[1]NUM3.1'!$H$3:$S$112,6,FALSE),0) -> 48 | J30: =IFERROR(VLOOKUP($B30,'[1]NUM3.1'!$H$3:$S$112,7,FALSE),0) -> 47 | K30: =IFERROR(VLOOKUP($B30,'[1]NUM3.1'!$H$3:$S$112,8,FALSE),0) -> 47 | L30: =IFERROR(VLOOKUP($B30,'[1]NUM3.1'!$H$3:$S$112,9,FALSE),0) -> 47 | M30: =IFERROR(VLOOKUP($B30,'[1]NUM3.1'!$H$3:$S$112,10,FALSE),0) -> 40 | N30: =IFERROR(VLOOKUP($B30,'[1]NUM3.1'!$H$3:$S$112,11,FALSE),0) -> 32 | Q30: =SUM(E30:P30) -> 477 | R30: =IFERROR(VLOOKUP($B30,'[1]DEN3.1'!$H$3:$S$112,2,FALSE),0) -> 54 | S30: =IFERROR(VLOOKUP($B30,'[1]DEN3.1'!$H$3:$S$112,3,FALSE),0) -> 46 | T30: =IFERROR(VLOOKUP($B30,'[1]DEN3.1'!$H$3:$S$112,4,FALSE),0) -> 57 | U30: =IFERROR(VLOOKUP($B30,'[1]DEN3.1'!$H$3:$S$112,5,FALSE),0) -> 59 | V30: =IFERROR(VLOOKUP($B30,'[1]DEN3.1'!$H$3:$S$112,6,FALSE),0) -> 49 | W30: =IFERROR(VLOOKUP($B30,'[1]DEN3.1'!$H$3:$S$112,7,FALSE),0) -> 47 | X30: =IFERROR(VLOOKUP($B30,'[1]DEN3.1'!$H$3:$S$112,8,FALSE),0) -> 47 | Y30: =IFERROR(VLOOKUP($B30,'[1]DEN3.1'!$H$3:$S$112,9,FALSE),0) -> 47 | Z30: =IFERROR(VLOOKUP($B30,'[1]DEN3.1'!$H$3:$S$112,10,FALSE),0) -> 40 | AA30: =IFERROR(VLOOKUP($B30,'[1]DEN3.1'!$H$3:$S$112,11,FALSE),0) -> 32 | AD30: =SUM(R30:AC30) -> 478
A31: 04102-COQUIMBO | B31: 105404-P.S.R. EL TANGUE | E31: =IFERROR(VLOOKUP($B31,'[1]NUM3.1'!$H$3:$S$112,2,FALSE),0) -> 0 | F31: =IFERROR(VLOOKUP($B31,'[1]NUM3.1'!$H$3:$S$112,3,FALSE),0) -> 0 | G31: =IFERROR(VLOOKUP($B31,'[1]NUM3.1'!$H$3:$S$112,4,FALSE),0) -> 0 | H31: =IFERROR(VLOOKUP($B31,'[1]NUM3.1'!$H$3:$S$112,5,FALSE),0) -> 0 | I31: =IFERROR(VLOOKUP($B31,'[1]NUM3.1'!$H$3:$S$112,6,FALSE),0) -> 0 | J31: =IFERROR(VLOOKUP($B31,'[1]NUM3.1'!$H$3:$S$112,7,FALSE),0) -> 0 | K31: =IFERROR(VLOOKUP($B31,'[1]NUM3.1'!$H$3:$S$112,8,FALSE),0) -> 0 | L31: =IFERROR(VLOOKUP($B31,'[1]NUM3.1'!$H$3:$S$112,9,FALSE),0) -> 0 | M31: =IFERROR(VLOOKUP($B31,'[1]NUM3.1'!$H$3:$S$112,10,FALSE),0) -> 0 | N31: =IFERROR(VLOOKUP($B31,'[1]NUM3.1'!$H$3:$S$112,11,FALSE),0) -> 0 | Q31: =SUM(E31:P31) -> 0 | R31: =IFERROR(VLOOKUP($B31,'[1]DEN3.1'!$H$3:$S$112,2,FALSE),0) -> 0 | S31: =IFERROR(VLOOKUP($B31,'[1]DEN3.1'!$H$3:$S$112,3,FALSE),0) -> 0 | T31: =IFERROR(VLOOKUP($B31,'[1]DEN3.1'!$H$3:$S$112,4,FALSE),0) -> 0 | U31: =IFERROR(VLOOKUP($B31,'[1]DEN3.1'!$H$3:$S$112,5,FALSE),0) -> 0 | V31: =IFERROR(VLOOKUP($B31,'[1]DEN3.1'!$H$3:$S$112,6,FALSE),0) -> 0 | W31: =IFERROR(VLOOKUP($B31,'[1]DEN3.1'!$H$3:$S$112,7,FALSE),0) -> 0 | X31: =IFERROR(VLOOKUP($B31,'[1]DEN3.1'!$H$3:$S$112,8,FALSE),0) -> 0 | Y31: =IFERROR(VLOOKUP($B31,'[1]DEN3.1'!$H$3:$S$112,9,FALSE),0) -> 0 | Z31: =IFERROR(VLOOKUP($B31,'[1]DEN3.1'!$H$3:$S$112,10,FALSE),0) -> 0 | AA31: =IFERROR(VLOOKUP($B31,'[1]DEN3.1'!$H$3:$S$112,11,FALSE),0) -> 0 | AD31: =SUM(R31:AC31) -> 0
A32: 04102-COQUIMBO | B32: 105405-P.S.R. GUANAQUEROS | E32: =IFERROR(VLOOKUP($B32,'[1]NUM3.1'!$H$3:$S$112,2,FALSE),0) -> 3 | F32: =IFERROR(VLOOKUP($B32,'[1]NUM3.1'!$H$3:$S$112,3,FALSE),0) -> 2 | G32: =IFERROR(VLOOKUP($B32,'[1]NUM3.1'!$H$3:$S$112,4,FALSE),0) -> 1 | H32: =IFERROR(VLOOKUP($B32,'[1]NUM3.1'!$H$3:$S$112,5,FALSE),0) -> 2 | I32: =IFERROR(VLOOKUP($B32,'[1]NUM3.1'!$H$3:$S$112,6,FALSE),0) -> 1 | J32: =IFERROR(VLOOKUP($B32,'[1]NUM3.1'!$H$3:$S$112,7,FALSE),0) -> 0 | K32: =IFERROR(VLOOKUP($B32,'[1]NUM3.1'!$H$3:$S$112,8,FALSE),0) -> 0 | L32: =IFERROR(VLOOKUP($B32,'[1]NUM3.1'!$H$3:$S$112,9,FALSE),0) -> 0 | M32: =IFERROR(VLOOKUP($B32,'[1]NUM3.1'!$H$3:$S$112,10,FALSE),0) -> 1 | N32: =IFERROR(VLOOKUP($B32,'[1]NUM3.1'!$H$3:$S$112,11,FALSE),0) -> 0 | Q32: =SUM(E32:P32) -> 10 | R32: =IFERROR(VLOOKUP($B32,'[1]DEN3.1'!$H$3:$S$112,2,FALSE),0) -> 3 | S32: =IFERROR(VLOOKUP($B32,'[1]DEN3.1'!$H$3:$S$112,3,FALSE),0) -> 2 | T32: =IFERROR(VLOOKUP($B32,'[1]DEN3.1'!$H$3:$S$112,4,FALSE),0) -> 1 | U32: =IFERROR(VLOOKUP($B32,'[1]DEN3.1'!$H$3:$S$112,5,FALSE),0) -> 2 | V32: =IFERROR(VLOOKUP($B32,'[1]DEN3.1'!$H$3:$S$112,6,FALSE),0) -> 1 | W32: =IFERROR(VLOOKUP($B32,'[1]DEN3.1'!$H$3:$S$112,7,FALSE),0) -> 0 | X32: =IFERROR(VLOOKUP($B32,'[1]DEN3.1'!$H$3:$S$112,8,FALSE),0) -> 0 | Y32: =IFERROR(VLOOKUP($B32,'[1]DEN3.1'!$H$3:$S$112,9,FALSE),0) -> 0 | Z32: =IFERROR(VLOOKUP($B32,'[1]DEN3.1'!$H$3:$S$112,10,FALSE),0) -> 1 | AA32: =IFERROR(VLOOKUP($B32,'[1]DEN3.1'!$H$3:$S$112,11,FALSE),0) -> 0 | AD32: =SUM(R32:AC32) -> 10
A33: 04102-COQUIMBO | B33: 105406-P.S.R. PAN DE AZUCAR | E33: =IFERROR(VLOOKUP($B33,'[1]NUM3.1'!$H$3:$S$112,2,FALSE),0) -> 2 | F33: =IFERROR(VLOOKUP($B33,'[1]NUM3.1'!$H$3:$S$112,3,FALSE),0) -> 2 | G33: =IFERROR(VLOOKUP($B33,'[1]NUM3.1'!$H$3:$S$112,4,FALSE),0) -> 0 | H33: =IFERROR(VLOOKUP($B33,'[1]NUM3.1'!$H$3:$S$112,5,FALSE),0) -> 3 | I33: =IFERROR(VLOOKUP($B33,'[1]NUM3.1'!$H$3:$S$112,6,FALSE),0) -> 2 | J33: =IFERROR(VLOOKUP($B33,'[1]NUM3.1'!$H$3:$S$112,7,FALSE),0) -> 3 | K33: =IFERROR(VLOOKUP($B33,'[1]NUM3.1'!$H$3:$S$112,8,FALSE),0) -> 4 | L33: =IFERROR(VLOOKUP($B33,'[1]NUM3.1'!$H$3:$S$112,9,FALSE),0) -> 0 | M33: =IFERROR(VLOOKUP($B33,'[1]NUM3.1'!$H$3:$S$112,10,FALSE),0) -> 2 | N33: =IFERROR(VLOOKUP($B33,'[1]NUM3.1'!$H$3:$S$112,11,FALSE),0) -> 0 | Q33: =SUM(E33:P33) -> 18 | R33: =IFERROR(VLOOKUP($B33,'[1]DEN3.1'!$H$3:$S$112,2,FALSE),0) -> 2 | S33: =IFERROR(VLOOKUP($B33,'[1]DEN3.1'!$H$3:$S$112,3,FALSE),0) -> 2 | T33: =IFERROR(VLOOKUP($B33,'[1]DEN3.1'!$H$3:$S$112,4,FALSE),0) -> 0 | U33: =IFERROR(VLOOKUP($B33,'[1]DEN3.1'!$H$3:$S$112,5,FALSE),0) -> 3 | V33: =IFERROR(VLOOKUP($B33,'[1]DEN3.1'!$H$3:$S$112,6,FALSE),0) -> 2 | W33: =IFERROR(VLOOKUP($B33,'[1]DEN3.1'!$H$3:$S$112,7,FALSE),0) -> 3 | X33: =IFERROR(VLOOKUP($B33,'[1]DEN3.1'!$H$3:$S$112,8,FALSE),0) -> 4 | Y33: =IFERROR(VLOOKUP($B33,'[1]DEN3.1'!$H$3:$S$112,9,FALSE),0) -> 0 | Z33: =IFERROR(VLOOKUP($B33,'[1]DEN3.1'!$H$3:$S$112,10,FALSE),0) -> 2 | AA33: =IFERROR(VLOOKUP($B33,'[1]DEN3.1'!$H$3:$S$112,11,FALSE),0) -> 2 | AD33: =SUM(R33:AC33) -> 20
A34: 04102-COQUIMBO | B34: 105407-P.S.R. TAMBILLOS | E34: =IFERROR(VLOOKUP($B34,'[1]NUM3.1'!$H$3:$S$112,2,FALSE),0) -> 0 | F34: =IFERROR(VLOOKUP($B34,'[1]NUM3.1'!$H$3:$S$112,3,FALSE),0) -> 0 | G34: =IFERROR(VLOOKUP($B34,'[1]NUM3.1'!$H$3:$S$112,4,FALSE),0) -> 0 | H34: =IFERROR(VLOOKUP($B34,'[1]NUM3.1'!$H$3:$S$112,5,FALSE),0) -> 0 | I34: =IFERROR(VLOOKUP($B34,'[1]NUM3.1'!$H$3:$S$112,6,FALSE),0) -> 0 | J34: =IFERROR(VLOOKUP($B34,'[1]NUM3.1'!$H$3:$S$112,7,FALSE),0) -> 0 | K34: =IFERROR(VLOOKUP($B34,'[1]NUM3.1'!$H$3:$S$112,8,FALSE),0) -> 0 | L34: =IFERROR(VLOOKUP($B34,'[1]NUM3.1'!$H$3:$S$112,9,FALSE),0) -> 0 | M34: =IFERROR(VLOOKUP($B34,'[1]NUM3.1'!$H$3:$S$112,10,FALSE),0) -> 0 | N34: =IFERROR(VLOOKUP($B34,'[1]NUM3.1'!$H$3:$S$112,11,FALSE),0) -> 0 | Q34: =SUM(E34:P34) -> 0 | R34: =IFERROR(VLOOKUP($B34,'[1]DEN3.1'!$H$3:$S$112,2,FALSE),0) -> 0 | S34: =IFERROR(VLOOKUP($B34,'[1]DEN3.1'!$H$3:$S$112,3,FALSE),0) -> 0 | T34: =IFERROR(VLOOKUP($B34,'[1]DEN3.1'!$H$3:$S$112,4,FALSE),0) -> 0 | U34: =IFERROR(VLOOKUP($B34,'[1]DEN3.1'!$H$3:$S$112,5,FALSE),0) -> 0 | V34: =IFERROR(VLOOKUP($B34,'[1]DEN3.1'!$H$3:$S$112,6,FALSE),0) -> 0 | W34: =IFERROR(VLOOKUP($B34,'[1]DEN3.1'!$H$3:$S$112,7,FALSE),0) -> 0 | X34: =IFERROR(VLOOKUP($B34,'[1]DEN3.1'!$H$3:$S$112,8,FALSE),0) -> 0 | Y34: =IFERROR(VLOOKUP($B34,'[1]DEN3.1'!$H$3:$S$112,9,FALSE),0) -> 0 | Z34: =IFERROR(VLOOKUP($B34,'[1]DEN3.1'!$H$3:$S$112,10,FALSE),0) -> 0 | AA34: =IFERROR(VLOOKUP($B34,'[1]DEN3.1'!$H$3:$S$112,11,FALSE),0) -> 0 | AD34: =SUM(R34:AC34) -> 0
